Workbook

Sheet ①-1入力シート（宿泊人数）【1人当】
B1: 年 | D1: 月分 | E1: 宿泊施設番号 | J1: 宿泊施設名
C2: 1 | D2: 2 | E2: 3 | F2: 4 | G2: 5 | H2: 6 | I2: 7 | J2: 8 | K2: 9 | L2: 10 | M2: 11 | N2: 12 | O2: 13 | P2: 14 | Q2: 15 | R2: 16 | S2: 17 | T2: 18 | U2: 19 | V2: 20 | W2: 21 | X2: 22 | Y2: 23 | Z2: 24 | AA2: 25 | AB2: 26 | AC2: 27 | AD2: 28 | AE2: 29 | AF2: 30 | AG2: 31 | AH2: 32 | AI2: 33 | AJ2: 34 | AK2: 35 | AL2: 36 | AM2: 37 | AN2: 38 | AO2: 39 | AP2: 40 | AQ2: 41 | AR2: 42 | AS2: 43 | AT2: 44 | AU2: 45 | AV2: 46 | AW2: 47 | AX2: 48 | AY2: 49 | AZ2: 50 | BA2: 51 | BB2: 52 | BC2: 53 | BD2: 54 | BE2: 55 | BF2: 56 | BG2: 57 | BH2: 58 | BI2: 59 | BJ2: 60 | BK2: 61 | BL2: 62 | BM2: 63 | BN2: 64 | BO2: 65 | BP2: 66 | BQ2: 67 | BR2: 68 | BS2: 69 | BT2: 70 | BU2: 71 | BV2: 72 | BW2: 73 | BX2: 74 | BY2: 75 | BZ2: 76 | CA2: 77 | CB2: 78 | CC2: 79 | CD2: 80 | CE2: 81 | CF2: 82 | CG2: 83 | CH2: 84 | CI2: 85 | CJ2: 86 | CK2: 87 | CL2: 88 | CM2: 89 | CN2: 90 | CO2: 91 | CP2: 92 | CQ2: 93 | CR2: 94 | CS2: 95 | CT2: 96 | CU2: 97 | CV2: 98 | CW2: 99 | CX2: 100
A3: 種類 | CZ3: 課税免除 | DB3: 集計
A4: 宿泊料金（税込） | DB4: 宿泊者数 計 | DC4: 北海道管理分 | DF4: 課税免除 | DG4: 宿泊+免除合計
A5: 宿泊料金（税抜額） | C5: =C4/1.1 -> 0 | D5: =D4/1.1 -> 0 | E5: =E4/1.1 -> 0 | F5: =F4/1.1 -> 0 | G5: =G4/1.1 -> 0 | H5: =H4/1.1 -> 0 | I5: =I4/1.1 -> 0 | J5: =J4/1.1 -> 0 | ... CX5: =CX4/1.1 -> 0 | DC5: 100 | DD5: 200 | DE5: 500
A6: 課税標準額 | C6: =ROUNDDOWN(C5,-2) -> 0 | D6: =ROUNDDOWN(D5,-2) -> 0 | E6: =ROUNDDOWN(E5,-2) -> 0 | F6: =ROUNDDOWN(F5,-2) -> 0 | G6: =ROUNDDOWN(G5,-2) -> 0 | H6: =ROUNDDOWN(H5,-2) -> 0 | I6: =ROUNDDOWN(I5,-2) -> 0 | J6: =ROUNDDOWN(J5,-2) -> 0 | ... CX6: =ROUNDDOWN(CX5,-2) -> 0
A7: 宿泊者数 | B7: 1 | DB7: =SUM(DC7:DE7) -> 0 | DC7: =SUMIF($C$6:$CX$6,"<20000",C7:CX7) -> 0 | DD7: =SUMIFS(C7:CX7, $C$6:$CX$6, ">=20000", $C$6:$CX$6, "<50000") -> 0 | DE7: =SUMIF($C$6:$CX$6, ">=50000",C7:CX7) -> 0 | DF7: =CZ7 -> 0 | DG7: =DB7+DF7 -> 0
B8: 2 | DB8: =SUM(DC8:DE8) -> 0 | DC8: =SUMIF($C$6:$CX$6,"<20000",C8:CX8) -> 0 | DD8: =SUMIFS(C8:CX8, $C$6:$CX$6, ">=20000", $C$6:$CX$6, "<50000") -> 0 | DE8: =SUMIF($C$6:$CX$6, ">=50000",C8:CX8) -> 0 | DF8: =CZ8 -> 0 | DG8: =DB8+DF8 -> 0
B9: 3 | DB9: =SUM(DC9:DE9) -> 0 | DC9: =SUMIF($C$6:$CX$6,"<20000",C9:CX9) -> 0 | DD9: =SUMIFS(C9:CX9, $C$6:$CX$6, ">=20000", $C$6:$CX$6, "<50000") -> 0 | DE9: =SUMIF($C$6:$CX$6, ">=50000",C9:CX9) -> 0 | DF9: =CZ9 -> 0 | DG9: =DB9+DF9 -> 0
B10: 4 | DB10: =SUM(DC10:DE10) -> 0 | DC10: =SUMIF($C$6:$CX$6,"<20000",C10:CX10) -> 0 | DD10: =SUMIFS(C10:CX10, $C$6:$CX$6, ">=20000", $C$6:$CX$6, "<50000") -> 0 | DE10: =SUMIF($C$6:$CX$6, ">=50000",C10:CX10) -> 0 | DF10: =CZ10 -> 0 | DG10: =DB10+DF10 -> 0
B11: 5 | DB11: =SUM(DC11:DE11) -> 0 | DC11: =SUMIF($C$6:$CX$6,"<20000",C11:CX11) -> 0 | DD11: =SUMIFS(C11:CX11, $C$6:$CX$6, ">=20000", $C$6:$CX$6, "<50000") -> 0 | DE11: =SUMIF($C$6:$CX$6, ">=50000",C11:CX11) -> 0 | DF11: =CZ11 -> 0 | DG11: =DB11+DF11 -> 0
B12: 6 | DB12: =SUM(DC12:DE12) -> 0 | DC12: =SUMIF($C$6:$CX$6,"<20000",C12:CX12) -> 0 | DD12: =SUMIFS(C12:CX12, $C$6:$CX$6, ">=20000", $C$6:$CX$6, "<50000") -> 0 | DE12: =SUMIF($C$6:$CX$6, ">=50000",C12:CX12) -> 0 | DF12: =CZ12 -> 0 | DG12: =DB12+DF12 -> 0
B13: 7 | DB13: =SUM(DC13:DE13) -> 0 | DC13: =SUMIF($C$6:$CX$6,"<20000",C13:CX13) -> 0 | DD13: =SUMIFS(C13:CX13, $C$6:$CX$6, ">=20000", $C$6:$CX$6, "<50000") -> 0 | DE13: =SUMIF($C$6:$CX$6, ">=50000",C13:CX13) -> 0 | DF13: =CZ13 -> 0 | DG13: =DB13+DF13 -> 0
B14: 8 | DB14: =SUM(DC14:DE14) -> 0 | DC14: =SUMIF($C$6:$CX$6,"<20000",C14:CX14) -> 0 | DD14: =SUMIFS(C14:CX14, $C$6:$CX$6, ">=20000", $C$6:$CX$6, "<50000") -> 0 | DE14: =SUMIF($C$6:$CX$6, ">=50000",C14:CX14) -> 0 | DF14: =CZ14 -> 0 | DG14: =DB14+DF14 -> 0
B15: 9 | DB15: =SUM(DC15:DE15) -> 0 | DC15: =SUMIF($C$6:$CX$6,"<20000",C15:CX15) -> 0 | DD15: =SUMIFS(C15:CX15, $C$6:$CX$6, ">=20000", $C$6:$CX$6, "<50000") -> 0 | DE15: =SUMIF($C$6:$CX$6, ">=50000",C15:CX15) -> 0 | DF15: =CZ15 -> 0 | DG15: =DB15+DF15 -> 0
B16: 10 | DB16: =SUM(DC16:DE16) -> 0 | DC16: =SUMIF($C$6:$CX$6,"<20000",C16:CX16) -> 0 | DD16: =SUMIFS(C16:CX16, $C$6:$CX$6, ">=20000", $C$6:$CX$6, "<50000") -> 0 | DE16: =SUMIF($C$6:$CX$6, ">=50000",C16:CX16) -> 0 | DF16: =CZ16 -> 0 | DG16: =DB16+DF16 -> 0
B17: 11 | DB17: =SUM(DC17:DE17) -> 0 | DC17: =SUMIF($C$6:$CX$6,"<20000",C17:CX17) -> 0 | DD17: =SUMIFS(C17:CX17, $C$6:$CX$6, ">=20000", $C$6:$CX$6, "<50000") -> 0 | DE17: =SUMIF($C$6:$CX$6, ">=50000",C17:CX17) -> 0 | DF17: =CZ17 -> 0 | DG17: =DB17+DF17 -> 0
B18: 12 | DB18: =SUM(DC18:DE18) -> 0 | DC18: =SUMIF($C$6:$CX$6,"<20000",C18:CX18) -> 0 | DD18: =SUMIFS(C18:CX18, $C$6:$CX$6, ">=20000", $C$6:$CX$6, "<50000") -> 0 | DE18: =SUMIF($C$6:$CX$6, ">=50000",C18:CX18) -> 0 | DF18: =CZ18 -> 0 | DG18: =DB18+DF18 -> 0
B19: 13 | DB19: =SUM(DC19:DE19) -> 0 | DC19: =SUMIF($C$6:$CX$6,"<20000",C19:CX19) -> 0 | DD19: =SUMIFS(C19:CX19, $C$6:$CX$6, ">=20000", $C$6:$CX$6, "<50000") -> 0 | DE19: =SUMIF($C$6:$CX$6, ">=50000",C19:CX19) -> 0 | DF19: =CZ19 -> 0 | DG19: =DB19+DF19 -> 0
... B37: 31 | DB37: =SUM(DC37:DE37) -> 0 | DC37: =SUMIF($C$6:$CX$6,"<20000",C37:CX37) -> 0 | DD37: =SUMIFS(C37:CX37, $C$6:$CX$6, ">=20000", $C$6:$CX$6, "<50000") -> 0 | DE37: =SUMIF($C$6:$CX$6, ">=50000",C37:CX37) -> 0 | DF37: =CZ37 -> 0 | DG37: =DB37+DF37 -> 0
A38: 計 | C38: =SUM(C7:C37) -> 0 | D38: =SUM(D7:D37) -> 0 | E38: =SUM(E7:E37) -> 0 | F38: =SUM(F7:F37) -> 0 | G38: =SUM(G7:G37) -> 0 | H38: =SUM(H7:H37) -> 0 | I38: =SUM(I7:I37) -> 0 | J38: =SUM(J7:J37) -> 0 | ... CX38: =SUM(CX7:CX37) -> 0 | CZ38: =SUM(CZ7:CZ37) -> 0 | DB38: =SUM(DB7:DB37) -> 0 | DC38: =SUM(DC7:DC37) -> 0 | DD38: =SUM(DD7:DD37) -> 0 | DE38: =SUM(DE7:DE37) -> 0 | DF38: =SUM(DF7:DF37) -> 0 | DG38: =DB38+DF38 -> 0
DA40: 北海道税分→ | DB40: =SUM(DC40:DE40) -> 0 | DC40: =DC38*DC5 -> 0 | DD40: =DD38*DD5 -> 0 | DE40: =DE38*DE5 -> 0

Sheet ①-2入力シート（宿泊人数）【室】
A1: ='①-1入力シート（宿泊人数）【1人当】'!A1 -> 0 | B1: 年 | C1: ='①-1入力シート（宿泊人数）【1人当】'!C1 -> 0 | D1: 月分 | E1: 宿泊施設番号 | G1: ='①-1入力シート（宿泊人数）【1人当】'!G1 -> 0 | J1: 宿泊施設名 | L1: ='①-1入力シート（宿泊人数）【1人当】'!L1 -> 0
C2: 1 | D2: 2 | E2: 3 | F2: 4 | G2: 5 | H2: 6 | I2: 7 | J2: 8 | K2: 9 | L2: 10 | M2: 11 | N2: 12 | O2: 13 | P2: 14 | Q2: 15 | R2: 16 | S2: 17 | T2: 18 | U2: 19 | V2: 20 | W2: 21 | X2: 22 | Y2: 23 | Z2: 24 | AA2: 25 | AB2: 26 | AC2: 27 | AD2: 28 | AE2: 29 | AF2: 30 | AG2: 31 | AH2: 32 | AI2: 33 | AJ2: 34 | AK2: 35 | AL2: 36 | AM2: 37 | AN2: 38 | AO2: 39 | AP2: 40 | AQ2: 41 | AR2: 42 | AS2: 43 | AT2: 44 | AU2: 45 | AV2: 46 | AW2: 47 | AX2: 48 | AY2: 49 | AZ2: 50 | BA2: 51 | BB2: 52 | BC2: 53 | BD2: 54 | BE2: 55 | BF2: 56 | BG2: 57 | BH2: 58 | BI2: 59 | BJ2: 60 | BK2: 61 | BL2: 62 | BM2: 63 | BN2: 64 | BO2: 65 | BP2: 66 | BQ2: 67 | BR2: 68 | BS2: 69 | BT2: 70 | BU2: 71 | BV2: 72 | BW2: 73 | BX2: 74 | BY2: 75 | BZ2: 76 | CA2: 77 | CB2: 78 | CC2: 79 | CD2: 80 | CE2: 81 | CF2: 82 | CG2: 83 | CH2: 84 | CI2: 85 | CJ2: 86 | CK2: 87 | CL2: 88 | CM2: 89 | CN2: 90 | CO2: 91 | CP2: 92 | CQ2: 93 | CR2: 94 | CS2: 95 | CT2: 96 | CU2: 97 | CV2: 98 | CW2: 99 | CX2: 100
A3: 建物名 | CY3: 合計 人数 | DA3: 課税免除
A4: 種類
A5: 宿泊料金（税込）
A6: 宿泊料金（税抜額） | C6: =C5/1.1 -> 0 | D6: =D5/1.1 -> 0 | E6: =E5/1.1 -> 0 | F6: =F5/1.1 -> 0 | G6: =G5/1.1 -> 0 | H6: =H5/1.1 -> 0 | I6: =I5/1.1 -> 0 | J6: =J5/1.1 -> 0 | ... CX6: =CX5/1.1 -> 0
A7: 課税標準額 | C7: =ROUNDDOWN(C$6,-2) -> 0 | D7: =ROUNDDOWN(D$6,-2) -> 0 | E7: =ROUNDDOWN(E$6,-2) -> 0 | F7: =ROUNDDOWN(F$6,-2) -> 0 | G7: =ROUNDDOWN(G$6,-2) -> 0 | H7: =ROUNDDOWN(H$6,-2) -> 0 | I7: =ROUNDDOWN(I$6,-2) -> 0 | J7: =ROUNDDOWN(J$6,-2) -> 0 | ... CX7: =ROUNDDOWN(CX$6,-2) -> 0
A8: 部屋数
A9: 宿泊者数 | B9: 1 | CY9: =SUM(C9:CX9) -> 0
B10: 2 | CY10: =SUM(C10:CX10) -> 0
B11: 3 | CY11: =SUM(C11:CX11) -> 0
B12: 4 | CY12: =SUM(C12:CX12) -> 0
B13: 5 | CY13: =SUM(C13:CX13) -> 0
B14: 6 | CY14: =SUM(C14:CX14) -> 0
B15: 7 | CY15: =SUM(C15:CX15) -> 0
B16: 8 | CY16: =SUM(C16:CX16) -> 0
B17: 9 | CY17: =SUM(C17:CX17) -> 0
B18: 10 | CY18: =SUM(C18:CX18) -> 0
B19: 11 | CY19: =SUM(C19:CX19) -> 0
B20: 12 | CY20: =SUM(C20:CX20) -> 0
B21: 13 | CY21: =SUM(C21:CX21) -> 0
... B39: 31 | CY39: =SUM(C39:CX39) -> 0
A40: 計 | C40: =SUM(C9:C39) -> 0 | D40: =SUM(D9:D39) -> 0 | E40: =SUM(E9:E39) -> 0 | F40: =SUM(F9:F39) -> 0 | G40: =SUM(G9:G39) -> 0 | H40: =SUM(H9:H39) -> 0 | I40: =SUM(I9:I39) -> 0 | J40: =SUM(J9:J39) -> 0 | ... CY40: =SUM(CY9:CY39) -> 0 | DA40: =SUM(DA9:DA39) -> 0

Sheet ここからは入力不要（自動計算）→

Sheet 提出様式→

Sheet ②市月計表
D1: 宿泊施設番号 | F1: ='①-1入力シート（宿泊人数）【1人当】'!G1 -> 0
D2: 宿泊施設名 | F2: ='①-1入力シート（宿泊人数）【1人当】'!L1 -> 0
E4: 令和 | F4: ='①-1入力シート（宿泊人数）【1人当】'!A1 -> 0 | H4: 年 | K4: ='①-1入力シート（宿泊人数）【1人当】'!C1 -> 0 | L4: 月分 宿泊税月計表
D5: 区分 | F5: 宿泊総数 | K5: 宿泊料金総額 （素泊まり相当額） | N5: 定額/税率 | P5: 税額
B6: 定額制 （道税） | D6: 1人1泊2万円未満 | F6: ='④-2宿泊数管理【室】'!DB40+'①-1入力シート（宿泊人数）【1人当】'!DC38 -> 0 | J6: 人 | N6: 100 | O6: 円 | P6: =F6*N6 -> 0 | Q6: 円
D7: 1人1泊2万円 以上5万円未満 | F7: ='④-2宿泊数管理【室】'!DC40+'①-1入力シート（宿泊人数）【1人当】'!DD38 -> 0 | J7: 人 | N7: 200 | O7: 円 | P7: =F7*N7 -> 0 | Q7: 円
D8: 1人1泊5万円以上 | F8: ='④-2宿泊数管理【室】'!DD40+'①-1入力シート（宿泊人数）【1人当】'!DE38 -> 0 | J8: 人 | N8: 500 | O8: 円 | P8: =F8*N8 -> 0 | Q8: 円
D9: 課税免除 | F9: ='④-2宿泊数管理【室】'!DE40+'①-1入力シート（宿泊人数）【1人当】'!CZ38 -> 0 | J9: 人
D10: 計 | F10: =SUM(F6:F9) -> 0 | J10: 人 | P10: =SUM(P6:P9) -> 0 | Q10: 円
B11: 定率制 （市税＋道税） | D11: 1人 | F11: ='①-1入力シート（宿泊人数）【1人当】'!DB38 -> 0 | J11: 人 | K11: ='⑤-1宿泊料金計算【1人当】'!DA38 -> 0 | M11: 円 | N11: 0.03 | P11: =K11*N11 -> 0
D12: 1部屋 | F12: ='④-2宿泊数管理【室】'!DG40 -> 0 | G12: 組) | I12: ='④-2宿泊数管理【室】'!DA40 -> 0 | J12: 人 | K12: ='⑤-2宿泊料金計算【室】'!DA40 -> 0 | M12: 円 | N12: 0.03 | P12: =K12*N12 -> 0
D13: 1棟
D14: 課税免除 | F14: =F9 -> 0 | J14: 人
D15: 合計 | F15: =F11+I12+F14 -> 0 | G15: 組) | I15: =I13+F14 -> 0 | J15: 人 | K15: =SUM(K11:K13) -> 0 | M15: 円 | P15: =P11+P12+P13 -> 0 | Q15: 円
B17: 備考
B18: ※ 宿泊料金総額は、１人・１部屋・1棟の宿泊料金の額から100円未満の端数を切り捨てた金額の合計額を記載してください。
B24: ★以下は、苫小牧市宿泊税条例第11条において定める特別徴収義務者のための納入
B25: に必要とされるものであり、申告者が別途、宿泊税を負担するものではございません。
B27: 一定額に満たない額の宿泊が生じた場合（自動計算）
B28: 宿泊月 | D28: 対象 宿泊者数 | F28: 苫小牧市へ納める税 （3%） | K28: 北海道宿泊税 | N28: 不足額 （市が負担する額）
B29: =K4 -> 0 | C29: 月 | D29: ='⑨-2道不足分【室】'!DD40+'⑨-1道不足分【1人当】'!DA38 -> 0 | E29: 人 | F29: ='⑨-2道不足分【室】'!DE40+'⑨-1道不足分【1人当】'!DB38 -> 0 | J29: 円 | K29: =D29*100 -> 0 | M29: 円 | N29: =F29-K29 -> 0 | Q29: 円

Sheet ③道月計表
B1: 宿泊施設番号 | C1: ='①-1入力シート（宿泊人数）【1人当】'!G1 -> 0
B2: 宿泊施設名 | C2: ='①-1入力シート（宿泊人数）【1人当】'!L1 -> 0
B4: 令和 | C4: ='①-1入力シート（宿泊人数）【1人当】'!A1 -> 0 | D4: 年 | E4: ='①-1入力シート（宿泊人数）【1人当】'!C1 -> 0 | F4: 月分
A6: 日付 | B6: 宿泊数
B7: 宿泊料金 2万円未満 | C7: 宿泊料金 2～5万円未満 | D7: 宿泊料金 5万円以上 | F7: 課税免除 | G7: 合計
A8: 1 | B8: ='④-2宿泊数管理【室】'!DB9+'①-1入力シート（宿泊人数）【1人当】'!DC7 -> 0 | C8: ='④-2宿泊数管理【室】'!DC9+'①-1入力シート（宿泊人数）【1人当】'!DD7 -> 0 | D8: ='④-2宿泊数管理【室】'!DD9+'①-1入力シート（宿泊人数）【1人当】'!DE7 -> 0 | F8: ='④-2宿泊数管理【室】'!DE9+'①-1入力シート（宿泊人数）【1人当】'!CZ7 -> 0 | G8: =SUM(B8:F8) -> 0
A9: 2 | B9: ='④-2宿泊数管理【室】'!DB10+'①-1入力シート（宿泊人数）【1人当】'!DC8 -> 0 | C9: ='④-2宿泊数管理【室】'!DC10+'①-1入力シート（宿泊人数）【1人当】'!DD8 -> 0 | D9: ='④-2宿泊数管理【室】'!DD10+'①-1入力シート（宿泊人数）【1人当】'!DE8 -> 0 | F9: ='④-2宿泊数管理【室】'!DE10+'①-1入力シート（宿泊人数）【1人当】'!CZ8 -> 0 | G9: =SUM(B9:F9) -> 0
A10: 3 | B10: ='④-2宿泊数管理【室】'!DB11+'①-1入力シート（宿泊人数）【1人当】'!DC9 -> 0 | C10: ='④-2宿泊数管理【室】'!DC11+'①-1入力シート（宿泊人数）【1人当】'!DD9 -> 0 | D10: ='④-2宿泊数管理【室】'!DD11+'①-1入力シート（宿泊人数）【1人当】'!DE9 -> 0 | F10: ='④-2宿泊数管理【室】'!DE11+'①-1入力シート（宿泊人数）【1人当】'!CZ9 -> 0 | G10: =SUM(B10:F10) -> 0
A11: 4 | B11: ='④-2宿泊数管理【室】'!DB12+'①-1入力シート（宿泊人数）【1人当】'!DC10 -> 0 | C11: ='④-2宿泊数管理【室】'!DC12+'①-1入力シート（宿泊人数）【1人当】'!DD10 -> 0 | D11: ='④-2宿泊数管理【室】'!DD12+'①-1入力シート（宿泊人数）【1人当】'!DE10 -> 0 | F11: ='④-2宿泊数管理【室】'!DE12+'①-1入力シート（宿泊人数）【1人当】'!CZ10 -> 0 | G11: =SUM(B11:F11) -> 0
A12: 5 | B12: ='④-2宿泊数管理【室】'!DB13+'①-1入力シート（宿泊人数）【1人当】'!DC11 -> 0 | C12: ='④-2宿泊数管理【室】'!DC13+'①-1入力シート（宿泊人数）【1人当】'!DD11 -> 0 | D12: ='④-2宿泊数管理【室】'!DD13+'①-1入力シート（宿泊人数）【1人当】'!DE11 -> 0 | F12: ='④-2宿泊数管理【室】'!DE13+'①-1入力シート（宿泊人数）【1人当】'!CZ11 -> 0 | G12: =SUM(B12:F12) -> 0
A13: 6 | B13: ='④-2宿泊数管理【室】'!DB14+'①-1入力シート（宿泊人数）【1人当】'!DC12 -> 0 | C13: ='④-2宿泊数管理【室】'!DC14+'①-1入力シート（宿泊人数）【1人当】'!DD12 -> 0 | D13: ='④-2宿泊数管理【室】'!DD14+'①-1入力シート（宿泊人数）【1人当】'!DE12 -> 0 | F13: ='④-2宿泊数管理【室】'!DE14+'①-1入力シート（宿泊人数）【1人当】'!CZ12 -> 0 | G13: =SUM(B13:F13) -> 0
A14: 7 | B14: ='④-2宿泊数管理【室】'!DB15+'①-1入力シート（宿泊人数）【1人当】'!DC13 -> 0 | C14: ='④-2宿泊数管理【室】'!DC15+'①-1入力シート（宿泊人数）【1人当】'!DD13 -> 0 | D14: ='④-2宿泊数管理【室】'!DD15+'①-1入力シート（宿泊人数）【1人当】'!DE13 -> 0 | F14: ='④-2宿泊数管理【室】'!DE15+'①-1入力シート（宿泊人数）【1人当】'!CZ13 -> 0 | G14: =SUM(B14:F14) -> 0
A15: 8 | B15: ='④-2宿泊数管理【室】'!DB16+'①-1入力シート（宿泊人数）【1人当】'!DC14 -> 0 | C15: ='④-2宿泊数管理【室】'!DC16+'①-1入力シート（宿泊人数）【1人当】'!DD14 -> 0 | D15: ='④-2宿泊数管理【室】'!DD16+'①-1入力シート（宿泊人数）【1人当】'!DE14 -> 0 | F15: ='④-2宿泊数管理【室】'!DE16+'①-1入力シート（宿泊人数）【1人当】'!CZ14 -> 0 | G15: =SUM(B15:F15) -> 0
A16: 9 | B16: ='④-2宿泊数管理【室】'!DB17+'①-1入力シート（宿泊人数）【1人当】'!DC15 -> 0 | C16: ='④-2宿泊数管理【室】'!DC17+'①-1入力シート（宿泊人数）【1人当】'!DD15 -> 0 | D16: ='④-2宿泊数管理【室】'!DD17+'①-1入力シート（宿泊人数）【1人当】'!DE15 -> 0 | F16: ='④-2宿泊数管理【室】'!DE17+'①-1入力シート（宿泊人数）【1人当】'!CZ15 -> 0 | G16: =SUM(B16:F16) -> 0
A17: 10 | B17: ='④-2宿泊数管理【室】'!DB18+'①-1入力シート（宿泊人数）【1人当】'!DC16 -> 0 | C17: ='④-2宿泊数管理【室】'!DC18+'①-1入力シート（宿泊人数）【1人当】'!DD16 -> 0 | D17: ='④-2宿泊数管理【室】'!DD18+'①-1入力シート（宿泊人数）【1人当】'!DE16 -> 0 | F17: ='④-2宿泊数管理【室】'!DE18+'①-1入力シート（宿泊人数）【1人当】'!CZ16 -> 0 | G17: =SUM(B17:F17) -> 0
A18: 11 | B18: ='④-2宿泊数管理【室】'!DB19+'①-1入力シート（宿泊人数）【1人当】'!DC17 -> 0 | C18: ='④-2宿泊数管理【室】'!DC19+'①-1入力シート（宿泊人数）【1人当】'!DD17 -> 0 | D18: ='④-2宿泊数管理【室】'!DD19+'①-1入力シート（宿泊人数）【1人当】'!DE17 -> 0 | F18: ='④-2宿泊数管理【室】'!DE19+'①-1入力シート（宿泊人数）【1人当】'!CZ17 -> 0 | G18: =SUM(B18:F18) -> 0
A19: 12 | B19: ='④-2宿泊数管理【室】'!DB20+'①-1入力シート（宿泊人数）【1人当】'!DC18 -> 0 | C19: ='④-2宿泊数管理【室】'!DC20+'①-1入力シート（宿泊人数）【1人当】'!DD18 -> 0 | D19: ='④-2宿泊数管理【室】'!DD20+'①-1入力シート（宿泊人数）【1人当】'!DE18 -> 0 | F19: ='④-2宿泊数管理【室】'!DE20+'①-1入力シート（宿泊人数）【1人当】'!CZ18 -> 0 | G19: =SUM(B19:F19) -> 0
... A38: 31 | B38: ='④-2宿泊数管理【室】'!DB39+'①-1入力シート（宿泊人数）【1人当】'!DC37 -> 0 | C38: ='④-2宿泊数管理【室】'!DC39+'①-1入力シート（宿泊人数）【1人当】'!DD37 -> 0 | D38: ='④-2宿泊数管理【室】'!DD39+'①-1入力シート（宿泊人数）【1人当】'!DE37 -> 0 | F38: ='④-2宿泊数管理【室】'!DE39+'①-1入力シート（宿泊人数）【1人当】'!CZ37 -> 0 | G38: =SUM(B38:F38) -> 0
A39: 合計（泊） | B39: =SUM(B8:B38) -> 0 | C39: =SUM(C8:C38) -> 0 | D39: =SUM(D8:D38) -> 0 | E39: =SUM(E8:E38) -> 0 | F39: =SUM(F8:F38) -> 0 | G39: =SUM(G8:G38) -> 0
A40: 税率（円） | B40: 100 | C40: 200 | D40: 500
A41: 税額（円） | B41: =B39*B40 -> 0 | C41: =C39*C40 -> 0 | D41: =D39*D40 -> 0 | E41: =E39*E40 -> 0 | G41: =SUM(B41:F41) -> 0

Sheet 各計算表（提出不要）→

Sheet ④-1宿泊数管理【1人当】
B1: 年 | D1: 月分 | E1: 宿泊施設番号 | J1: 宿泊施設名
C2: 1 | D2: 2 | E2: 3 | F2: 4 | G2: 5 | H2: 6 | I2: 7 | J2: 8 | K2: 9 | L2: 10 | M2: 11 | N2: 12 | O2: 13 | P2: 14 | Q2: 15 | R2: 16 | S2: 17 | T2: 18 | U2: 19 | V2: 20 | W2: 21 | X2: 22 | Y2: 23 | Z2: 24 | AA2: 25 | AB2: 26 | AC2: 27 | AD2: 28 | AE2: 29 | AF2: 30 | AG2: 31 | AH2: 32 | AI2: 33 | AJ2: 34 | AK2: 35 | AL2: 36 | AM2: 37 | AN2: 38 | AO2: 39 | AP2: 40 | AQ2: 41 | AR2: 42 | AS2: 43 | AT2: 44 | AU2: 45 | AV2: 46 | AW2: 47 | AX2: 48 | AY2: 49 | AZ2: 50 | BA2: 51 | BB2: 52 | BC2: 53 | BD2: 54 | BE2: 55 | BF2: 56 | BG2: 57 | BH2: 58 | BI2: 59 | BJ2: 60 | BK2: 61 | BL2: 62 | BM2: 63 | BN2: 64 | BO2: 65 | BP2: 66 | BQ2: 67 | BR2: 68 | BS2: 69 | BT2: 70 | BU2: 71 | BV2: 72 | BW2: 73 | BX2: 74 | BY2: 75 | BZ2: 76 | CA2: 77 | CB2: 78 | CC2: 79 | CD2: 80 | CE2: 81 | CF2: 82 | CG2: 83 | CH2: 84 | CI2: 85 | CJ2: 86 | CK2: 87 | CL2: 88 | CM2: 89 | CN2: 90 | CO2: 91 | CP2: 92 | CQ2: 93 | CR2: 94 | CS2: 95 | CT2: 96 | CU2: 97 | CV2: 98 | CW2: 99 | CX2: 100
A3: 種類 | CZ3: 課税免除 | DB3: 集計
A4: 宿泊料金（税込） | C4: ='①-1入力シート（宿泊人数）【1人当】'!C4 -> 0 | D4: ='①-1入力シート（宿泊人数）【1人当】'!D4 -> 0 | E4: ='①-1入力シート（宿泊人数）【1人当】'!E4 -> 0 | F4: ='①-1入力シート（宿泊人数）【1人当】'!F4 -> 0 | G4: ='①-1入力シート（宿泊人数）【1人当】'!G4 -> 0 | H4: ='①-1入力シート（宿泊人数）【1人当】'!H4 -> 0 | I4: ='①-1入力シート（宿泊人数）【1人当】'!I4 -> 0 | J4: ='①-1入力シート（宿泊人数）【1人当】'!J4 -> 0 | ... CX4: ='①-1入力シート（宿泊人数）【1人当】'!CX4 -> 0 | DB4: 宿泊者数 計 | DC4: 北海道管理分 | DF4: 課税免除 | DG4: 宿泊+免除合計
A5: 宿泊料金（税抜額） | C5: =C4/1.1 -> 0 | D5: =D4/1.1 -> 0 | E5: =E4/1.1 -> 0 | F5: =F4/1.1 -> 0 | G5: =G4/1.1 -> 0 | H5: =H4/1.1 -> 0 | I5: =I4/1.1 -> 0 | J5: =J4/1.1 -> 0 | ... CX5: =CX4/1.1 -> 0 | DC5: 100 | DD5: 200 | DE5: 500
A6: 課税標準額 | C6: =ROUNDDOWN(C5,-2) -> 0 | D6: =ROUNDDOWN(D5,-2) -> 0 | E6: =ROUNDDOWN(E5,-2) -> 0 | F6: =ROUNDDOWN(F5,-2) -> 0 | G6: =ROUNDDOWN(G5,-2) -> 0 | H6: =ROUNDDOWN(H5,-2) -> 0 | I6: =ROUNDDOWN(I5,-2) -> 0 | J6: =ROUNDDOWN(J5,-2) -> 0 | ... CX6: =ROUNDDOWN(CX5,-2) -> 0
A7: 宿泊者数 | B7: 1 | C7: ='①-1入力シート（宿泊人数）【1人当】'!C7 -> 0 | D7: ='①-1入力シート（宿泊人数）【1人当】'!D7 -> 0 | E7: ='①-1入力シート（宿泊人数）【1人当】'!E7 -> 0 | F7: ='①-1入力シート（宿泊人数）【1人当】'!F7 -> 0 | G7: ='①-1入力シート（宿泊人数）【1人当】'!G7 -> 0 | H7: ='①-1入力シート（宿泊人数）【1人当】'!H7 -> 0 | I7: ='①-1入力シート（宿泊人数）【1人当】'!I7 -> 0 | J7: ='①-1入力シート（宿泊人数）【1人当】'!J7 -> 0 | ... CX7: ='①-1入力シート（宿泊人数）【1人当】'!CX7 -> 0 | CZ7: ='①-1入力シート（宿泊人数）【1人当】'!CZ7 -> 0 | DB7: =SUM(DC7:DE7) -> 0 | DC7: =SUMIF($C$6:$CX$6,"<20000",C7:CX7) -> 0 | DD7: =SUMIFS(C7:CX7, $C$6:$CX$6, ">=20000", $C$6:$CX$6, "<50000") -> 0 | DE7: =SUMIF($C$6:$CX$6, ">=50000",C7:CX7) -> 0 | DF7: =CZ7 -> 0 | DG7: =DB7+DF7 -> 0
B8: 2 | C8: ='①-1入力シート（宿泊人数）【1人当】'!C8 -> 0 | D8: ='①-1入力シート（宿泊人数）【1人当】'!D8 -> 0 | E8: ='①-1入力シート（宿泊人数）【1人当】'!E8 -> 0 | F8: ='①-1入力シート（宿泊人数）【1人当】'!F8 -> 0 | G8: ='①-1入力シート（宿泊人数）【1人当】'!G8 -> 0 | H8: ='①-1入力シート（宿泊人数）【1人当】'!H8 -> 0 | I8: ='①-1入力シート（宿泊人数）【1人当】'!I8 -> 0 | J8: ='①-1入力シート（宿泊人数）【1人当】'!J8 -> 0 | ... CX8: ='①-1入力シート（宿泊人数）【1人当】'!CX8 -> 0 | CZ8: ='①-1入力シート（宿泊人数）【1人当】'!CZ8 -> 0 | DB8: =SUM(DC8:DE8) -> 0 | DC8: =SUMIF($C$6:$CX$6,"<20000",C8:CX8) -> 0 | DD8: =SUMIFS(C8:CX8, $C$6:$CX$6, ">=20000", $C$6:$CX$6, "<50000") -> 0 | DE8: =SUMIF($C$6:$CX$6, ">=50000",C8:CX8) -> 0 | DF8: =CZ8 -> 0 | DG8: =DB8+DF8 -> 0
B9: 3 | C9: ='①-1入力シート（宿泊人数）【1人当】'!C9 -> 0 | D9: ='①-1入力シート（宿泊人数）【1人当】'!D9 -> 0 | E9: ='①-1入力シート（宿泊人数）【1人当】'!E9 -> 0 | F9: ='①-1入力シート（宿泊人数）【1人当】'!F9 -> 0 | G9: ='①-1入力シート（宿泊人数）【1人当】'!G9 -> 0 | H9: ='①-1入力シート（宿泊人数）【1人当】'!H9 -> 0 | I9: ='①-1入力シート（宿泊人数）【1人当】'!I9 -> 0 | J9: ='①-1入力シート（宿泊人数）【1人当】'!J9 -> 0 | ... CX9: ='①-1入力シート（宿泊人数）【1人当】'!CX9 -> 0 | CZ9: ='①-1入力シート（宿泊人数）【1人当】'!CZ9 -> 0 | DB9: =SUM(DC9:DE9) -> 0 | DC9: =SUMIF($C$6:$CX$6,"<20000",C9:CX9) -> 0 | DD9: =SUMIFS(C9:CX9, $C$6:$CX$6, ">=20000", $C$6:$CX$6, "<50000") -> 0 | DE9: =SUMIF($C$6:$CX$6, ">=50000",C9:CX9) -> 0 | DF9: =CZ9 -> 0 | DG9: =DB9+DF9 -> 0
B10: 4 | C10: ='①-1入力シート（宿泊人数）【1人当】'!C10 -> 0 | D10: ='①-1入力シート（宿泊人数）【1人当】'!D10 -> 0 | E10: ='①-1入力シート（宿泊人数）【1人当】'!E10 -> 0 | F10: ='①-1入力シート（宿泊人数）【1人当】'!F10 -> 0 | G10: ='①-1入力シート（宿泊人数）【1人当】'!G10 -> 0 | H10: ='①-1入力シート（宿泊人数）【1人当】'!H10 -> 0 | I10: ='①-1入力シート（宿泊人数）【1人当】'!I10 -> 0 | J10: ='①-1入力シート（宿泊人数）【1人当】'!J10 -> 0 | ... CX10: ='①-1入力シート（宿泊人数）【1人当】'!CX10 -> 0 | CZ10: ='①-1入力シート（宿泊人数）【1人当】'!CZ10 -> 0 | DB10: =SUM(DC10:DE10) -> 0 | DC10: =SUMIF($C$6:$CX$6,"<20000",C10:CX10) -> 0 | DD10: =SUMIFS(C10:CX10, $C$6:$CX$6, ">=20000", $C$6:$CX$6, "<50000") -> 0 | DE10: =SUMIF($C$6:$CX$6, ">=50000",C10:CX10) -> 0 | DF10: =CZ10 -> 0 | DG10: =DB10+DF10 -> 0
B11: 5 | C11: ='①-1入力シート（宿泊人数）【1人当】'!C11 -> 0 | D11: ='①-1入力シート（宿泊人数）【1人当】'!D11 -> 0 | E11: ='①-1入力シート（宿泊人数）【1人当】'!E11 -> 0 | F11: ='①-1入力シート（宿泊人数）【1人当】'!F11 -> 0 | G11: ='①-1入力シート（宿泊人数）【1人当】'!G11 -> 0 | H11: ='①-1入力シート（宿泊人数）【1人当】'!H11 -> 0 | I11: ='①-1入力シート（宿泊人数）【1人当】'!I11 -> 0 | J11: ='①-1入力シート（宿泊人数）【1人当】'!J11 -> 0 | ... CX11: ='①-1入力シート（宿泊人数）【1人当】'!CX11 -> 0 | CZ11: ='①-1入力シート（宿泊人数）【1人当】'!CZ11 -> 0 | DB11: =SUM(DC11:DE11) -> 0 | DC11: =SUMIF($C$6:$CX$6,"<20000",C11:CX11) -> 0 | DD11: =SUMIFS(C11:CX11, $C$6:$CX$6, ">=20000", $C$6:$CX$6, "<50000") -> 0 | DE11: =SUMIF($C$6:$CX$6, ">=50000",C11:CX11) -> 0 | DF11: =CZ11 -> 0 | DG11: =DB11+DF11 -> 0
B12: 6 | C12: ='①-1入力シート（宿泊人数）【1人当】'!C12 -> 0 | D12: ='①-1入力シート（宿泊人数）【1人当】'!D12 -> 0 | E12: ='①-1入力シート（宿泊人数）【1人当】'!E12 -> 0 | F12: ='①-1入力シート（宿泊人数）【1人当】'!F12 -> 0 | G12: ='①-1入力シート（宿泊人数）【1人当】'!G12 -> 0 | H12: ='①-1入力シート（宿泊人数）【1人当】'!H12 -> 0 | I12: ='①-1入力シート（宿泊人数）【1人当】'!I12 -> 0 | J12: ='①-1入力シート（宿泊人数）【1人当】'!J12 -> 0 | ... CX12: ='①-1入力シート（宿泊人数）【1人当】'!CX12 -> 0 | CZ12: ='①-1入力シート（宿泊人数）【1人当】'!CZ12 -> 0 | DB12: =SUM(DC12:DE12) -> 0 | DC12: =SUMIF($C$6:$CX$6,"<20000",C12:CX12) -> 0 | DD12: =SUMIFS(C12:CX12, $C$6:$CX$6, ">=20000", $C$6:$CX$6, "<50000") -> 0 | DE12: =SUMIF($C$6:$CX$6, ">=50000",C12:CX12) -> 0 | DF12: =CZ12 -> 0 | DG12: =DB12+DF12 -> 0
B13: 7 | C13: ='①-1入力シート（宿泊人数）【1人当】'!C13 -> 0 | D13: ='①-1入力シート（宿泊人数）【1人当】'!D13 -> 0 | E13: ='①-1入力シート（宿泊人数）【1人当】'!E13 -> 0 | F13: ='①-1入力シート（宿泊人数）【1人当】'!F13 -> 0 | G13: ='①-1入力シート（宿泊人数）【1人当】'!G13 -> 0 | H13: ='①-1入力シート（宿泊人数）【1人当】'!H13 -> 0 | I13: ='①-1入力シート（宿泊人数）【1人当】'!I13 -> 0 | J13: ='①-1入力シート（宿泊人数）【1人当】'!J13 -> 0 | ... CX13: ='①-1入力シート（宿泊人数）【1人当】'!CX13 -> 0 | CZ13: ='①-1入力シート（宿泊人数）【1人当】'!CZ13 -> 0 | DB13: =SUM(DC13:DE13) -> 0 | DC13: =SUMIF($C$6:$CX$6,"<20000",C13:CX13) -> 0 | DD13: =SUMIFS(C13:CX13, $C$6:$CX$6, ">=20000", $C$6:$CX$6, "<50000") -> 0 | DE13: =SUMIF($C$6:$CX$6, ">=50000",C13:CX13) -> 0 | DF13: =CZ13 -> 0 | DG13: =DB13+DF13 -> 0
B14: 8 | C14: ='①-1入力シート（宿泊人数）【1人当】'!C14 -> 0 | D14: ='①-1入力シート（宿泊人数）【1人当】'!D14 -> 0 | E14: ='①-1入力シート（宿泊人数）【1人当】'!E14 -> 0 | F14: ='①-1入力シート（宿泊人数）【1人当】'!F14 -> 0 | G14: ='①-1入力シート（宿泊人数）【1人当】'!G14 -> 0 | H14: ='①-1入力シート（宿泊人数）【1人当】'!H14 -> 0 | I14: ='①-1入力シート（宿泊人数）【1人当】'!I14 -> 0 | J14: ='①-1入力シート（宿泊人数）【1人当】'!J14 -> 0 | ... CX14: ='①-1入力シート（宿泊人数）【1人当】'!CX14 -> 0 | CZ14: ='①-1入力シート（宿泊人数）【1人当】'!CZ14 -> 0 | DB14: =SUM(DC14:DE14) -> 0 | DC14: =SUMIF($C$6:$CX$6,"<20000",C14:CX14) -> 0 | DD14: =SUMIFS(C14:CX14, $C$6:$CX$6, ">=20000", $C$6:$CX$6, "<50000") -> 0 | DE14: =SUMIF($C$6:$CX$6, ">=50000",C14:CX14) -> 0 | DF14: =CZ14 -> 0 | DG14: =DB14+DF14 -> 0
B15: 9 | C15: ='①-1入力シート（宿泊人数）【1人当】'!C15 -> 0 | D15: ='①-1入力シート（宿泊人数）【1人当】'!D15 -> 0 | E15: ='①-1入力シート（宿泊人数）【1人当】'!E15 -> 0 | F15: ='①-1入力シート（宿泊人数）【1人当】'!F15 -> 0 | G15: ='①-1入力シート（宿泊人数）【1人当】'!G15 -> 0 | H15: ='①-1入力シート（宿泊人数）【1人当】'!H15 -> 0 | I15: ='①-1入力シート（宿泊人数）【1人当】'!I15 -> 0 | J15: ='①-1入力シート（宿泊人数）【1人当】'!J15 -> 0 | ... CX15: ='①-1入力シート（宿泊人数）【1人当】'!CX15 -> 0 | CZ15: ='①-1入力シート（宿泊人数）【1人当】'!CZ15 -> 0 | DB15: =SUM(DC15:DE15) -> 0 | DC15: =SUMIF($C$6:$CX$6,"<20000",C15:CX15) -> 0 | DD15: =SUMIFS(C15:CX15, $C$6:$CX$6, ">=20000", $C$6:$CX$6, "<50000") -> 0 | DE15: =SUMIF($C$6:$CX$6, ">=50000",C15:CX15) -> 0 | DF15: =CZ15 -> 0 | DG15: =DB15+DF15 -> 0
B16: 10 | C16: ='①-1入力シート（宿泊人数）【1人当】'!C16 -> 0 | D16: ='①-1入力シート（宿泊人数）【1人当】'!D16 -> 0 | E16: ='①-1入力シート（宿泊人数）【1人当】'!E16 -> 0 | F16: ='①-1入力シート（宿泊人数）【1人当】'!F16 -> 0 | G16: ='①-1入力シート（宿泊人数）【1人当】'!G16 -> 0 | H16: ='①-1入力シート（宿泊人数）【1人当】'!H16 -> 0 | I16: ='①-1入力シート（宿泊人数）【1人当】'!I16 -> 0 | J16: ='①-1入力シート（宿泊人数）【1人当】'!J16 -> 0 | ... CX16: ='①-1入力シート（宿泊人数）【1人当】'!CX16 -> 0 | CZ16: ='①-1入力シート（宿泊人数）【1人当】'!CZ16 -> 0 | DB16: =SUM(DC16:DE16) -> 0 | DC16: =SUMIF($C$6:$CX$6,"<20000",C16:CX16) -> 0 | DD16: =SUMIFS(C16:CX16, $C$6:$CX$6, ">=20000", $C$6:$CX$6, "<50000") -> 0 | DE16: =SUMIF($C$6:$CX$6, ">=50000",C16:CX16) -> 0 | DF16: =CZ16 -> 0 | DG16: =DB16+DF16 -> 0
B17: 11 | C17: ='①-1入力シート（宿泊人数）【1人当】'!C17 -> 0 | D17: ='①-1入力シート（宿泊人数）【1人当】'!D17 -> 0 | E17: ='①-1入力シート（宿泊人数）【1人当】'!E17 -> 0 | F17: ='①-1入力シート（宿泊人数）【1人当】'!F17 -> 0 | G17: ='①-1入力シート（宿泊人数）【1人当】'!G17 -> 0 | H17: ='①-1入力シート（宿泊人数）【1人当】'!H17 -> 0 | I17: ='①-1入力シート（宿泊人数）【1人当】'!I17 -> 0 | J17: ='①-1入力シート（宿泊人数）【1人当】'!J17 -> 0 | ... CX17: ='①-1入力シート（宿泊人数）【1人当】'!CX17 -> 0 | CZ17: ='①-1入力シート（宿泊人数）【1人当】'!CZ17 -> 0 | DB17: =SUM(DC17:DE17) -> 0 | DC17: =SUMIF($C$6:$CX$6,"<20000",C17:CX17) -> 0 | DD17: =SUMIFS(C17:CX17, $C$6:$CX$6, ">=20000", $C$6:$CX$6, "<50000") -> 0 | DE17: =SUMIF($C$6:$CX$6, ">=50000",C17:CX17) -> 0 | DF17: =CZ17 -> 0 | DG17: =DB17+DF17 -> 0
B18: 12 | C18: ='①-1入力シート（宿泊人数）【1人当】'!C18 -> 0 | D18: ='①-1入力シート（宿泊人数）【1人当】'!D18 -> 0 | E18: ='①-1入力シート（宿泊人数）【1人当】'!E18 -> 0 | F18: ='①-1入力シート（宿泊人数）【1人当】'!F18 -> 0 | G18: ='①-1入力シート（宿泊人数）【1人当】'!G18 -> 0 | H18: ='①-1入力シート（宿泊人数）【1人当】'!H18 -> 0 | I18: ='①-1入力シート（宿泊人数）【1人当】'!I18 -> 0 | J18: ='①-1入力シート（宿泊人数）【1人当】'!J18 -> 0 | ... CX18: ='①-1入力シート（宿泊人数）【1人当】'!CX18 -> 0 | CZ18: ='①-1入力シート（宿泊人数）【1人当】'!CZ18 -> 0 | DB18: =SUM(DC18:DE18) -> 0 | DC18: =SUMIF($C$6:$CX$6,"<20000",C18:CX18) -> 0 | DD18: =SUMIFS(C18:CX18, $C$6:$CX$6, ">=20000", $C$6:$CX$6, "<50000") -> 0 | DE18: =SUMIF($C$6:$CX$6, ">=50000",C18:CX18) -> 0 | DF18: =CZ18 -> 0 | DG18: =DB18+DF18 -> 0
B19: 13 | C19: ='①-1入力シート（宿泊人数）【1人当】'!C19 -> 0 | D19: ='①-1入力シート（宿泊人数）【1人当】'!D19 -> 0 | E19: ='①-1入力シート（宿泊人数）【1人当】'!E19 -> 0 | F19: ='①-1入力シート（宿泊人数）【1人当】'!F19 -> 0 | G19: ='①-1入力シート（宿泊人数）【1人当】'!G19 -> 0 | H19: ='①-1入力シート（宿泊人数）【1人当】'!H19 -> 0 | I19: ='①-1入力シート（宿泊人数）【1人当】'!I19 -> 0 | J19: ='①-1入力シート（宿泊人数）【1人当】'!J19 -> 0 | ... CX19: ='①-1入力シート（宿泊人数）【1人当】'!CX19 -> 0 | CZ19: ='①-1入力シート（宿泊人数）【1人当】'!CZ19 -> 0 | DB19: =SUM(DC19:DE19) -> 0 | DC19: =SUMIF($C$6:$CX$6,"<20000",C19:CX19) -> 0 | DD19: =SUMIFS(C19:CX19, $C$6:$CX$6, ">=20000", $C$6:$CX$6, "<50000") -> 0 | DE19: =SUMIF($C$6:$CX$6, ">=50000",C19:CX19) -> 0 | DF19: =CZ19 -> 0 | DG19: =DB19+DF19 -> 0
... B37: 31 | C37: ='①-1入力シート（宿泊人数）【1人当】'!C37 -> 0 | D37: ='①-1入力シート（宿泊人数）【1人当】'!D37 -> 0 | E37: ='①-1入力シート（宿泊人数）【1人当】'!E37 -> 0 | F37: ='①-1入力シート（宿泊人数）【1人当】'!F37 -> 0 | G37: ='①-1入力シート（宿泊人数）【1人当】'!G37 -> 0 | H37: ='①-1入力シート（宿泊人数）【1人当】'!H37 -> 0 | I37: ='①-1入力シート（宿泊人数）【1人当】'!I37 -> 0 | J37: ='①-1入力シート（宿泊人数）【1人当】'!J37 -> 0 | ... CX37: ='①-1入力シート（宿泊人数）【1人当】'!CX37 -> 0 | CZ37: ='①-1入力シート（宿泊人数）【1人当】'!CZ37 -> 0 | DB37: =SUM(DC37:DE37) -> 0 | DC37: =SUMIF($C$6:$CX$6,"<20000",C37:CX37) -> 0 | DD37: =SUMIFS(C37:CX37, $C$6:$CX$6, ">=20000", $C$6:$CX$6, "<50000") -> 0 | DE37: =SUMIF($C$6:$CX$6, ">=50000",C37:CX37) -> 0 | DF37: =CZ37 -> 0 | DG37: =DB37+DF37 -> 0
A38: 計 | C38: =SUM(C7:C37) -> 0 | D38: =SUM(D7:D37) -> 0 | E38: =SUM(E7:E37) -> 0 | F38: =SUM(F7:F37) -> 0 | G38: =SUM(G7:G37) -> 0 | H38: =SUM(H7:H37) -> 0 | I38: =SUM(I7:I37) -> 0 | J38: =SUM(J7:J37) -> 0 | ... CX38: =SUM(CX7:CX37) -> 0 | CZ38: =SUM(CZ7:CZ37) -> 0 | DB38: =SUM(DB7:DB37) -> 0 | DC38: =SUM(DC7:DC37) -> 0 | DD38: =SUM(DD7:DD37) -> 0 | DE38: =SUM(DE7:DE37) -> 0 | DF38: =SUM(DF7:DF37) -> 0 | DG38: =DB38+DF38 -> 0
DA40: 北海道税分→ | DB40: =SUM(DC40:DE40) -> 0 | DC40: =DC38*DC5 -> 0 | DD40: =DD38*DD5 -> 0 | DE40: =DE38*DE5 -> 0

Sheet ④-2宿泊数管理【室】
A1: ='①-1入力シート（宿泊人数）【1人当】'!A1 -> 0 | B1: 年 | C1: ='①-1入力シート（宿泊人数）【1人当】'!C1 -> 0 | D1: 月分
C2: 1 | D2: 2 | E2: 3 | F2: 4 | G2: 5 | H2: 6 | I2: 7 | J2: 8 | K2: 9 | L2: 10 | M2: 11 | N2: 12 | O2: 13 | P2: 14 | Q2: 15 | R2: 16 | S2: 17 | T2: 18 | U2: 19 | V2: 20 | W2: 21 | X2: 22 | Y2: 23 | Z2: 24 | AA2: 25 | AB2: 26 | AC2: 27 | AD2: 28 | AE2: 29 | AF2: 30 | AG2: 31 | AH2: 32 | AI2: 33 | AJ2: 34 | AK2: 35 | AL2: 36 | AM2: 37 | AN2: 38 | AO2: 39 | AP2: 40 | AQ2: 41 | AR2: 42 | AS2: 43 | AT2: 44 | AU2: 45 | AV2: 46 | AW2: 47 | AX2: 48 | AY2: 49 | AZ2: 50 | BA2: 51 | BB2: 52 | BC2: 53 | BD2: 54 | BE2: 55 | BF2: 56 | BG2: 57 | BH2: 58 | BI2: 59 | BJ2: 60 | BK2: 61 | BL2: 62 | BM2: 63 | BN2: 64 | BO2: 65 | BP2: 66 | BQ2: 67 | BR2: 68 | BS2: 69 | BT2: 70 | BU2: 71 | BV2: 72 | BW2: 73 | BX2: 74 | BY2: 75 | BZ2: 76 | CA2: 77 | CB2: 78 | CC2: 79 | CD2: 80 | CE2: 81 | CF2: 82 | CG2: 83 | CH2: 84 | CI2: 85 | CJ2: 86 | CK2: 87 | CL2: 88 | CM2: 89 | CN2: 90 | CO2: 91 | CP2: 92 | CQ2: 93 | CR2: 94 | CS2: 95 | CT2: 96 | CU2: 97 | CV2: 98 | CW2: 99 | CX2: 100
A3: 建物名 | C3: ='①-2入力シート（宿泊人数）【室】'!C3 -> 0 | CY3: 合計 人数
A4: 種類 | C4: ='①-2入力シート（宿泊人数）【室】'!C4 -> 0 | D4: ='①-2入力シート（宿泊人数）【室】'!D4 -> 0 | E4: ='①-2入力シート（宿泊人数）【室】'!E4 -> 0 | F4: ='①-2入力シート（宿泊人数）【室】'!F4 -> 0 | G4: ='①-2入力シート（宿泊人数）【室】'!G4 -> 0 | H4: ='①-2入力シート（宿泊人数）【室】'!H4 -> 0 | I4: ='①-2入力シート（宿泊人数）【室】'!I4 -> 0 | J4: ='①-2入力シート（宿泊人数）【室】'!J4 -> 0 | ... CX4: ='①-2入力シート（宿泊人数）【室】'!CX4 -> 0
A5: 宿泊料金（税込） | C5: ='①-2入力シート（宿泊人数）【室】'!C5 -> 0 | D5: ='①-2入力シート（宿泊人数）【室】'!D5 -> 0 | E5: ='①-2入力シート（宿泊人数）【室】'!E5 -> 0 | F5: ='①-2入力シート（宿泊人数）【室】'!F5 -> 0 | G5: ='①-2入力シート（宿泊人数）【室】'!G5 -> 0 | H5: ='①-2入力シート（宿泊人数）【室】'!H5 -> 0 | I5: ='①-2入力シート（宿泊人数）【室】'!I5 -> 0 | J5: ='①-2入力シート（宿泊人数）【室】'!J5 -> 0 | ... CX5: ='①-2入力シート（宿泊人数）【室】'!CX5 -> 0
A6: 宿泊料金（税抜額） | C6: =C5/1.1 -> 0 | D6: =D5/1.1 -> 0 | E6: =E5/1.1 -> 0 | F6: =F5/1.1 -> 0 | G6: =G5/1.1 -> 0 | H6: =H5/1.1 -> 0 | I6: =I5/1.1 -> 0 | J6: =J5/1.1 -> 0 | ... CX6: =CX5/1.1 -> 0 | DA6: 集計
A7: 課税標準額 | C7: =ROUNDDOWN(C$6,-2) -> 0 | D7: =ROUNDDOWN(D$6,-2) -> 0 | E7: =ROUNDDOWN(E$6,-2) -> 0 | F7: =ROUNDDOWN(F$6,-2) -> 0 | G7: =ROUNDDOWN(G$6,-2) -> 0 | H7: =ROUNDDOWN(H$6,-2) -> 0 | I7: =ROUNDDOWN(I$6,-2) -> 0 | J7: =ROUNDDOWN(J$6,-2) -> 0 | ... CX7: =ROUNDDOWN(CX$6,-2) -> 0 | DA7: 宿泊者数 計 | DB7: 北海道管理分 | DE7: 課税免除 | DF7: 宿泊+免除合計 | DG7: 組数計
A8: 室数 | C8: ='①-2入力シート（宿泊人数）【室】'!C8 -> 0 | DB8: 100 | DC8: 200 | DD8: 500
A9: 宿泊者数 | B9: 1 | C9: ='①-2入力シート（宿泊人数）【室】'!C9 -> 0 | D9: ='①-2入力シート（宿泊人数）【室】'!D9 -> 0 | E9: ='①-2入力シート（宿泊人数）【室】'!E9 -> 0 | F9: ='①-2入力シート（宿泊人数）【室】'!F9 -> 0 | G9: ='①-2入力シート（宿泊人数）【室】'!G9 -> 0 | H9: ='①-2入力シート（宿泊人数）【室】'!H9 -> 0 | I9: ='①-2入力シート（宿泊人数）【室】'!I9 -> 0 | J9: ='①-2入力シート（宿泊人数）【室】'!J9 -> 0 | ... CX9: ='①-2入力シート（宿泊人数）【室】'!CX9 -> 0 | CY9: =SUM(C9:CX9) -> 0 | DA9: =CY9 -> 0 | DB9: {=SUMPRODUCT((C9:CX9>0) * (C$7:CX$7 < 20000 * C9:CX9) * C9:CX9)} -> 0 | DC9: {=SUMPRODUCT((C9:CX9>0) * (C$7:CX$7 >= 20000 * C9:CX9) * (C$7:CX$7 < 50000 * C9:CX9) * C9:CX9)} -> 0 | DD9: {=SUMPRODUCT((C9:CX9>0) * (C$7:CX$7 >= 50000 * C9:CX9) * C9:CX9)} -> 0 | DE9: ='①-2入力シート（宿泊人数）【室】'!DA9 -> 0 | DF9: =DA9+DE9 -> 0 | DG9: =COUNTIF(C9:CX9, ">0") -> 0
B10: 2 | C10: ='①-2入力シート（宿泊人数）【室】'!C10 -> 0 | D10: ='①-2入力シート（宿泊人数）【室】'!D10 -> 0 | E10: ='①-2入力シート（宿泊人数）【室】'!E10 -> 0 | F10: ='①-2入力シート（宿泊人数）【室】'!F10 -> 0 | G10: ='①-2入力シート（宿泊人数）【室】'!G10 -> 0 | H10: ='①-2入力シート（宿泊人数）【室】'!H10 -> 0 | I10: ='①-2入力シート（宿泊人数）【室】'!I10 -> 0 | J10: ='①-2入力シート（宿泊人数）【室】'!J10 -> 0 | ... CX10: ='①-2入力シート（宿泊人数）【室】'!CX10 -> 0 | CY10: =SUM(C10:CX10) -> 0 | DA10: =CY10 -> 0 | DB10: {=SUMPRODUCT((C10:CX10>0) * (C$7:CX$7 < 20000 * C10:CX10) * C10:CX10)} -> 0 | DC10: {=SUMPRODUCT((C10:CX10>0) * (C$7:CX$7 >= 20000 * C10:CX10) * (C$7:CX$7 < 50000 * C10:CX10) * C10:CX10)} -> 0 | DD10: {=SUMPRODUCT((C10:CX10>0) * (C$7:CX$7 >= 50000 * C10:CX10) * C10:CX10)} -> 0 | DE10: ='①-2入力シート（宿泊人数）【室】'!DA10 -> 0 | DF10: =DA10+DE10 -> 0 | DG10: =COUNTIF(C10:CX10, ">0") -> 0
B11: 3 | C11: ='①-2入力シート（宿泊人数）【室】'!C11 -> 0 | D11: ='①-2入力シート（宿泊人数）【室】'!D11 -> 0 | E11: ='①-2入力シート（宿泊人数）【室】'!E11 -> 0 | F11: ='①-2入力シート（宿泊人数）【室】'!F11 -> 0 | G11: ='①-2入力シート（宿泊人数）【室】'!G11 -> 0 | H11: ='①-2入力シート（宿泊人数）【室】'!H11 -> 0 | I11: ='①-2入力シート（宿泊人数）【室】'!I11 -> 0 | J11: ='①-2入力シート（宿泊人数）【室】'!J11 -> 0 | ... CX11: ='①-2入力シート（宿泊人数）【室】'!CX11 -> 0 | CY11: =SUM(C11:CX11) -> 0 | DA11: =CY11 -> 0 | DB11: {=SUMPRODUCT((C11:CX11>0) * (C$7:CX$7 < 20000 * C11:CX11) * C11:CX11)} -> 0 | DC11: {=SUMPRODUCT((C11:CX11>0) * (C$7:CX$7 >= 20000 * C11:CX11) * (C$7:CX$7 < 50000 * C11:CX11) * C11:CX11)} -> 0 | DD11: {=SUMPRODUCT((C11:CX11>0) * (C$7:CX$7 >= 50000 * C11:CX11) * C11:CX11)} -> 0 | DE11: ='①-2入力シート（宿泊人数）【室】'!DA11 -> 0 | DF11: =DA11+DE11 -> 0 | DG11: =COUNTIF(C11:CX11, ">0") -> 0
B12: 4 | C12: ='①-2入力シート（宿泊人数）【室】'!C12 -> 0 | D12: ='①-2入力シート（宿泊人数）【室】'!D12 -> 0 | E12: ='①-2入力シート（宿泊人数）【室】'!E12 -> 0 | F12: ='①-2入力シート（宿泊人数）【室】'!F12 -> 0 | G12: ='①-2入力シート（宿泊人数）【室】'!G12 -> 0 | H12: ='①-2入力シート（宿泊人数）【室】'!H12 -> 0 | I12: ='①-2入力シート（宿泊人数）【室】'!I12 -> 0 | J12: ='①-2入力シート（宿泊人数）【室】'!J12 -> 0 | ... CX12: ='①-2入力シート（宿泊人数）【室】'!CX12 -> 0 | CY12: =SUM(C12:CX12) -> 0 | DA12: =CY12 -> 0 | DB12: {=SUMPRODUCT((C12:CX12>0) * (C$7:CX$7 < 20000 * C12:CX12) * C12:CX12)} -> 0 | DC12: {=SUMPRODUCT((C12:CX12>0) * (C$7:CX$7 >= 20000 * C12:CX12) * (C$7:CX$7 < 50000 * C12:CX12) * C12:CX12)} -> 0 | DD12: {=SUMPRODUCT((C12:CX12>0) * (C$7:CX$7 >= 50000 * C12:CX12) * C12:CX12)} -> 0 | DE12: ='①-2入力シート（宿泊人数）【室】'!DA12 -> 0 | DF12: =DA12+DE12 -> 0 | DG12: =COUNTIF(C12:CX12, ">0") -> 0
B13: 5 | C13: ='①-2入力シート（宿泊人数）【室】'!C13 -> 0 | D13: ='①-2入力シート（宿泊人数）【室】'!D13 -> 0 | E13: ='①-2入力シート（宿泊人数）【室】'!E13 -> 0 | F13: ='①-2入力シート（宿泊人数）【室】'!F13 -> 0 | G13: ='①-2入力シート（宿泊人数）【室】'!G13 -> 0 | H13: ='①-2入力シート（宿泊人数）【室】'!H13 -> 0 | I13: ='①-2入力シート（宿泊人数）【室】'!I13 -> 0 | J13: ='①-2入力シート（宿泊人数）【室】'!J13 -> 0 | ... CX13: ='①-2入力シート（宿泊人数）【室】'!CX13 -> 0 | CY13: =SUM(C13:CX13) -> 0 | DA13: =CY13 -> 0 | DB13: {=SUMPRODUCT((C13:CX13>0) * (C$7:CX$7 < 20000 * C13:CX13) * C13:CX13)} -> 0 | DC13: {=SUMPRODUCT((C13:CX13>0) * (C$7:CX$7 >= 20000 * C13:CX13) * (C$7:CX$7 < 50000 * C13:CX13) * C13:CX13)} -> 0 | DD13: {=SUMPRODUCT((C13:CX13>0) * (C$7:CX$7 >= 50000 * C13:CX13) * C13:CX13)} -> 0 | DE13: ='①-2入力シート（宿泊人数）【室】'!DA13 -> 0 | DF13: =DA13+DE13 -> 0 | DG13: =COUNTIF(C13:CX13, ">0") -> 0
B14: 6 | C14: ='①-2入力シート（宿泊人数）【室】'!C14 -> 0 | D14: ='①-2入力シート（宿泊人数）【室】'!D14 -> 0 | E14: ='①-2入力シート（宿泊人数）【室】'!E14 -> 0 | F14: ='①-2入力シート（宿泊人数）【室】'!F14 -> 0 | G14: ='①-2入力シート（宿泊人数）【室】'!G14 -> 0 | H14: ='①-2入力シート（宿泊人数）【室】'!H14 -> 0 | I14: ='①-2入力シート（宿泊人数）【室】'!I14 -> 0 | J14: ='①-2入力シート（宿泊人数）【室】'!J14 -> 0 | ... CX14: ='①-2入力シート（宿泊人数）【室】'!CX14 -> 0 | CY14: =SUM(C14:CX14) -> 0 | DA14: =CY14 -> 0 | DB14: {=SUMPRODUCT((C14:CX14>0) * (C$7:CX$7 < 20000 * C14:CX14) * C14:CX14)} -> 0 | DC14: {=SUMPRODUCT((C14:CX14>0) * (C$7:CX$7 >= 20000 * C14:CX14) * (C$7:CX$7 < 50000 * C14:CX14) * C14:CX14)} -> 0 | DD14: {=SUMPRODUCT((C14:CX14>0) * (C$7:CX$7 >= 50000 * C14:CX14) * C14:CX14)} -> 0 | DE14: ='①-2入力シート（宿泊人数）【室】'!DA14 -> 0 | DF14: =DA14+DE14 -> 0 | DG14: =COUNTIF(C14:CX14, ">0") -> 0
B15: 7 | C15: ='①-2入力シート（宿泊人数）【室】'!C15 -> 0 | D15: ='①-2入力シート（宿泊人数）【室】'!D15 -> 0 | E15: ='①-2入力シート（宿泊人数）【室】'!E15 -> 0 | F15: ='①-2入力シート（宿泊人数）【室】'!F15 -> 0 | G15: ='①-2入力シート（宿泊人数）【室】'!G15 -> 0 | H15: ='①-2入力シート（宿泊人数）【室】'!H15 -> 0 | I15: ='①-2入力シート（宿泊人数）【室】'!I15 -> 0 | J15: ='①-2入力シート（宿泊人数）【室】'!J15 -> 0 | ... CX15: ='①-2入力シート（宿泊人数）【室】'!CX15 -> 0 | CY15: =SUM(C15:CX15) -> 0 | DA15: =CY15 -> 0 | DB15: {=SUMPRODUCT((C15:CX15>0) * (C$7:CX$7 < 20000 * C15:CX15) * C15:CX15)} -> 0 | DC15: {=SUMPRODUCT((C15:CX15>0) * (C$7:CX$7 >= 20000 * C15:CX15) * (C$7:CX$7 < 50000 * C15:CX15) * C15:CX15)} -> 0 | DD15: {=SUMPRODUCT((C15:CX15>0) * (C$7:CX$7 >= 50000 * C15:CX15) * C15:CX15)} -> 0 | DE15: ='①-2入力シート（宿泊人数）【室】'!DA15 -> 0 | DF15: =DA15+DE15 -> 0 | DG15: =COUNTIF(C15:CX15, ">0") -> 0
B16: 8 | C16: ='①-2入力シート（宿泊人数）【室】'!C16 -> 0 | D16: ='①-2入力シート（宿泊人数）【室】'!D16 -> 0 | E16: ='①-2入力シート（宿泊人数）【室】'!E16 -> 0 | F16: ='①-2入力シート（宿泊人数）【室】'!F16 -> 0 | G16: ='①-2入力シート（宿泊人数）【室】'!G16 -> 0 | H16: ='①-2入力シート（宿泊人数）【室】'!H16 -> 0 | I16: ='①-2入力シート（宿泊人数）【室】'!I16 -> 0 | J16: ='①-2入力シート（宿泊人数）【室】'!J16 -> 0 | ... CX16: ='①-2入力シート（宿泊人数）【室】'!CX16 -> 0 | CY16: =SUM(C16:CX16) -> 0 | DA16: =CY16 -> 0 | DB16: {=SUMPRODUCT((C16:CX16>0) * (C$7:CX$7 < 20000 * C16:CX16) * C16:CX16)} -> 0 | DC16: {=SUMPRODUCT((C16:CX16>0) * (C$7:CX$7 >= 20000 * C16:CX16) * (C$7:CX$7 < 50000 * C16:CX16) * C16:CX16)} -> 0 | DD16: {=SUMPRODUCT((C16:CX16>0) * (C$7:CX$7 >= 50000 * C16:CX16) * C16:CX16)} -> 0 | DE16: ='①-2入力シート（宿泊人数）【室】'!DA16 -> 0 | DF16: =DA16+DE16 -> 0 | DG16: =COUNTIF(C16:CX16, ">0") -> 0
B17: 9 | C17: ='①-2入力シート（宿泊人数）【室】'!C17 -> 0 | D17: ='①-2入力シート（宿泊人数）【室】'!D17 -> 0 | E17: ='①-2入力シート（宿泊人数）【室】'!E17 -> 0 | F17: ='①-2入力シート（宿泊人数）【室】'!F17 -> 0 | G17: ='①-2入力シート（宿泊人数）【室】'!G17 -> 0 | H17: ='①-2入力シート（宿泊人数）【室】'!H17 -> 0 | I17: ='①-2入力シート（宿泊人数）【室】'!I17 -> 0 | J17: ='①-2入力シート（宿泊人数）【室】'!J17 -> 0 | ... CX17: ='①-2入力シート（宿泊人数）【室】'!CX17 -> 0 | CY17: =SUM(C17:CX17) -> 0 | DA17: =CY17 -> 0 | DB17: {=SUMPRODUCT((C17:CX17>0) * (C$7:CX$7 < 20000 * C17:CX17) * C17:CX17)} -> 0 | DC17: {=SUMPRODUCT((C17:CX17>0) * (C$7:CX$7 >= 20000 * C17:CX17) * (C$7:CX$7 < 50000 * C17:CX17) * C17:CX17)} -> 0 | DD17: {=SUMPRODUCT((C17:CX17>0) * (C$7:CX$7 >= 50000 * C17:CX17) * C17:CX17)} -> 0 | DE17: ='①-2入力シート（宿泊人数）【室】'!DA17 -> 0 | DF17: =DA17+DE17 -> 0 | DG17: =COUNTIF(C17:CX17, ">0") -> 0
B18: 10 | C18: ='①-2入力シート（宿泊人数）【室】'!C18 -> 0 | D18: ='①-2入力シート（宿泊人数）【室】'!D18 -> 0 | E18: ='①-2入力シート（宿泊人数）【室】'!E18 -> 0 | F18: ='①-2入力シート（宿泊人数）【室】'!F18 -> 0 | G18: ='①-2入力シート（宿泊人数）【室】'!G18 -> 0 | H18: ='①-2入力シート（宿泊人数）【室】'!H18 -> 0 | I18: ='①-2入力シート（宿泊人数）【室】'!I18 -> 0 | J18: ='①-2入力シート（宿泊人数）【室】'!J18 -> 0 | ... CX18: ='①-2入力シート（宿泊人数）【室】'!CX18 -> 0 | CY18: =SUM(C18:CX18) -> 0 | DA18: =CY18 -> 0 | DB18: {=SUMPRODUCT((C18:CX18>0) * (C$7:CX$7 < 20000 * C18:CX18) * C18:CX18)} -> 0 | DC18: {=SUMPRODUCT((C18:CX18>0) * (C$7:CX$7 >= 20000 * C18:CX18) * (C$7:CX$7 < 50000 * C18:CX18) * C18:CX18)} -> 0 | DD18: {=SUMPRODUCT((C18:CX18>0) * (C$7:CX$7 >= 50000 * C18:CX18) * C18:CX18)} -> 0 | DE18: ='①-2入力シート（宿泊人数）【室】'!DA18 -> 0 | DF18: =DA18+DE18 -> 0 | DG18: =COUNTIF(C18:CX18, ">0") -> 0
B19: 11 | C19: ='①-2入力シート（宿泊人数）【室】'!C19 -> 0 | D19: ='①-2入力シート（宿泊人数）【室】'!D19 -> 0 | E19: ='①-2入力シート（宿泊人数）【室】'!E19 -> 0 | F19: ='①-2入力シート（宿泊人数）【室】'!F19 -> 0 | G19: ='①-2入力シート（宿泊人数）【室】'!G19 -> 0 | H19: ='①-2入力シート（宿泊人数）【室】'!H19 -> 0 | I19: ='①-2入力シート（宿泊人数）【室】'!I19 -> 0 | J19: ='①-2入力シート（宿泊人数）【室】'!J19 -> 0 | ... CX19: ='①-2入力シート（宿泊人数）【室】'!CX19 -> 0 | CY19: =SUM(C19:CX19) -> 0 | DA19: =CY19 -> 0 | DB19: {=SUMPRODUCT((C19:CX19>0) * (C$7:CX$7 < 20000 * C19:CX19) * C19:CX19)} -> 0 | DC19: {=SUMPRODUCT((C19:CX19>0) * (C$7:CX$7 >= 20000 * C19:CX19) * (C$7:CX$7 < 50000 * C19:CX19) * C19:CX19)} -> 0 | DD19: {=SUMPRODUCT((C19:CX19>0) * (C$7:CX$7 >= 50000 * C19:CX19) * C19:CX19)} -> 0 | DE19: ='①-2入力シート（宿泊人数）【室】'!DA19 -> 0 | DF19: =DA19+DE19 -> 0 | DG19: =COUNTIF(C19:CX19, ">0") -> 0
B20: 12 | C20: ='①-2入力シート（宿泊人数）【室】'!C20 -> 0 | D20: ='①-2入力シート（宿泊人数）【室】'!D20 -> 0 | E20: ='①-2入力シート（宿泊人数）【室】'!E20 -> 0 | F20: ='①-2入力シート（宿泊人数）【室】'!F20 -> 0 | G20: ='①-2入力シート（宿泊人数）【室】'!G20 -> 0 | H20: ='①-2入力シート（宿泊人数）【室】'!H20 -> 0 | I20: ='①-2入力シート（宿泊人数）【室】'!I20 -> 0 | J20: ='①-2入力シート（宿泊人数）【室】'!J20 -> 0 | ... CX20: ='①-2入力シート（宿泊人数）【室】'!CX20 -> 0 | CY20: =SUM(C20:CX20) -> 0 | DA20: =CY20 -> 0 | DB20: {=SUMPRODUCT((C20:CX20>0) * (C$7:CX$7 < 20000 * C20:CX20) * C20:CX20)} -> 0 | DC20: {=SUMPRODUCT((C20:CX20>0) * (C$7:CX$7 >= 20000 * C20:CX20) * (C$7:CX$7 < 50000 * C20:CX20) * C20:CX20)} -> 0 | DD20: {=SUMPRODUCT((C20:CX20>0) * (C$7:CX$7 >= 50000 * C20:CX20) * C20:CX20)} -> 0 | DE20: ='①-2入力シート（宿泊人数）【室】'!DA20 -> 0 | DF20: =DA20+DE20 -> 0 | DG20: =COUNTIF(C20:CX20, ">0") -> 0
B21: 13 | C21: ='①-2入力シート（宿泊人数）【室】'!C21 -> 0 | D21: ='①-2入力シート（宿泊人数）【室】'!D21 -> 0 | E21: ='①-2入力シート（宿泊人数）【室】'!E21 -> 0 | F21: ='①-2入力シート（宿泊人数）【室】'!F21 -> 0 | G21: ='①-2入力シート（宿泊人数）【室】'!G21 -> 0 | H21: ='①-2入力シート（宿泊人数）【室】'!H21 -> 0 | I21: ='①-2入力シート（宿泊人数）【室】'!I21 -> 0 | J21: ='①-2入力シート（宿泊人数）【室】'!J21 -> 0 | ... CX21: ='①-2入力シート（宿泊人数）【室】'!CX21 -> 0 | CY21: =SUM(C21:CX21) -> 0 | DA21: =CY21 -> 0 | DB21: {=SUMPRODUCT((C21:CX21>0) * (C$7:CX$7 < 20000 * C21:CX21) * C21:CX21)} -> 0 | DC21: {=SUMPRODUCT((C21:CX21>0) * (C$7:CX$7 >= 20000 * C21:CX21) * (C$7:CX$7 < 50000 * C21:CX21) * C21:CX21)} -> 0 | DD21: {=SUMPRODUCT((C21:CX21>0) * (C$7:CX$7 >= 50000 * C21:CX21) * C21:CX21)} -> 0 | DE21: ='①-2入力シート（宿泊人数）【室】'!DA21 -> 0 | DF21: =DA21+DE21 -> 0 | DG21: =COUNTIF(C21:CX21, ">0") -> 0
... B39: 31 | C39: ='①-2入力シート（宿泊人数）【室】'!C39 -> 0 | D39: ='①-2入力シート（宿泊人数）【室】'!D39 -> 0 | E39: ='①-2入力シート（宿泊人数）【室】'!E39 -> 0 | F39: ='①-2入力シート（宿泊人数）【室】'!F39 -> 0 | G39: ='①-2入力シート（宿泊人数）【室】'!G39 -> 0 | H39: ='①-2入力シート（宿泊人数）【室】'!H39 -> 0 | I39: ='①-2入力シート（宿泊人数）【室】'!I39 -> 0 | J39: ='①-2入力シート（宿泊人数）【室】'!J39 -> 0 | ... CX39: ='①-2入力シート（宿泊人数）【室】'!CX39 -> 0 | CY39: =SUM(C39:CX39) -> 0 | DA39: =CY39 -> 0 | DB39: {=SUMPRODUCT((C39:CX39>0) * (C$7:CX$7 < 20000 * C39:CX39) * C39:CX39)} -> 0 | DC39: {=SUMPRODUCT((C39:CX39>0) * (C$7:CX$7 >= 20000 * C39:CX39) * (C$7:CX$7 < 50000 * C39:CX39) * C39:CX39)} -> 0 | DD39: {=SUMPRODUCT((C39:CX39>0) * (C$7:CX$7 >= 50000 * C39:CX39) * C39:CX39)} -> 0 | DE39: ='①-2入力シート（宿泊人数）【室】'!DA39 -> 0 | DF39: =DA39+DE39 -> 0 | DG39: =COUNTIF(C39:CX39, ">0") -> 0
A40: 計 | C40: ='①-2入力シート（宿泊人数）【室】'!C40 -> 0 | D40: ='①-2入力シート（宿泊人数）【室】'!D40 -> 0 | E40: ='①-2入力シート（宿泊人数）【室】'!E40 -> 0 | F40: ='①-2入力シート（宿泊人数）【室】'!F40 -> 0 | G40: ='①-2入力シート（宿泊人数）【室】'!G40 -> 0 | H40: ='①-2入力シート（宿泊人数）【室】'!H40 -> 0 | I40: ='①-2入力シート（宿泊人数）【室】'!I40 -> 0 | J40: ='①-2入力シート（宿泊人数）【室】'!J40 -> 0 | ... CX40: ='①-2入力シート（宿泊人数）【室】'!CX40 -> 0 | CY40: =SUM(CY9:CY39) -> 0 | DA40: =SUM(DA9:DA39) -> 0 | DB40: =SUM(DB9:DB39) -> 0 | DC40: =SUM(DC9:DC39) -> 0 | DD40: =SUM(DD9:DD39) -> 0 | DE40: =SUM(DE9:DE39) -> 0 | DF40: =DA40+DE40 -> 0 | DG40: =SUM(DG9:DG39) -> 0
DA41: =SUM(DB41:DD41) -> 0 | DB41: =DB40*DB8 -> 0 | DC41: =DC40*DC8 -> 0 | DD41: =DD40*DD8 -> 0

Sheet ⑤-1宿泊料金計算【1人当】
A1: ='①-1入力シート（宿泊人数）【1人当】'!A1 -> 0 | B1: 年 | C1: ='①-1入力シート（宿泊人数）【1人当】'!C1 -> 0 | D1: 月分
C2: =IF(OR(C6="", C6=0), "エラー", IF(C6>=50000, 500, IF(C6>=20000, 200, 100))) -> エラー | D2: =IF(OR(D6="", D6=0), "エラー", IF(D6>=50000, 500, IF(D6>=20000, 200, 100))) -> エラー | E2: =IF(OR(E6="", E6=0), "エラー", IF(E6>=50000, 500, IF(E6>=20000, 200, 100))) -> エラー | F2: =IF(OR(F6="", F6=0), "エラー", IF(F6>=50000, 500, IF(F6>=20000, 200, 100))) -> エラー | G2: =IF(OR(G6="", G6=0), "エラー", IF(G6>=50000, 500, IF(G6>=20000, 200, 100))) -> エラー | H2: =IF(OR(H6="", H6=0), "エラー", IF(H6>=50000, 500, IF(H6>=20000, 200, 100))) -> エラー | I2: =IF(OR(I6="", I6=0), "エラー", IF(I6>=50000, 500, IF(I6>=20000, 200, 100))) -> エラー | J2: =IF(OR(J6="", J6=0), "エラー", IF(J6>=50000, 500, IF(J6>=20000, 200, 100))) -> エラー | ... CX2: =IF(OR(CX6="", CX6=0), "エラー", IF(CX6>=50000, 500, IF(CX6>=20000, 200, 100))) -> エラー
A3: 種類 | C3: ='①-1入力シート（宿泊人数）【1人当】'!C3 -> 0 | D3: ='①-1入力シート（宿泊人数）【1人当】'!D3 -> 0 | E3: ='①-1入力シート（宿泊人数）【1人当】'!E3 -> 0 | F3: ='①-1入力シート（宿泊人数）【1人当】'!F3 -> 0 | G3: ='①-1入力シート（宿泊人数）【1人当】'!G3 -> 0 | H3: ='①-1入力シート（宿泊人数）【1人当】'!H3 -> 0 | I3: ='①-1入力シート（宿泊人数）【1人当】'!I3 -> 0 | J3: ='①-1入力シート（宿泊人数）【1人当】'!J3 -> 0 | ... CX3: ='①-1入力シート（宿泊人数）【1人当】'!CX3 -> 0 | DA3: 課税標準額 合計 | DB3: 納入税額 (定率制) 【A】 | DC3: 北海道管理分 【B】 | DG3: 差引 【A-B】
A4: 宿泊料金（税込） | C4: ='①-1入力シート（宿泊人数）【1人当】'!C4 -> 0 | D4: ='①-1入力シート（宿泊人数）【1人当】'!D4 -> 0 | E4: ='①-1入力シート（宿泊人数）【1人当】'!E4 -> 0 | F4: ='①-1入力シート（宿泊人数）【1人当】'!F4 -> 0 | G4: ='①-1入力シート（宿泊人数）【1人当】'!G4 -> 0 | H4: ='①-1入力シート（宿泊人数）【1人当】'!H4 -> 0 | I4: ='①-1入力シート（宿泊人数）【1人当】'!I4 -> 0 | J4: ='①-1入力シート（宿泊人数）【1人当】'!J4 -> 0 | ... CX4: ='①-1入力シート（宿泊人数）【1人当】'!CX4 -> 0
A5: 宿泊料金（税抜額） | C5: ='①-1入力シート（宿泊人数）【1人当】'!C5 -> 0 | D5: ='①-1入力シート（宿泊人数）【1人当】'!D5 -> 0 | E5: ='①-1入力シート（宿泊人数）【1人当】'!E5 -> 0 | F5: ='①-1入力シート（宿泊人数）【1人当】'!F5 -> 0 | G5: ='①-1入力シート（宿泊人数）【1人当】'!G5 -> 0 | H5: ='①-1入力シート（宿泊人数）【1人当】'!H5 -> 0 | I5: ='①-1入力シート（宿泊人数）【1人当】'!I5 -> 0 | J5: ='①-1入力シート（宿泊人数）【1人当】'!J5 -> 0 | ... CX5: ='①-1入力シート（宿泊人数）【1人当】'!CX5 -> 0
A6: 課税標準額 | C6: ='①-1入力シート（宿泊人数）【1人当】'!C6 -> 0 | D6: ='①-1入力シート（宿泊人数）【1人当】'!D6 -> 0 | E6: ='①-1入力シート（宿泊人数）【1人当】'!E6 -> 0 | F6: ='①-1入力シート（宿泊人数）【1人当】'!F6 -> 0 | G6: ='①-1入力シート（宿泊人数）【1人当】'!G6 -> 0 | H6: ='①-1入力シート（宿泊人数）【1人当】'!H6 -> 0 | I6: ='①-1入力シート（宿泊人数）【1人当】'!I6 -> 0 | J6: ='①-1入力シート（宿泊人数）【1人当】'!J6 -> 0 | ... CX6: ='①-1入力シート（宿泊人数）【1人当】'!CX6 -> 0 | DD6: 100 | DE6: 200 | DF6: 500
A7: 宿泊者数 | B7: 1 | C7: ='①-1入力シート（宿泊人数）【1人当】'!C7*'⑤-1宿泊料金計算【1人当】'!C$6 -> 0 | D7: ='①-1入力シート（宿泊人数）【1人当】'!D7*'⑤-1宿泊料金計算【1人当】'!D$6 -> 0 | E7: ='①-1入力シート（宿泊人数）【1人当】'!E7*'⑤-1宿泊料金計算【1人当】'!E$6 -> 0 | F7: ='①-1入力シート（宿泊人数）【1人当】'!F7*'⑤-1宿泊料金計算【1人当】'!F$6 -> 0 | G7: ='①-1入力シート（宿泊人数）【1人当】'!G7*'⑤-1宿泊料金計算【1人当】'!G$6 -> 0 | H7: ='①-1入力シート（宿泊人数）【1人当】'!H7*'⑤-1宿泊料金計算【1人当】'!H$6 -> 0 | I7: ='①-1入力シート（宿泊人数）【1人当】'!I7*'⑤-1宿泊料金計算【1人当】'!I$6 -> 0 | J7: ='①-1入力シート（宿泊人数）【1人当】'!J7*'⑤-1宿泊料金計算【1人当】'!J$6 -> 0 | ... CX7: ='①-1入力シート（宿泊人数）【1人当】'!CX7*'⑤-1宿泊料金計算【1人当】'!CX$6 -> 0 | DA7: =SUM(C7:CX7) -> 0 | DB7: =DA7*0.03 -> 0 | DC7: =SUM(DD7:DF7) -> 0 | DD7: ='①-1入力シート（宿泊人数）【1人当】'!DC7*'⑤-1宿泊料金計算【1人当】'!$DD$6 -> 0 | DE7: ='①-1入力シート（宿泊人数）【1人当】'!DD7*'⑤-1宿泊料金計算【1人当】'!$DE$6 -> 0 | DF7: ='①-1入力シート（宿泊人数）【1人当】'!DE7*'⑤-1宿泊料金計算【1人当】'!$DF$6 -> 0 | DG7: =DB7-DC7 -> 0
B8: 2 | C8: ='①-1入力シート（宿泊人数）【1人当】'!C8*'⑤-1宿泊料金計算【1人当】'!C$6 -> 0 | D8: ='①-1入力シート（宿泊人数）【1人当】'!D8*'⑤-1宿泊料金計算【1人当】'!D$6 -> 0 | E8: ='①-1入力シート（宿泊人数）【1人当】'!E8*'⑤-1宿泊料金計算【1人当】'!E$6 -> 0 | F8: ='①-1入力シート（宿泊人数）【1人当】'!F8*'⑤-1宿泊料金計算【1人当】'!F$6 -> 0 | G8: ='①-1入力シート（宿泊人数）【1人当】'!G8*'⑤-1宿泊料金計算【1人当】'!G$6 -> 0 | H8: ='①-1入力シート（宿泊人数）【1人当】'!H8*'⑤-1宿泊料金計算【1人当】'!H$6 -> 0 | I8: ='①-1入力シート（宿泊人数）【1人当】'!I8*'⑤-1宿泊料金計算【1人当】'!I$6 -> 0 | J8: ='①-1入力シート（宿泊人数）【1人当】'!J8*'⑤-1宿泊料金計算【1人当】'!J$6 -> 0 | ... CX8: ='①-1入力シート（宿泊人数）【1人当】'!CX8*'⑤-1宿泊料金計算【1人当】'!CX$6 -> 0 | DA8: =SUM(C8:CX8) -> 0 | DB8: =DA8*0.03 -> 0 | DC8: =SUM(DD8:DF8) -> 0 | DD8: ='①-1入力シート（宿泊人数）【1人当】'!DC8*'⑤-1宿泊料金計算【1人当】'!$DD$6 -> 0 | DE8: ='①-1入力シート（宿泊人数）【1人当】'!DD8*'⑤-1宿泊料金計算【1人当】'!$DE$6 -> 0 | DF8: ='①-1入力シート（宿泊人数）【1人当】'!DE8*'⑤-1宿泊料金計算【1人当】'!$DF$6 -> 0 | DG8: =DB8-DC8 -> 0
B9: 3 | C9: ='①-1入力シート（宿泊人数）【1人当】'!C9*'⑤-1宿泊料金計算【1人当】'!C$6 -> 0 | D9: ='①-1入力シート（宿泊人数）【1人当】'!D9*'⑤-1宿泊料金計算【1人当】'!D$6 -> 0 | E9: ='①-1入力シート（宿泊人数）【1人当】'!E9*'⑤-1宿泊料金計算【1人当】'!E$6 -> 0 | F9: ='①-1入力シート（宿泊人数）【1人当】'!F9*'⑤-1宿泊料金計算【1人当】'!F$6 -> 0 | G9: ='①-1入力シート（宿泊人数）【1人当】'!G9*'⑤-1宿泊料金計算【1人当】'!G$6 -> 0 | H9: ='①-1入力シート（宿泊人数）【1人当】'!H9*'⑤-1宿泊料金計算【1人当】'!H$6 -> 0 | I9: ='①-1入力シート（宿泊人数）【1人当】'!I9*'⑤-1宿泊料金計算【1人当】'!I$6 -> 0 | J9: ='①-1入力シート（宿泊人数）【1人当】'!J9*'⑤-1宿泊料金計算【1人当】'!J$6 -> 0 | ... CX9: ='①-1入力シート（宿泊人数）【1人当】'!CX9*'⑤-1宿泊料金計算【1人当】'!CX$6 -> 0 | DA9: =SUM(C9:CX9) -> 0 | DB9: =DA9*0.03 -> 0 | DC9: =SUM(DD9:DF9) -> 0 | DD9: ='①-1入力シート（宿泊人数）【1人当】'!DC9*'⑤-1宿泊料金計算【1人当】'!$DD$6 -> 0 | DE9: ='①-1入力シート（宿泊人数）【1人当】'!DD9*'⑤-1宿泊料金計算【1人当】'!$DE$6 -> 0 | DF9: ='①-1入力シート（宿泊人数）【1人当】'!DE9*'⑤-1宿泊料金計算【1人当】'!$DF$6 -> 0 | DG9: =DB9-DC9 -> 0
B10: 4 | C10: ='①-1入力シート（宿泊人数）【1人当】'!C10*'⑤-1宿泊料金計算【1人当】'!C$6 -> 0 | D10: ='①-1入力シート（宿泊人数）【1人当】'!D10*'⑤-1宿泊料金計算【1人当】'!D$6 -> 0 | E10: ='①-1入力シート（宿泊人数）【1人当】'!E10*'⑤-1宿泊料金計算【1人当】'!E$6 -> 0 | F10: ='①-1入力シート（宿泊人数）【1人当】'!F10*'⑤-1宿泊料金計算【1人当】'!F$6 -> 0 | G10: ='①-1入力シート（宿泊人数）【1人当】'!G10*'⑤-1宿泊料金計算【1人当】'!G$6 -> 0 | H10: ='①-1入力シート（宿泊人数）【1人当】'!H10*'⑤-1宿泊料金計算【1人当】'!H$6 -> 0 | I10: ='①-1入力シート（宿泊人数）【1人当】'!I10*'⑤-1宿泊料金計算【1人当】'!I$6 -> 0 | J10: ='①-1入力シート（宿泊人数）【1人当】'!J10*'⑤-1宿泊料金計算【1人当】'!J$6 -> 0 | ... CX10: ='①-1入力シート（宿泊人数）【1人当】'!CX10*'⑤-1宿泊料金計算【1人当】'!CX$6 -> 0 | DA10: =SUM(C10:CX10) -> 0 | DB10: =DA10*0.03 -> 0 | DC10: =SUM(DD10:DF10) -> 0 | DD10: ='①-1入力シート（宿泊人数）【1人当】'!DC10*'⑤-1宿泊料金計算【1人当】'!$DD$6 -> 0 | DE10: ='①-1入力シート（宿泊人数）【1人当】'!DD10*'⑤-1宿泊料金計算【1人当】'!$DE$6 -> 0 | DF10: ='①-1入力シート（宿泊人数）【1人当】'!DE10*'⑤-1宿泊料金計算【1人当】'!$DF$6 -> 0 | DG10: =DB10-DC10 -> 0
B11: 5 | C11: ='①-1入力シート（宿泊人数）【1人当】'!C11*'⑤-1宿泊料金計算【1人当】'!C$6 -> 0 | D11: ='①-1入力シート（宿泊人数）【1人当】'!D11*'⑤-1宿泊料金計算【1人当】'!D$6 -> 0 | E11: ='①-1入力シート（宿泊人数）【1人当】'!E11*'⑤-1宿泊料金計算【1人当】'!E$6 -> 0 | F11: ='①-1入力シート（宿泊人数）【1人当】'!F11*'⑤-1宿泊料金計算【1人当】'!F$6 -> 0 | G11: ='①-1入力シート（宿泊人数）【1人当】'!G11*'⑤-1宿泊料金計算【1人当】'!G$6 -> 0 | H11: ='①-1入力シート（宿泊人数）【1人当】'!H11*'⑤-1宿泊料金計算【1人当】'!H$6 -> 0 | I11: ='①-1入力シート（宿泊人数）【1人当】'!I11*'⑤-1宿泊料金計算【1人当】'!I$6 -> 0 | J11: ='①-1入力シート（宿泊人数）【1人当】'!J11*'⑤-1宿泊料金計算【1人当】'!J$6 -> 0 | ... CX11: ='①-1入力シート（宿泊人数）【1人当】'!CX11*'⑤-1宿泊料金計算【1人当】'!CX$6 -> 0 | DA11: =SUM(C11:CX11) -> 0 | DB11: =DA11*0.03 -> 0 | DC11: =SUM(DD11:DF11) -> 0 | DD11: ='①-1入力シート（宿泊人数）【1人当】'!DC11*'⑤-1宿泊料金計算【1人当】'!$DD$6 -> 0 | DE11: ='①-1入力シート（宿泊人数）【1人当】'!DD11*'⑤-1宿泊料金計算【1人当】'!$DE$6 -> 0 | DF11: ='①-1入力シート（宿泊人数）【1人当】'!DE11*'⑤-1宿泊料金計算【1人当】'!$DF$6 -> 0 | DG11: =DB11-DC11 -> 0
B12: 6 | C12: ='①-1入力シート（宿泊人数）【1人当】'!C12*'⑤-1宿泊料金計算【1人当】'!C$6 -> 0 | D12: ='①-1入力シート（宿泊人数）【1人当】'!D12*'⑤-1宿泊料金計算【1人当】'!D$6 -> 0 | E12: ='①-1入力シート（宿泊人数）【1人当】'!E12*'⑤-1宿泊料金計算【1人当】'!E$6 -> 0 | F12: ='①-1入力シート（宿泊人数）【1人当】'!F12*'⑤-1宿泊料金計算【1人当】'!F$6 -> 0 | G12: ='①-1入力シート（宿泊人数）【1人当】'!G12*'⑤-1宿泊料金計算【1人当】'!G$6 -> 0 | H12: ='①-1入力シート（宿泊人数）【1人当】'!H12*'⑤-1宿泊料金計算【1人当】'!H$6 -> 0 | I12: ='①-1入力シート（宿泊人数）【1人当】'!I12*'⑤-1宿泊料金計算【1人当】'!I$6 -> 0 | J12: ='①-1入力シート（宿泊人数）【1人当】'!J12*'⑤-1宿泊料金計算【1人当】'!J$6 -> 0 | ... CX12: ='①-1入力シート（宿泊人数）【1人当】'!CX12*'⑤-1宿泊料金計算【1人当】'!CX$6 -> 0 | DA12: =SUM(C12:CX12) -> 0 | DB12: =DA12*0.03 -> 0 | DC12: =SUM(DD12:DF12) -> 0 | DD12: ='①-1入力シート（宿泊人数）【1人当】'!DC12*'⑤-1宿泊料金計算【1人当】'!$DD$6 -> 0 | DE12: ='①-1入力シート（宿泊人数）【1人当】'!DD12*'⑤-1宿泊料金計算【1人当】'!$DE$6 -> 0 | DF12: ='①-1入力シート（宿泊人数）【1人当】'!DE12*'⑤-1宿泊料金計算【1人当】'!$DF$6 -> 0 | DG12: =DB12-DC12 -> 0
B13: 7 | C13: ='①-1入力シート（宿泊人数）【1人当】'!C13*'⑤-1宿泊料金計算【1人当】'!C$6 -> 0 | D13: ='①-1入力シート（宿泊人数）【1人当】'!D13*'⑤-1宿泊料金計算【1人当】'!D$6 -> 0 | E13: ='①-1入力シート（宿泊人数）【1人当】'!E13*'⑤-1宿泊料金計算【1人当】'!E$6 -> 0 | F13: ='①-1入力シート（宿泊人数）【1人当】'!F13*'⑤-1宿泊料金計算【1人当】'!F$6 -> 0 | G13: ='①-1入力シート（宿泊人数）【1人当】'!G13*'⑤-1宿泊料金計算【1人当】'!G$6 -> 0 | H13: ='①-1入力シート（宿泊人数）【1人当】'!H13*'⑤-1宿泊料金計算【1人当】'!H$6 -> 0 | I13: ='①-1入力シート（宿泊人数）【1人当】'!I13*'⑤-1宿泊料金計算【1人当】'!I$6 -> 0 | J13: ='①-1入力シート（宿泊人数）【1人当】'!J13*'⑤-1宿泊料金計算【1人当】'!J$6 -> 0 | ... CX13: ='①-1入力シート（宿泊人数）【1人当】'!CX13*'⑤-1宿泊料金計算【1人当】'!CX$6 -> 0 | DA13: =SUM(C13:CX13) -> 0 | DB13: =DA13*0.03 -> 0 | DC13: =SUM(DD13:DF13) -> 0 | DD13: ='①-1入力シート（宿泊人数）【1人当】'!DC13*'⑤-1宿泊料金計算【1人当】'!$DD$6 -> 0 | DE13: ='①-1入力シート（宿泊人数）【1人当】'!DD13*'⑤-1宿泊料金計算【1人当】'!$DE$6 -> 0 | DF13: ='①-1入力シート（宿泊人数）【1人当】'!DE13*'⑤-1宿泊料金計算【1人当】'!$DF$6 -> 0 | DG13: =DB13-DC13 -> 0
B14: 8 | C14: ='①-1入力シート（宿泊人数）【1人当】'!C14*'⑤-1宿泊料金計算【1人当】'!C$6 -> 0 | D14: ='①-1入力シート（宿泊人数）【1人当】'!D14*'⑤-1宿泊料金計算【1人当】'!D$6 -> 0 | E14: ='①-1入力シート（宿泊人数）【1人当】'!E14*'⑤-1宿泊料金計算【1人当】'!E$6 -> 0 | F14: ='①-1入力シート（宿泊人数）【1人当】'!F14*'⑤-1宿泊料金計算【1人当】'!F$6 -> 0 | G14: ='①-1入力シート（宿泊人数）【1人当】'!G14*'⑤-1宿泊料金計算【1人当】'!G$6 -> 0 | H14: ='①-1入力シート（宿泊人数）【1人当】'!H14*'⑤-1宿泊料金計算【1人当】'!H$6 -> 0 | I14: ='①-1入力シート（宿泊人数）【1人当】'!I14*'⑤-1宿泊料金計算【1人当】'!I$6 -> 0 | J14: ='①-1入力シート（宿泊人数）【1人当】'!J14*'⑤-1宿泊料金計算【1人当】'!J$6 -> 0 | ... CX14: ='①-1入力シート（宿泊人数）【1人当】'!CX14*'⑤-1宿泊料金計算【1人当】'!CX$6 -> 0 | DA14: =SUM(C14:CX14) -> 0 | DB14: =DA14*0.03 -> 0 | DC14: =SUM(DD14:DF14) -> 0 | DD14: ='①-1入力シート（宿泊人数）【1人当】'!DC14*'⑤-1宿泊料金計算【1人当】'!$DD$6 -> 0 | DE14: ='①-1入力シート（宿泊人数）【1人当】'!DD14*'⑤-1宿泊料金計算【1人当】'!$DE$6 -> 0 | DF14: ='①-1入力シート（宿泊人数）【1人当】'!DE14*'⑤-1宿泊料金計算【1人当】'!$DF$6 -> 0 | DG14: =DB14-DC14 -> 0
B15: 9 | C15: ='①-1入力シート（宿泊人数）【1人当】'!C15*'⑤-1宿泊料金計算【1人当】'!C$6 -> 0 | D15: ='①-1入力シート（宿泊人数）【1人当】'!D15*'⑤-1宿泊料金計算【1人当】'!D$6 -> 0 | E15: ='①-1入力シート（宿泊人数）【1人当】'!E15*'⑤-1宿泊料金計算【1人当】'!E$6 -> 0 | F15: ='①-1入力シート（宿泊人数）【1人当】'!F15*'⑤-1宿泊料金計算【1人当】'!F$6 -> 0 | G15: ='①-1入力シート（宿泊人数）【1人当】'!G15*'⑤-1宿泊料金計算【1人当】'!G$6 -> 0 | H15: ='①-1入力シート（宿泊人数）【1人当】'!H15*'⑤-1宿泊料金計算【1人当】'!H$6 -> 0 | I15: ='①-1入力シート（宿泊人数）【1人当】'!I15*'⑤-1宿泊料金計算【1人当】'!I$6 -> 0 | J15: ='①-1入力シート（宿泊人数）【1人当】'!J15*'⑤-1宿泊料金計算【1人当】'!J$6 -> 0 | ... CX15: ='①-1入力シート（宿泊人数）【1人当】'!CX15*'⑤-1宿泊料金計算【1人当】'!CX$6 -> 0 | DA15: =SUM(C15:CX15) -> 0 | DB15: =DA15*0.03 -> 0 | DC15: =SUM(DD15:DF15) -> 0 | DD15: ='①-1入力シート（宿泊人数）【1人当】'!DC15*'⑤-1宿泊料金計算【1人当】'!$DD$6 -> 0 | DE15: ='①-1入力シート（宿泊人数）【1人当】'!DD15*'⑤-1宿泊料金計算【1人当】'!$DE$6 -> 0 | DF15: ='①-1入力シート（宿泊人数）【1人当】'!DE15*'⑤-1宿泊料金計算【1人当】'!$DF$6 -> 0 | DG15: =DB15-DC15 -> 0
B16: 10 | C16: ='①-1入力シート（宿泊人数）【1人当】'!C16*'⑤-1宿泊料金計算【1人当】'!C$6 -> 0 | D16: ='①-1入力シート（宿泊人数）【1人当】'!D16*'⑤-1宿泊料金計算【1人当】'!D$6 -> 0 | E16: ='①-1入力シート（宿泊人数）【1人当】'!E16*'⑤-1宿泊料金計算【1人当】'!E$6 -> 0 | F16: ='①-1入力シート（宿泊人数）【1人当】'!F16*'⑤-1宿泊料金計算【1人当】'!F$6 -> 0 | G16: ='①-1入力シート（宿泊人数）【1人当】'!G16*'⑤-1宿泊料金計算【1人当】'!G$6 -> 0 | H16: ='①-1入力シート（宿泊人数）【1人当】'!H16*'⑤-1宿泊料金計算【1人当】'!H$6 -> 0 | I16: ='①-1入力シート（宿泊人数）【1人当】'!I16*'⑤-1宿泊料金計算【1人当】'!I$6 -> 0 | J16: ='①-1入力シート（宿泊人数）【1人当】'!J16*'⑤-1宿泊料金計算【1人当】'!J$6 -> 0 | ... CX16: ='①-1入力シート（宿泊人数）【1人当】'!CX16*'⑤-1宿泊料金計算【1人当】'!CX$6 -> 0 | DA16: =SUM(C16:CX16) -> 0 | DB16: =DA16*0.03 -> 0 | DC16: =SUM(DD16:DF16) -> 0 | DD16: ='①-1入力シート（宿泊人数）【1人当】'!DC16*'⑤-1宿泊料金計算【1人当】'!$DD$6 -> 0 | DE16: ='①-1入力シート（宿泊人数）【1人当】'!DD16*'⑤-1宿泊料金計算【1人当】'!$DE$6 -> 0 | DF16: ='①-1入力シート（宿泊人数）【1人当】'!DE16*'⑤-1宿泊料金計算【1人当】'!$DF$6 -> 0 | DG16: =DB16-DC16 -> 0
B17: 11 | C17: ='①-1入力シート（宿泊人数）【1人当】'!C17*'⑤-1宿泊料金計算【1人当】'!C$6 -> 0 | D17: ='①-1入力シート（宿泊人数）【1人当】'!D17*'⑤-1宿泊料金計算【1人当】'!D$6 -> 0 | E17: ='①-1入力シート（宿泊人数）【1人当】'!E17*'⑤-1宿泊料金計算【1人当】'!E$6 -> 0 | F17: ='①-1入力シート（宿泊人数）【1人当】'!F17*'⑤-1宿泊料金計算【1人当】'!F$6 -> 0 | G17: ='①-1入力シート（宿泊人数）【1人当】'!G17*'⑤-1宿泊料金計算【1人当】'!G$6 -> 0 | H17: ='①-1入力シート（宿泊人数）【1人当】'!H17*'⑤-1宿泊料金計算【1人当】'!H$6 -> 0 | I17: ='①-1入力シート（宿泊人数）【1人当】'!I17*'⑤-1宿泊料金計算【1人当】'!I$6 -> 0 | J17: ='①-1入力シート（宿泊人数）【1人当】'!J17*'⑤-1宿泊料金計算【1人当】'!J$6 -> 0 | ... CX17: ='①-1入力シート（宿泊人数）【1人当】'!CX17*'⑤-1宿泊料金計算【1人当】'!CX$6 -> 0 | DA17: =SUM(C17:CX17) -> 0 | DB17: =DA17*0.03 -> 0 | DC17: =SUM(DD17:DF17) -> 0 | DD17: ='①-1入力シート（宿泊人数）【1人当】'!DC17*'⑤-1宿泊料金計算【1人当】'!$DD$6 -> 0 | DE17: ='①-1入力シート（宿泊人数）【1人当】'!DD17*'⑤-1宿泊料金計算【1人当】'!$DE$6 -> 0 | DF17: ='①-1入力シート（宿泊人数）【1人当】'!DE17*'⑤-1宿泊料金計算【1人当】'!$DF$6 -> 0 | DG17: =DB17-DC17 -> 0
B18: 12 | C18: ='①-1入力シート（宿泊人数）【1人当】'!C18*'⑤-1宿泊料金計算【1人当】'!C$6 -> 0 | D18: ='①-1入力シート（宿泊人数）【1人当】'!D18*'⑤-1宿泊料金計算【1人当】'!D$6 -> 0 | E18: ='①-1入力シート（宿泊人数）【1人当】'!E18*'⑤-1宿泊料金計算【1人当】'!E$6 -> 0 | F18: ='①-1入力シート（宿泊人数）【1人当】'!F18*'⑤-1宿泊料金計算【1人当】'!F$6 -> 0 | G18: ='①-1入力シート（宿泊人数）【1人当】'!G18*'⑤-1宿泊料金計算【1人当】'!G$6 -> 0 | H18: ='①-1入力シート（宿泊人数）【1人当】'!H18*'⑤-1宿泊料金計算【1人当】'!H$6 -> 0 | I18: ='①-1入力シート（宿泊人数）【1人当】'!I18*'⑤-1宿泊料金計算【1人当】'!I$6 -> 0 | J18: ='①-1入力シート（宿泊人数）【1人当】'!J18*'⑤-1宿泊料金計算【1人当】'!J$6 -> 0 | ... CX18: ='①-1入力シート（宿泊人数）【1人当】'!CX18*'⑤-1宿泊料金計算【1人当】'!CX$6 -> 0 | DA18: =SUM(C18:CX18) -> 0 | DB18: =DA18*0.03 -> 0 | DC18: =SUM(DD18:DF18) -> 0 | DD18: ='①-1入力シート（宿泊人数）【1人当】'!DC18*'⑤-1宿泊料金計算【1人当】'!$DD$6 -> 0 | DE18: ='①-1入力シート（宿泊人数）【1人当】'!DD18*'⑤-1宿泊料金計算【1人当】'!$DE$6 -> 0 | DF18: ='①-1入力シート（宿泊人数）【1人当】'!DE18*'⑤-1宿泊料金計算【1人当】'!$DF$6 -> 0 | DG18: =DB18-DC18 -> 0
B19: 13 | C19: ='①-1入力シート（宿泊人数）【1人当】'!C19*'⑤-1宿泊料金計算【1人当】'!C$6 -> 0 | D19: ='①-1入力シート（宿泊人数）【1人当】'!D19*'⑤-1宿泊料金計算【1人当】'!D$6 -> 0 | E19: ='①-1入力シート（宿泊人数）【1人当】'!E19*'⑤-1宿泊料金計算【1人当】'!E$6 -> 0 | F19: ='①-1入力シート（宿泊人数）【1人当】'!F19*'⑤-1宿泊料金計算【1人当】'!F$6 -> 0 | G19: ='①-1入力シート（宿泊人数）【1人当】'!G19*'⑤-1宿泊料金計算【1人当】'!G$6 -> 0 | H19: ='①-1入力シート（宿泊人数）【1人当】'!H19*'⑤-1宿泊料金計算【1人当】'!H$6 -> 0 | I19: ='①-1入力シート（宿泊人数）【1人当】'!I19*'⑤-1宿泊料金計算【1人当】'!I$6 -> 0 | J19: ='①-1入力シート（宿泊人数）【1人当】'!J19*'⑤-1宿泊料金計算【1人当】'!J$6 -> 0 | ... CX19: ='①-1入力シート（宿泊人数）【1人当】'!CX19*'⑤-1宿泊料金計算【1人当】'!CX$6 -> 0 | DA19: =SUM(C19:CX19) -> 0 | DB19: =DA19*0.03 -> 0 | DC19: =SUM(DD19:DF19) -> 0 | DD19: ='①-1入力シート（宿泊人数）【1人当】'!DC19*'⑤-1宿泊料金計算【1人当】'!$DD$6 -> 0 | DE19: ='①-1入力シート（宿泊人数）【1人当】'!DD19*'⑤-1宿泊料金計算【1人当】'!$DE$6 -> 0 | DF19: ='①-1入力シート（宿泊人数）【1人当】'!DE19*'⑤-1宿泊料金計算【1人当】'!$DF$6 -> 0 | DG19: =DB19-DC19 -> 0
... B37: 31 | C37: ='①-1入力シート（宿泊人数）【1人当】'!C37*'⑤-1宿泊料金計算【1人当】'!C$6 -> 0 | D37: ='①-1入力シート（宿泊人数）【1人当】'!D37*'⑤-1宿泊料金計算【1人当】'!D$6 -> 0 | E37: ='①-1入力シート（宿泊人数）【1人当】'!E37*'⑤-1宿泊料金計算【1人当】'!E$6 -> 0 | F37: ='①-1入力シート（宿泊人数）【1人当】'!F37*'⑤-1宿泊料金計算【1人当】'!F$6 -> 0 | G37: ='①-1入力シート（宿泊人数）【1人当】'!G37*'⑤-1宿泊料金計算【1人当】'!G$6 -> 0 | H37: ='①-1入力シート（宿泊人数）【1人当】'!H37*'⑤-1宿泊料金計算【1人当】'!H$6 -> 0 | I37: ='①-1入力シート（宿泊人数）【1人当】'!I37*'⑤-1宿泊料金計算【1人当】'!I$6 -> 0 | J37: ='①-1入力シート（宿泊人数）【1人当】'!J37*'⑤-1宿泊料金計算【1人当】'!J$6 -> 0 | ... CX37: ='①-1入力シート（宿泊人数）【1人当】'!CX37*'⑤-1宿泊料金計算【1人当】'!CX$6 -> 0 | DA37: =SUM(C37:CX37) -> 0 | DB37: =DA37*0.03 -> 0 | DC37: =SUM(DD37:DF37) -> 0 | DD37: ='①-1入力シート（宿泊人数）【1人当】'!DC37*'⑤-1宿泊料金計算【1人当】'!$DD$6 -> 0 | DE37: ='①-1入力シート（宿泊人数）【1人当】'!DD37*'⑤-1宿泊料金計算【1人当】'!$DE$6 -> 0 | DF37: ='①-1入力シート（宿泊人数）【1人当】'!DE37*'⑤-1宿泊料金計算【1人当】'!$DF$6 -> 0 | DG37: =DB37-DC37 -> 0
A38: 計 | C38: =SUM(C7:C37) -> 0 | D38: =SUM(D7:D37) -> 0 | E38: =SUM(E7:E37) -> 0 | F38: =SUM(F7:F37) -> 0 | G38: =SUM(G7:G37) -> 0 | H38: =SUM(H7:H37) -> 0 | I38: =SUM(I7:I37) -> 0 | J38: =SUM(J7:J37) -> 0 | ... CX38: =SUM(CX7:CX37) -> 0 | DA38: =SUM(DA7:DA37) -> 0 | DB38: =SUM(DB7:DB37) -> 0 | DC38: =SUM(DC7:DC37) -> 0 | DD38: =SUM(DD7:DD37) -> 0 | DE38: =SUM(DE7:DE37) -> 0 | DF38: =SUM(DF7:DF37) -> 0 | DG38: =SUM(DG7:DG37) -> 0

Sheet ⑤-2宿泊料金計算【室】
A1: ='①-1入力シート（宿泊人数）【1人当】'!A1 -> 0 | B1: 年 | C1: ='①-1入力シート（宿泊人数）【1人当】'!C1 -> 0 | D1: 月分
C2: 1 | D2: 2 | E2: 3 | F2: 4 | G2: 5 | H2: 6 | I2: 7 | J2: 8 | K2: 9 | L2: 10 | M2: 11 | N2: 12 | O2: 13 | P2: 14 | Q2: 15 | R2: 16 | S2: 17 | T2: 18 | U2: 19 | V2: 20 | W2: 21 | X2: 22 | Y2: 23 | Z2: 24 | AA2: 25 | AB2: 26 | AC2: 27 | AD2: 28 | AE2: 29 | AF2: 30 | AG2: 31 | AH2: 32 | AI2: 33 | AJ2: 34 | AK2: 35 | AL2: 36 | AM2: 37 | AN2: 38 | AO2: 39 | AP2: 40 | AQ2: 41 | AR2: 42 | AS2: 43 | AT2: 44 | AU2: 45 | AV2: 46 | AW2: 47 | AX2: 48 | AY2: 49 | AZ2: 50 | BA2: 51 | BB2: 52 | BC2: 53 | BD2: 54 | BE2: 55 | BF2: 56 | BG2: 57 | BH2: 58 | BI2: 59 | BJ2: 60 | BK2: 61 | BL2: 62 | BM2: 63 | BN2: 64 | BO2: 65 | BP2: 66 | BQ2: 67 | BR2: 68 | BS2: 69 | BT2: 70 | BU2: 71 | BV2: 72 | BW2: 73 | BX2: 74 | BY2: 75 | BZ2: 76 | CA2: 77 | CB2: 78 | CC2: 79 | CD2: 80 | CE2: 81 | CF2: 82 | CG2: 83 | CH2: 84 | CI2: 85 | CJ2: 86 | CK2: 87 | CL2: 88 | CM2: 89 | CN2: 90 | CO2: 91 | CP2: 92 | CQ2: 93 | CR2: 94 | CS2: 95 | CT2: 96 | CU2: 97 | CV2: 98 | CW2: 99 | CX2: 100
A3: 建物名 | C3: ='①-2入力シート（宿泊人数）【室】'!C3 -> 0 | CY3: 合計 課税 標準額
A4: 種類 | C4: ='①-2入力シート（宿泊人数）【室】'!C4 -> 0 | D4: ='①-2入力シート（宿泊人数）【室】'!D4 -> 0 | E4: ='①-2入力シート（宿泊人数）【室】'!E4 -> 0 | F4: ='①-2入力シート（宿泊人数）【室】'!F4 -> 0 | G4: ='①-2入力シート（宿泊人数）【室】'!G4 -> 0 | H4: ='①-2入力シート（宿泊人数）【室】'!H4 -> 0 | I4: ='①-2入力シート（宿泊人数）【室】'!I4 -> 0 | J4: ='①-2入力シート（宿泊人数）【室】'!J4 -> 0 | ... CX4: ='①-2入力シート（宿泊人数）【室】'!CX4 -> 0 | DA4: 課税標準 計
A5: 宿泊料金（税込） | C5: ='①-2入力シート（宿泊人数）【室】'!C5 -> 0 | D5: ='①-2入力シート（宿泊人数）【室】'!D5 -> 0 | E5: ='①-2入力シート（宿泊人数）【室】'!E5 -> 0 | F5: ='①-2入力シート（宿泊人数）【室】'!F5 -> 0 | G5: ='①-2入力シート（宿泊人数）【室】'!G5 -> 0 | H5: ='①-2入力シート（宿泊人数）【室】'!H5 -> 0 | I5: ='①-2入力シート（宿泊人数）【室】'!I5 -> 0 | J5: ='①-2入力シート（宿泊人数）【室】'!J5 -> 0 | ... CX5: ='①-2入力シート（宿泊人数）【室】'!CX5 -> 0
A6: 宿泊料金（税抜額） | C6: =C5/1.1 -> 0 | D6: =D5/1.1 -> 0 | E6: =E5/1.1 -> 0 | F6: =F5/1.1 -> 0 | G6: =G5/1.1 -> 0 | H6: =H5/1.1 -> 0 | I6: =I5/1.1 -> 0 | J6: =J5/1.1 -> 0 | ... CX6: =CX5/1.1 -> 0
A7: 課税標準額 | C7: =ROUNDDOWN(C$6,-2) -> 0 | D7: =ROUNDDOWN(D$6,-2) -> 0 | E7: =ROUNDDOWN(E$6,-2) -> 0 | F7: =ROUNDDOWN(F$6,-2) -> 0 | G7: =ROUNDDOWN(G$6,-2) -> 0 | H7: =ROUNDDOWN(H$6,-2) -> 0 | I7: =ROUNDDOWN(I$6,-2) -> 0 | J7: =ROUNDDOWN(J$6,-2) -> 0 | ... CX7: =ROUNDDOWN(CX$6,-2) -> 0
A8: 室数 | C8: ='①-2入力シート（宿泊人数）【室】'!C8 -> 0
A9: 課税標準額 | B9: 1 | C9: =IF('①-2入力シート（宿泊人数）【室】'!C9>0, C$7, 0) -> 0 | D9: =IF('①-2入力シート（宿泊人数）【室】'!D9>0, D$7, 0) -> 0 | E9: =IF('①-2入力シート（宿泊人数）【室】'!E9>0, E$7, 0) -> 0 | F9: =IF('①-2入力シート（宿泊人数）【室】'!F9>0, F$7, 0) -> 0 | G9: =IF('①-2入力シート（宿泊人数）【室】'!G9>0, G$7, 0) -> 0 | H9: =IF('①-2入力シート（宿泊人数）【室】'!H9>0, H$7, 0) -> 0 | I9: =IF('①-2入力シート（宿泊人数）【室】'!I9>0, I$7, 0) -> 0 | J9: =IF('①-2入力シート（宿泊人数）【室】'!J9>0, J$7, 0) -> 0 | ... CX9: =IF('①-2入力シート（宿泊人数）【室】'!CX9>0, CX$7, 0) -> 0 | CY9: =SUM(C9:CX9) -> 0 | DA9: =CY9 -> 0
B10: 2 | C10: =IF('①-2入力シート（宿泊人数）【室】'!C10>0, C$7, 0) -> 0 | D10: =IF('①-2入力シート（宿泊人数）【室】'!D10>0, D$7, 0) -> 0 | E10: =IF('①-2入力シート（宿泊人数）【室】'!E10>0, E$7, 0) -> 0 | F10: =IF('①-2入力シート（宿泊人数）【室】'!F10>0, F$7, 0) -> 0 | G10: =IF('①-2入力シート（宿泊人数）【室】'!G10>0, G$7, 0) -> 0 | H10: =IF('①-2入力シート（宿泊人数）【室】'!H10>0, H$7, 0) -> 0 | I10: =IF('①-2入力シート（宿泊人数）【室】'!I10>0, I$7, 0) -> 0 | J10: =IF('①-2入力シート（宿泊人数）【室】'!J10>0, J$7, 0) -> 0 | ... CX10: =IF('①-2入力シート（宿泊人数）【室】'!CX10>0, CX$7, 0) -> 0 | CY10: =SUM(C10:CX10) -> 0 | DA10: =CY10 -> 0
B11: 3 | C11: =IF('①-2入力シート（宿泊人数）【室】'!C11>0, C$7, 0) -> 0 | D11: =IF('①-2入力シート（宿泊人数）【室】'!D11>0, D$7, 0) -> 0 | E11: =IF('①-2入力シート（宿泊人数）【室】'!E11>0, E$7, 0) -> 0 | F11: =IF('①-2入力シート（宿泊人数）【室】'!F11>0, F$7, 0) -> 0 | G11: =IF('①-2入力シート（宿泊人数）【室】'!G11>0, G$7, 0) -> 0 | H11: =IF('①-2入力シート（宿泊人数）【室】'!H11>0, H$7, 0) -> 0 | I11: =IF('①-2入力シート（宿泊人数）【室】'!I11>0, I$7, 0) -> 0 | J11: =IF('①-2入力シート（宿泊人数）【室】'!J11>0, J$7, 0) -> 0 | ... CX11: =IF('①-2入力シート（宿泊人数）【室】'!CX11>0, CX$7, 0) -> 0 | CY11: =SUM(C11:CX11) -> 0 | DA11: =CY11 -> 0
B12: 4 | C12: =IF('①-2入力シート（宿泊人数）【室】'!C12>0, C$7, 0) -> 0 | D12: =IF('①-2入力シート（宿泊人数）【室】'!D12>0, D$7, 0) -> 0 | E12: =IF('①-2入力シート（宿泊人数）【室】'!E12>0, E$7, 0) -> 0 | F12: =IF('①-2入力シート（宿泊人数）【室】'!F12>0, F$7, 0) -> 0 | G12: =IF('①-2入力シート（宿泊人数）【室】'!G12>0, G$7, 0) -> 0 | H12: =IF('①-2入力シート（宿泊人数）【室】'!H12>0, H$7, 0) -> 0 | I12: =IF('①-2入力シート（宿泊人数）【室】'!I12>0, I$7, 0) -> 0 | J12: =IF('①-2入力シート（宿泊人数）【室】'!J12>0, J$7, 0) -> 0 | ... CX12: =IF('①-2入力シート（宿泊人数）【室】'!CX12>0, CX$7, 0) -> 0 | CY12: =SUM(C12:CX12) -> 0 | DA12: =CY12 -> 0
B13: 5 | C13: =IF('①-2入力シート（宿泊人数）【室】'!C13>0, C$7, 0) -> 0 | D13: =IF('①-2入力シート（宿泊人数）【室】'!D13>0, D$7, 0) -> 0 | E13: =IF('①-2入力シート（宿泊人数）【室】'!E13>0, E$7, 0) -> 0 | F13: =IF('①-2入力シート（宿泊人数）【室】'!F13>0, F$7, 0) -> 0 | G13: =IF('①-2入力シート（宿泊人数）【室】'!G13>0, G$7, 0) -> 0 | H13: =IF('①-2入力シート（宿泊人数）【室】'!H13>0, H$7, 0) -> 0 | I13: =IF('①-2入力シート（宿泊人数）【室】'!I13>0, I$7, 0) -> 0 | J13: =IF('①-2入力シート（宿泊人数）【室】'!J13>0, J$7, 0) -> 0 | ... CX13: =IF('①-2入力シート（宿泊人数）【室】'!CX13>0, CX$7, 0) -> 0 | CY13: =SUM(C13:CX13) -> 0 | DA13: =CY13 -> 0
B14: 6 | C14: =IF('①-2入力シート（宿泊人数）【室】'!C14>0, C$7, 0) -> 0 | D14: =IF('①-2入力シート（宿泊人数）【室】'!D14>0, D$7, 0) -> 0 | E14: =IF('①-2入力シート（宿泊人数）【室】'!E14>0, E$7, 0) -> 0 | F14: =IF('①-2入力シート（宿泊人数）【室】'!F14>0, F$7, 0) -> 0 | G14: =IF('①-2入力シート（宿泊人数）【室】'!G14>0, G$7, 0) -> 0 | H14: =IF('①-2入力シート（宿泊人数）【室】'!H14>0, H$7, 0) -> 0 | I14: =IF('①-2入力シート（宿泊人数）【室】'!I14>0, I$7, 0) -> 0 | J14: =IF('①-2入力シート（宿泊人数）【室】'!J14>0, J$7, 0) -> 0 | ... CX14: =IF('①-2入力シート（宿泊人数）【室】'!CX14>0, CX$7, 0) -> 0 | CY14: =SUM(C14:CX14) -> 0 | DA14: =CY14 -> 0
B15: 7 | C15: =IF('①-2入力シート（宿泊人数）【室】'!C15>0, C$7, 0) -> 0 | D15: =IF('①-2入力シート（宿泊人数）【室】'!D15>0, D$7, 0) -> 0 | E15: =IF('①-2入力シート（宿泊人数）【室】'!E15>0, E$7, 0) -> 0 | F15: =IF('①-2入力シート（宿泊人数）【室】'!F15>0, F$7, 0) -> 0 | G15: =IF('①-2入力シート（宿泊人数）【室】'!G15>0, G$7, 0) -> 0 | H15: =IF('①-2入力シート（宿泊人数）【室】'!H15>0, H$7, 0) -> 0 | I15: =IF('①-2入力シート（宿泊人数）【室】'!I15>0, I$7, 0) -> 0 | J15: =IF('①-2入力シート（宿泊人数）【室】'!J15>0, J$7, 0) -> 0 | ... CX15: =IF('①-2入力シート（宿泊人数）【室】'!CX15>0, CX$7, 0) -> 0 | CY15: =SUM(C15:CX15) -> 0 | DA15: =CY15 -> 0
B16: 8 | C16: =IF('①-2入力シート（宿泊人数）【室】'!C16>0, C$7, 0) -> 0 | D16: =IF('①-2入力シート（宿泊人数）【室】'!D16>0, D$7, 0) -> 0 | E16: =IF('①-2入力シート（宿泊人数）【室】'!E16>0, E$7, 0) -> 0 | F16: =IF('①-2入力シート（宿泊人数）【室】'!F16>0, F$7, 0) -> 0 | G16: =IF('①-2入力シート（宿泊人数）【室】'!G16>0, G$7, 0) -> 0 | H16: =IF('①-2入力シート（宿泊人数）【室】'!H16>0, H$7, 0) -> 0 | I16: =IF('①-2入力シート（宿泊人数）【室】'!I16>0, I$7, 0) -> 0 | J16: =IF('①-2入力シート（宿泊人数）【室】'!J16>0, J$7, 0) -> 0 | ... CX16: =IF('①-2入力シート（宿泊人数）【室】'!CX16>0, CX$7, 0) -> 0 | CY16: =SUM(C16:CX16) -> 0 | DA16: =CY16 -> 0
B17: 9 | C17: =IF('①-2入力シート（宿泊人数）【室】'!C17>0, C$7, 0) -> 0 | D17: =IF('①-2入力シート（宿泊人数）【室】'!D17>0, D$7, 0) -> 0 | E17: =IF('①-2入力シート（宿泊人数）【室】'!E17>0, E$7, 0) -> 0 | F17: =IF('①-2入力シート（宿泊人数）【室】'!F17>0, F$7, 0) -> 0 | G17: =IF('①-2入力シート（宿泊人数）【室】'!G17>0, G$7, 0) -> 0 | H17: =IF('①-2入力シート（宿泊人数）【室】'!H17>0, H$7, 0) -> 0 | I17: =IF('①-2入力シート（宿泊人数）【室】'!I17>0, I$7, 0) -> 0 | J17: =IF('①-2入力シート（宿泊人数）【室】'!J17>0, J$7, 0) -> 0 | ... CX17: =IF('①-2入力シート（宿泊人数）【室】'!CX17>0, CX$7, 0) -> 0 | CY17: =SUM(C17:CX17) -> 0 | DA17: =CY17 -> 0
B18: 10 | C18: =IF('①-2入力シート（宿泊人数）【室】'!C18>0, C$7, 0) -> 0 | D18: =IF('①-2入力シート（宿泊人数）【室】'!D18>0, D$7, 0) -> 0 | E18: =IF('①-2入力シート（宿泊人数）【室】'!E18>0, E$7, 0) -> 0 | F18: =IF('①-2入力シート（宿泊人数）【室】'!F18>0, F$7, 0) -> 0 | G18: =IF('①-2入力シート（宿泊人数）【室】'!G18>0, G$7, 0) -> 0 | H18: =IF('①-2入力シート（宿泊人数）【室】'!H18>0, H$7, 0) -> 0 | I18: =IF('①-2入力シート（宿泊人数）【室】'!I18>0, I$7, 0) -> 0 | J18: =IF('①-2入力シート（宿泊人数）【室】'!J18>0, J$7, 0) -> 0 | ... CX18: =IF('①-2入力シート（宿泊人数）【室】'!CX18>0, CX$7, 0) -> 0 | CY18: =SUM(C18:CX18) -> 0 | DA18: =CY18 -> 0
B19: 11 | C19: =IF('①-2入力シート（宿泊人数）【室】'!C19>0, C$7, 0) -> 0 | D19: =IF('①-2入力シート（宿泊人数）【室】'!D19>0, D$7, 0) -> 0 | E19: =IF('①-2入力シート（宿泊人数）【室】'!E19>0, E$7, 0) -> 0 | F19: =IF('①-2入力シート（宿泊人数）【室】'!F19>0, F$7, 0) -> 0 | G19: =IF('①-2入力シート（宿泊人数）【室】'!G19>0, G$7, 0) -> 0 | H19: =IF('①-2入力シート（宿泊人数）【室】'!H19>0, H$7, 0) -> 0 | I19: =IF('①-2入力シート（宿泊人数）【室】'!I19>0, I$7, 0) -> 0 | J19: =IF('①-2入力シート（宿泊人数）【室】'!J19>0, J$7, 0) -> 0 | ... CX19: =IF('①-2入力シート（宿泊人数）【室】'!CX19>0, CX$7, 0) -> 0 | CY19: =SUM(C19:CX19) -> 0 | DA19: =CY19 -> 0
B20: 12 | C20: =IF('①-2入力シート（宿泊人数）【室】'!C20>0, C$7, 0) -> 0 | D20: =IF('①-2入力シート（宿泊人数）【室】'!D20>0, D$7, 0) -> 0 | E20: =IF('①-2入力シート（宿泊人数）【室】'!E20>0, E$7, 0) -> 0 | F20: =IF('①-2入力シート（宿泊人数）【室】'!F20>0, F$7, 0) -> 0 | G20: =IF('①-2入力シート（宿泊人数）【室】'!G20>0, G$7, 0) -> 0 | H20: =IF('①-2入力シート（宿泊人数）【室】'!H20>0, H$7, 0) -> 0 | I20: =IF('①-2入力シート（宿泊人数）【室】'!I20>0, I$7, 0) -> 0 | J20: =IF('①-2入力シート（宿泊人数）【室】'!J20>0, J$7, 0) -> 0 | ... CX20: =IF('①-2入力シート（宿泊人数）【室】'!CX20>0, CX$7, 0) -> 0 | CY20: =SUM(C20:CX20) -> 0 | DA20: =CY20 -> 0
B21: 13 | C21: =IF('①-2入力シート（宿泊人数）【室】'!C21>0, C$7, 0) -> 0 | D21: =IF('①-2入力シート（宿泊人数）【室】'!D21>0, D$7, 0) -> 0 | E21: =IF('①-2入力シート（宿泊人数）【室】'!E21>0, E$7, 0) -> 0 | F21: =IF('①-2入力シート（宿泊人数）【室】'!F21>0, F$7, 0) -> 0 | G21: =IF('①-2入力シート（宿泊人数）【室】'!G21>0, G$7, 0) -> 0 | H21: =IF('①-2入力シート（宿泊人数）【室】'!H21>0, H$7, 0) -> 0 | I21: =IF('①-2入力シート（宿泊人数）【室】'!I21>0, I$7, 0) -> 0 | J21: =IF('①-2入力シート（宿泊人数）【室】'!J21>0, J$7, 0) -> 0 | ... CX21: =IF('①-2入力シート（宿泊人数）【室】'!CX21>0, CX$7, 0) -> 0 | CY21: =SUM(C21:CX21) -> 0 | DA21: =CY21 -> 0
... B39: 31 | C39: =IF('①-2入力シート（宿泊人数）【室】'!C39>0, C$7, 0) -> 0 | D39: =IF('①-2入力シート（宿泊人数）【室】'!D39>0, D$7, 0) -> 0 | E39: =IF('①-2入力シート（宿泊人数）【室】'!E39>0, E$7, 0) -> 0 | F39: =IF('①-2入力シート（宿泊人数）【室】'!F39>0, F$7, 0) -> 0 | G39: =IF('①-2入力シート（宿泊人数）【室】'!G39>0, G$7, 0) -> 0 | H39: =IF('①-2入力シート（宿泊人数）【室】'!H39>0, H$7, 0) -> 0 | I39: =IF('①-2入力シート（宿泊人数）【室】'!I39>0, I$7, 0) -> 0 | J39: =IF('①-2入力シート（宿泊人数）【室】'!J39>0, J$7, 0) -> 0 | ... CX39: =IF('①-2入力シート（宿泊人数）【室】'!CX39>0, CX$7, 0) -> 0 | CY39: =SUM(C39:CX39) -> 0 | DA39: =CY39 -> 0
A40: 計 | C40: =SUM(C9:C39) -> 0 | D40: =SUM(D9:D39) -> 0 | E40: =SUM(E9:E39) -> 0 | F40: =SUM(F9:F39) -> 0 | G40: =SUM(G9:G39) -> 0 | H40: =SUM(H9:H39) -> 0 | I40: =SUM(I9:I39) -> 0 | J40: =SUM(J9:J39) -> 0 | ... CY40: =SUM(CY9:CY39) -> 0 | DA40: =SUM(DA9:DA39) -> 0

Sheet ⑥-1A申告納付税額（3%）【1人当】
B1: 年 | D1: 月分 | E1: 宿泊施設番号 | J1: 宿泊施設名
C2: 1 | D2: 2 | E2: 3 | F2: 4 | G2: 5 | H2: 6 | I2: 7 | J2: 8 | K2: 9 | L2: 10 | M2: 11 | N2: 12 | O2: 13 | P2: 14 | Q2: 15 | R2: 16 | S2: 17 | T2: 18 | U2: 19 | V2: 20 | W2: 21 | X2: 22 | Y2: 23 | Z2: 24 | AA2: 25 | AB2: 26 | AC2: 27 | AD2: 28 | AE2: 29 | AF2: 30 | AG2: 31 | AH2: 32 | AI2: 33 | AJ2: 34 | AK2: 35 | AL2: 36 | AM2: 37 | AN2: 38 | AO2: 39 | AP2: 40 | AQ2: 41 | AR2: 42 | AS2: 43 | AT2: 44 | AU2: 45 | AV2: 46 | AW2: 47 | AX2: 48 | AY2: 49 | AZ2: 50 | BA2: 51 | BB2: 52 | BC2: 53 | BD2: 54 | BE2: 55 | BF2: 56 | BG2: 57 | BH2: 58 | BI2: 59 | BJ2: 60 | BK2: 61 | BL2: 62 | BM2: 63 | BN2: 64 | BO2: 65 | BP2: 66 | BQ2: 67 | BR2: 68 | BS2: 69 | BT2: 70 | BU2: 71 | BV2: 72 | BW2: 73 | BX2: 74 | BY2: 75 | BZ2: 76 | CA2: 77 | CB2: 78 | CC2: 79 | CD2: 80 | CE2: 81 | CF2: 82 | CG2: 83 | CH2: 84 | CI2: 85 | CJ2: 86 | CK2: 87 | CL2: 88 | CM2: 89 | CN2: 90 | CO2: 91 | CP2: 92 | CQ2: 93 | CR2: 94 | CS2: 95 | CT2: 96 | CU2: 97 | CV2: 98 | CW2: 99 | CX2: 100
A3: 種類 | CZ3: 課税免除
A4: 宿泊料金（税込） | C4: ='①-1入力シート（宿泊人数）【1人当】'!C4 -> 0 | D4: ='①-1入力シート（宿泊人数）【1人当】'!D4 -> 0 | E4: ='①-1入力シート（宿泊人数）【1人当】'!E4 -> 0 | F4: ='①-1入力シート（宿泊人数）【1人当】'!F4 -> 0 | G4: ='①-1入力シート（宿泊人数）【1人当】'!G4 -> 0 | H4: ='①-1入力シート（宿泊人数）【1人当】'!H4 -> 0 | I4: ='①-1入力シート（宿泊人数）【1人当】'!I4 -> 0 | J4: ='①-1入力シート（宿泊人数）【1人当】'!J4 -> 0 | ... CX4: ='①-1入力シート（宿泊人数）【1人当】'!CX4 -> 0
A5: 宿泊料金（税抜額） | C5: =C4/1.1 -> 0 | D5: =D4/1.1 -> 0 | E5: =E4/1.1 -> 0 | F5: =F4/1.1 -> 0 | G5: =G4/1.1 -> 0 | H5: =H4/1.1 -> 0 | I5: =I4/1.1 -> 0 | J5: =J4/1.1 -> 0 | ... CX5: =CX4/1.1 -> 0
A6: 課税標準額 | C6: =ROUNDDOWN(C5,-2) -> 0 | D6: =ROUNDDOWN(D5,-2) -> 0 | E6: =ROUNDDOWN(E5,-2) -> 0 | F6: =ROUNDDOWN(F5,-2) -> 0 | G6: =ROUNDDOWN(G5,-2) -> 0 | H6: =ROUNDDOWN(H5,-2) -> 0 | I6: =ROUNDDOWN(I5,-2) -> 0 | J6: =ROUNDDOWN(J5,-2) -> 0 | ... CX6: =ROUNDDOWN(CX5,-2) -> 0
A7: 宿泊者数 | B7: 1 | C7: =IF('①-1入力シート（宿泊人数）【1人当】'!C7>0, '⑤-1宿泊料金計算【1人当】'!C7 * 0.03, 0) -> 0 | D7: =IF('①-1入力シート（宿泊人数）【1人当】'!D7>0, '⑤-1宿泊料金計算【1人当】'!D7 * 0.03, 0) -> 0 | E7: =IF('①-1入力シート（宿泊人数）【1人当】'!E7>0, '⑤-1宿泊料金計算【1人当】'!E7 * 0.03, 0) -> 0 | F7: =IF('①-1入力シート（宿泊人数）【1人当】'!F7>0, '⑤-1宿泊料金計算【1人当】'!F7 * 0.03, 0) -> 0 | G7: =IF('①-1入力シート（宿泊人数）【1人当】'!G7>0, '⑤-1宿泊料金計算【1人当】'!G7 * 0.03, 0) -> 0 | H7: =IF('①-1入力シート（宿泊人数）【1人当】'!H7>0, '⑤-1宿泊料金計算【1人当】'!H7 * 0.03, 0) -> 0 | I7: =IF('①-1入力シート（宿泊人数）【1人当】'!I7>0, '⑤-1宿泊料金計算【1人当】'!I7 * 0.03, 0) -> 0 | J7: =IF('①-1入力シート（宿泊人数）【1人当】'!J7>0, '⑤-1宿泊料金計算【1人当】'!J7 * 0.03, 0) -> 0 | ... CX7: =IF('①-1入力シート（宿泊人数）【1人当】'!CX7>0, '⑤-1宿泊料金計算【1人当】'!CX7 * 0.03, 0) -> 0 | CZ7: ='①-1入力シート（宿泊人数）【1人当】'!CZ7 -> 0
B8: 2 | C8: =IF('①-1入力シート（宿泊人数）【1人当】'!C8>0, '⑤-1宿泊料金計算【1人当】'!C8 * 0.03, 0) -> 0 | D8: =IF('①-1入力シート（宿泊人数）【1人当】'!D8>0, '⑤-1宿泊料金計算【1人当】'!D8 * 0.03, 0) -> 0 | E8: =IF('①-1入力シート（宿泊人数）【1人当】'!E8>0, '⑤-1宿泊料金計算【1人当】'!E8 * 0.03, 0) -> 0 | F8: =IF('①-1入力シート（宿泊人数）【1人当】'!F8>0, '⑤-1宿泊料金計算【1人当】'!F8 * 0.03, 0) -> 0 | G8: =IF('①-1入力シート（宿泊人数）【1人当】'!G8>0, '⑤-1宿泊料金計算【1人当】'!G8 * 0.03, 0) -> 0 | H8: =IF('①-1入力シート（宿泊人数）【1人当】'!H8>0, '⑤-1宿泊料金計算【1人当】'!H8 * 0.03, 0) -> 0 | I8: =IF('①-1入力シート（宿泊人数）【1人当】'!I8>0, '⑤-1宿泊料金計算【1人当】'!I8 * 0.03, 0) -> 0 | J8: =IF('①-1入力シート（宿泊人数）【1人当】'!J8>0, '⑤-1宿泊料金計算【1人当】'!J8 * 0.03, 0) -> 0 | ... CX8: =IF('①-1入力シート（宿泊人数）【1人当】'!CX8>0, '⑤-1宿泊料金計算【1人当】'!CX8 * 0.03, 0) -> 0 | CZ8: ='①-1入力シート（宿泊人数）【1人当】'!CZ8 -> 0
B9: 3 | C9: =IF('①-1入力シート（宿泊人数）【1人当】'!C9>0, '⑤-1宿泊料金計算【1人当】'!C9 * 0.03, 0) -> 0 | D9: =IF('①-1入力シート（宿泊人数）【1人当】'!D9>0, '⑤-1宿泊料金計算【1人当】'!D9 * 0.03, 0) -> 0 | E9: =IF('①-1入力シート（宿泊人数）【1人当】'!E9>0, '⑤-1宿泊料金計算【1人当】'!E9 * 0.03, 0) -> 0 | F9: =IF('①-1入力シート（宿泊人数）【1人当】'!F9>0, '⑤-1宿泊料金計算【1人当】'!F9 * 0.03, 0) -> 0 | G9: =IF('①-1入力シート（宿泊人数）【1人当】'!G9>0, '⑤-1宿泊料金計算【1人当】'!G9 * 0.03, 0) -> 0 | H9: =IF('①-1入力シート（宿泊人数）【1人当】'!H9>0, '⑤-1宿泊料金計算【1人当】'!H9 * 0.03, 0) -> 0 | I9: =IF('①-1入力シート（宿泊人数）【1人当】'!I9>0, '⑤-1宿泊料金計算【1人当】'!I9 * 0.03, 0) -> 0 | J9: =IF('①-1入力シート（宿泊人数）【1人当】'!J9>0, '⑤-1宿泊料金計算【1人当】'!J9 * 0.03, 0) -> 0 | ... CX9: =IF('①-1入力シート（宿泊人数）【1人当】'!CX9>0, '⑤-1宿泊料金計算【1人当】'!CX9 * 0.03, 0) -> 0 | CZ9: ='①-1入力シート（宿泊人数）【1人当】'!CZ9 -> 0
B10: 4 | C10: =IF('①-1入力シート（宿泊人数）【1人当】'!C10>0, '⑤-1宿泊料金計算【1人当】'!C10 * 0.03, 0) -> 0 | D10: =IF('①-1入力シート（宿泊人数）【1人当】'!D10>0, '⑤-1宿泊料金計算【1人当】'!D10 * 0.03, 0) -> 0 | E10: =IF('①-1入力シート（宿泊人数）【1人当】'!E10>0, '⑤-1宿泊料金計算【1人当】'!E10 * 0.03, 0) -> 0 | F10: =IF('①-1入力シート（宿泊人数）【1人当】'!F10>0, '⑤-1宿泊料金計算【1人当】'!F10 * 0.03, 0) -> 0 | G10: =IF('①-1入力シート（宿泊人数）【1人当】'!G10>0, '⑤-1宿泊料金計算【1人当】'!G10 * 0.03, 0) -> 0 | H10: =IF('①-1入力シート（宿泊人数）【1人当】'!H10>0, '⑤-1宿泊料金計算【1人当】'!H10 * 0.03, 0) -> 0 | I10: =IF('①-1入力シート（宿泊人数）【1人当】'!I10>0, '⑤-1宿泊料金計算【1人当】'!I10 * 0.03, 0) -> 0 | J10: =IF('①-1入力シート（宿泊人数）【1人当】'!J10>0, '⑤-1宿泊料金計算【1人当】'!J10 * 0.03, 0) -> 0 | ... CX10: =IF('①-1入力シート（宿泊人数）【1人当】'!CX10>0, '⑤-1宿泊料金計算【1人当】'!CX10 * 0.03, 0) -> 0 | CZ10: ='①-1入力シート（宿泊人数）【1人当】'!CZ10 -> 0
B11: 5 | C11: =IF('①-1入力シート（宿泊人数）【1人当】'!C11>0, '⑤-1宿泊料金計算【1人当】'!C11 * 0.03, 0) -> 0 | D11: =IF('①-1入力シート（宿泊人数）【1人当】'!D11>0, '⑤-1宿泊料金計算【1人当】'!D11 * 0.03, 0) -> 0 | E11: =IF('①-1入力シート（宿泊人数）【1人当】'!E11>0, '⑤-1宿泊料金計算【1人当】'!E11 * 0.03, 0) -> 0 | F11: =IF('①-1入力シート（宿泊人数）【1人当】'!F11>0, '⑤-1宿泊料金計算【1人当】'!F11 * 0.03, 0) -> 0 | G11: =IF('①-1入力シート（宿泊人数）【1人当】'!G11>0, '⑤-1宿泊料金計算【1人当】'!G11 * 0.03, 0) -> 0 | H11: =IF('①-1入力シート（宿泊人数）【1人当】'!H11>0, '⑤-1宿泊料金計算【1人当】'!H11 * 0.03, 0) -> 0 | I11: =IF('①-1入力シート（宿泊人数）【1人当】'!I11>0, '⑤-1宿泊料金計算【1人当】'!I11 * 0.03, 0) -> 0 | J11: =IF('①-1入力シート（宿泊人数）【1人当】'!J11>0, '⑤-1宿泊料金計算【1人当】'!J11 * 0.03, 0) -> 0 | ... CX11: =IF('①-1入力シート（宿泊人数）【1人当】'!CX11>0, '⑤-1宿泊料金計算【1人当】'!CX11 * 0.03, 0) -> 0 | CZ11: ='①-1入力シート（宿泊人数）【1人当】'!CZ11 -> 0
B12: 6 | C12: =IF('①-1入力シート（宿泊人数）【1人当】'!C12>0, '⑤-1宿泊料金計算【1人当】'!C12 * 0.03, 0) -> 0 | D12: =IF('①-1入力シート（宿泊人数）【1人当】'!D12>0, '⑤-1宿泊料金計算【1人当】'!D12 * 0.03, 0) -> 0 | E12: =IF('①-1入力シート（宿泊人数）【1人当】'!E12>0, '⑤-1宿泊料金計算【1人当】'!E12 * 0.03, 0) -> 0 | F12: =IF('①-1入力シート（宿泊人数）【1人当】'!F12>0, '⑤-1宿泊料金計算【1人当】'!F12 * 0.03, 0) -> 0 | G12: =IF('①-1入力シート（宿泊人数）【1人当】'!G12>0, '⑤-1宿泊料金計算【1人当】'!G12 * 0.03, 0) -> 0 | H12: =IF('①-1入力シート（宿泊人数）【1人当】'!H12>0, '⑤-1宿泊料金計算【1人当】'!H12 * 0.03, 0) -> 0 | I12: =IF('①-1入力シート（宿泊人数）【1人当】'!I12>0, '⑤-1宿泊料金計算【1人当】'!I12 * 0.03, 0) -> 0 | J12: =IF('①-1入力シート（宿泊人数）【1人当】'!J12>0, '⑤-1宿泊料金計算【1人当】'!J12 * 0.03, 0) -> 0 | ... CX12: =IF('①-1入力シート（宿泊人数）【1人当】'!CX12>0, '⑤-1宿泊料金計算【1人当】'!CX12 * 0.03, 0) -> 0 | CZ12: ='①-1入力シート（宿泊人数）【1人当】'!CZ12 -> 0
B13: 7 | C13: =IF('①-1入力シート（宿泊人数）【1人当】'!C13>0, '⑤-1宿泊料金計算【1人当】'!C13 * 0.03, 0) -> 0 | D13: =IF('①-1入力シート（宿泊人数）【1人当】'!D13>0, '⑤-1宿泊料金計算【1人当】'!D13 * 0.03, 0) -> 0 | E13: =IF('①-1入力シート（宿泊人数）【1人当】'!E13>0, '⑤-1宿泊料金計算【1人当】'!E13 * 0.03, 0) -> 0 | F13: =IF('①-1入力シート（宿泊人数）【1人当】'!F13>0, '⑤-1宿泊料金計算【1人当】'!F13 * 0.03, 0) -> 0 | G13: =IF('①-1入力シート（宿泊人数）【1人当】'!G13>0, '⑤-1宿泊料金計算【1人当】'!G13 * 0.03, 0) -> 0 | H13: =IF('①-1入力シート（宿泊人数）【1人当】'!H13>0, '⑤-1宿泊料金計算【1人当】'!H13 * 0.03, 0) -> 0 | I13: =IF('①-1入力シート（宿泊人数）【1人当】'!I13>0, '⑤-1宿泊料金計算【1人当】'!I13 * 0.03, 0) -> 0 | J13: =IF('①-1入力シート（宿泊人数）【1人当】'!J13>0, '⑤-1宿泊料金計算【1人当】'!J13 * 0.03, 0) -> 0 | ... CX13: =IF('①-1入力シート（宿泊人数）【1人当】'!CX13>0, '⑤-1宿泊料金計算【1人当】'!CX13 * 0.03, 0) -> 0 | CZ13: ='①-1入力シート（宿泊人数）【1人当】'!CZ13 -> 0
B14: 8 | C14: =IF('①-1入力シート（宿泊人数）【1人当】'!C14>0, '⑤-1宿泊料金計算【1人当】'!C14 * 0.03, 0) -> 0 | D14: =IF('①-1入力シート（宿泊人数）【1人当】'!D14>0, '⑤-1宿泊料金計算【1人当】'!D14 * 0.03, 0) -> 0 | E14: =IF('①-1入力シート（宿泊人数）【1人当】'!E14>0, '⑤-1宿泊料金計算【1人当】'!E14 * 0.03, 0) -> 0 | F14: =IF('①-1入力シート（宿泊人数）【1人当】'!F14>0, '⑤-1宿泊料金計算【1人当】'!F14 * 0.03, 0) -> 0 | G14: =IF('①-1入力シート（宿泊人数）【1人当】'!G14>0, '⑤-1宿泊料金計算【1人当】'!G14 * 0.03, 0) -> 0 | H14: =IF('①-1入力シート（宿泊人数）【1人当】'!H14>0, '⑤-1宿泊料金計算【1人当】'!H14 * 0.03, 0) -> 0 | I14: =IF('①-1入力シート（宿泊人数）【1人当】'!I14>0, '⑤-1宿泊料金計算【1人当】'!I14 * 0.03, 0) -> 0 | J14: =IF('①-1入力シート（宿泊人数）【1人当】'!J14>0, '⑤-1宿泊料金計算【1人当】'!J14 * 0.03, 0) -> 0 | ... CX14: =IF('①-1入力シート（宿泊人数）【1人当】'!CX14>0, '⑤-1宿泊料金計算【1人当】'!CX14 * 0.03, 0) -> 0 | CZ14: ='①-1入力シート（宿泊人数）【1人当】'!CZ14 -> 0
B15: 9 | C15: =IF('①-1入力シート（宿泊人数）【1人当】'!C15>0, '⑤-1宿泊料金計算【1人当】'!C15 * 0.03, 0) -> 0 | D15: =IF('①-1入力シート（宿泊人数）【1人当】'!D15>0, '⑤-1宿泊料金計算【1人当】'!D15 * 0.03, 0) -> 0 | E15: =IF('①-1入力シート（宿泊人数）【1人当】'!E15>0, '⑤-1宿泊料金計算【1人当】'!E15 * 0.03, 0) -> 0 | F15: =IF('①-1入力シート（宿泊人数）【1人当】'!F15>0, '⑤-1宿泊料金計算【1人当】'!F15 * 0.03, 0) -> 0 | G15: =IF('①-1入力シート（宿泊人数）【1人当】'!G15>0, '⑤-1宿泊料金計算【1人当】'!G15 * 0.03, 0) -> 0 | H15: =IF('①-1入力シート（宿泊人数）【1人当】'!H15>0, '⑤-1宿泊料金計算【1人当】'!H15 * 0.03, 0) -> 0 | I15: =IF('①-1入力シート（宿泊人数）【1人当】'!I15>0, '⑤-1宿泊料金計算【1人当】'!I15 * 0.03, 0) -> 0 | J15: =IF('①-1入力シート（宿泊人数）【1人当】'!J15>0, '⑤-1宿泊料金計算【1人当】'!J15 * 0.03, 0) -> 0 | ... CX15: =IF('①-1入力シート（宿泊人数）【1人当】'!CX15>0, '⑤-1宿泊料金計算【1人当】'!CX15 * 0.03, 0) -> 0 | CZ15: ='①-1入力シート（宿泊人数）【1人当】'!CZ15 -> 0
B16: 10 | C16: =IF('①-1入力シート（宿泊人数）【1人当】'!C16>0, '⑤-1宿泊料金計算【1人当】'!C16 * 0.03, 0) -> 0 | D16: =IF('①-1入力シート（宿泊人数）【1人当】'!D16>0, '⑤-1宿泊料金計算【1人当】'!D16 * 0.03, 0) -> 0 | E16: =IF('①-1入力シート（宿泊人数）【1人当】'!E16>0, '⑤-1宿泊料金計算【1人当】'!E16 * 0.03, 0) -> 0 | F16: =IF('①-1入力シート（宿泊人数）【1人当】'!F16>0, '⑤-1宿泊料金計算【1人当】'!F16 * 0.03, 0) -> 0 | G16: =IF('①-1入力シート（宿泊人数）【1人当】'!G16>0, '⑤-1宿泊料金計算【1人当】'!G16 * 0.03, 0) -> 0 | H16: =IF('①-1入力シート（宿泊人数）【1人当】'!H16>0, '⑤-1宿泊料金計算【1人当】'!H16 * 0.03, 0) -> 0 | I16: =IF('①-1入力シート（宿泊人数）【1人当】'!I16>0, '⑤-1宿泊料金計算【1人当】'!I16 * 0.03, 0) -> 0 | J16: =IF('①-1入力シート（宿泊人数）【1人当】'!J16>0, '⑤-1宿泊料金計算【1人当】'!J16 * 0.03, 0) -> 0 | ... CX16: =IF('①-1入力シート（宿泊人数）【1人当】'!CX16>0, '⑤-1宿泊料金計算【1人当】'!CX16 * 0.03, 0) -> 0 | CZ16: ='①-1入力シート（宿泊人数）【1人当】'!CZ16 -> 0
B17: 11 | C17: =IF('①-1入力シート（宿泊人数）【1人当】'!C17>0, '⑤-1宿泊料金計算【1人当】'!C17 * 0.03, 0) -> 0 | D17: =IF('①-1入力シート（宿泊人数）【1人当】'!D17>0, '⑤-1宿泊料金計算【1人当】'!D17 * 0.03, 0) -> 0 | E17: =IF('①-1入力シート（宿泊人数）【1人当】'!E17>0, '⑤-1宿泊料金計算【1人当】'!E17 * 0.03, 0) -> 0 | F17: =IF('①-1入力シート（宿泊人数）【1人当】'!F17>0, '⑤-1宿泊料金計算【1人当】'!F17 * 0.03, 0) -> 0 | G17: =IF('①-1入力シート（宿泊人数）【1人当】'!G17>0, '⑤-1宿泊料金計算【1人当】'!G17 * 0.03, 0) -> 0 | H17: =IF('①-1入力シート（宿泊人数）【1人当】'!H17>0, '⑤-1宿泊料金計算【1人当】'!H17 * 0.03, 0) -> 0 | I17: =IF('①-1入力シート（宿泊人数）【1人当】'!I17>0, '⑤-1宿泊料金計算【1人当】'!I17 * 0.03, 0) -> 0 | J17: =IF('①-1入力シート（宿泊人数）【1人当】'!J17>0, '⑤-1宿泊料金計算【1人当】'!J17 * 0.03, 0) -> 0 | ... CX17: =IF('①-1入力シート（宿泊人数）【1人当】'!CX17>0, '⑤-1宿泊料金計算【1人当】'!CX17 * 0.03, 0) -> 0 | CZ17: ='①-1入力シート（宿泊人数）【1人当】'!CZ17 -> 0
B18: 12 | C18: =IF('①-1入力シート（宿泊人数）【1人当】'!C18>0, '⑤-1宿泊料金計算【1人当】'!C18 * 0.03, 0) -> 0 | D18: =IF('①-1入力シート（宿泊人数）【1人当】'!D18>0, '⑤-1宿泊料金計算【1人当】'!D18 * 0.03, 0) -> 0 | E18: =IF('①-1入力シート（宿泊人数）【1人当】'!E18>0, '⑤-1宿泊料金計算【1人当】'!E18 * 0.03, 0) -> 0 | F18: =IF('①-1入力シート（宿泊人数）【1人当】'!F18>0, '⑤-1宿泊料金計算【1人当】'!F18 * 0.03, 0) -> 0 | G18: =IF('①-1入力シート（宿泊人数）【1人当】'!G18>0, '⑤-1宿泊料金計算【1人当】'!G18 * 0.03, 0) -> 0 | H18: =IF('①-1入力シート（宿泊人数）【1人当】'!H18>0, '⑤-1宿泊料金計算【1人当】'!H18 * 0.03, 0) -> 0 | I18: =IF('①-1入力シート（宿泊人数）【1人当】'!I18>0, '⑤-1宿泊料金計算【1人当】'!I18 * 0.03, 0) -> 0 | J18: =IF('①-1入力シート（宿泊人数）【1人当】'!J18>0, '⑤-1宿泊料金計算【1人当】'!J18 * 0.03, 0) -> 0 | ... CX18: =IF('①-1入力シート（宿泊人数）【1人当】'!CX18>0, '⑤-1宿泊料金計算【1人当】'!CX18 * 0.03, 0) -> 0 | CZ18: ='①-1入力シート（宿泊人数）【1人当】'!CZ18 -> 0
B19: 13 | C19: =IF('①-1入力シート（宿泊人数）【1人当】'!C19>0, '⑤-1宿泊料金計算【1人当】'!C19 * 0.03, 0) -> 0 | D19: =IF('①-1入力シート（宿泊人数）【1人当】'!D19>0, '⑤-1宿泊料金計算【1人当】'!D19 * 0.03, 0) -> 0 | E19: =IF('①-1入力シート（宿泊人数）【1人当】'!E19>0, '⑤-1宿泊料金計算【1人当】'!E19 * 0.03, 0) -> 0 | F19: =IF('①-1入力シート（宿泊人数）【1人当】'!F19>0, '⑤-1宿泊料金計算【1人当】'!F19 * 0.03, 0) -> 0 | G19: =IF('①-1入力シート（宿泊人数）【1人当】'!G19>0, '⑤-1宿泊料金計算【1人当】'!G19 * 0.03, 0) -> 0 | H19: =IF('①-1入力シート（宿泊人数）【1人当】'!H19>0, '⑤-1宿泊料金計算【1人当】'!H19 * 0.03, 0) -> 0 | I19: =IF('①-1入力シート（宿泊人数）【1人当】'!I19>0, '⑤-1宿泊料金計算【1人当】'!I19 * 0.03, 0) -> 0 | J19: =IF('①-1入力シート（宿泊人数）【1人当】'!J19>0, '⑤-1宿泊料金計算【1人当】'!J19 * 0.03, 0) -> 0 | ... CX19: =IF('①-1入力シート（宿泊人数）【1人当】'!CX19>0, '⑤-1宿泊料金計算【1人当】'!CX19 * 0.03, 0) -> 0 | CZ19: ='①-1入力シート（宿泊人数）【1人当】'!CZ19 -> 0
... B37: 31 | C37: =IF('①-1入力シート（宿泊人数）【1人当】'!C37>0, '⑤-1宿泊料金計算【1人当】'!C37 * 0.03, 0) -> 0 | D37: =IF('①-1入力シート（宿泊人数）【1人当】'!D37>0, '⑤-1宿泊料金計算【1人当】'!D37 * 0.03, 0) -> 0 | E37: =IF('①-1入力シート（宿泊人数）【1人当】'!E37>0, '⑤-1宿泊料金計算【1人当】'!E37 * 0.03, 0) -> 0 | F37: =IF('①-1入力シート（宿泊人数）【1人当】'!F37>0, '⑤-1宿泊料金計算【1人当】'!F37 * 0.03, 0) -> 0 | G37: =IF('①-1入力シート（宿泊人数）【1人当】'!G37>0, '⑤-1宿泊料金計算【1人当】'!G37 * 0.03, 0) -> 0 | H37: =IF('①-1入力シート（宿泊人数）【1人当】'!H37>0, '⑤-1宿泊料金計算【1人当】'!H37 * 0.03, 0) -> 0 | I37: =IF('①-1入力シート（宿泊人数）【1人当】'!I37>0, '⑤-1宿泊料金計算【1人当】'!I37 * 0.03, 0) -> 0 | J37: =IF('①-1入力シート（宿泊人数）【1人当】'!J37>0, '⑤-1宿泊料金計算【1人当】'!J37 * 0.03, 0) -> 0 | ... CX37: =IF('①-1入力シート（宿泊人数）【1人当】'!CX37>0, '⑤-1宿泊料金計算【1人当】'!CX37 * 0.03, 0) -> 0 | CZ37: ='①-1入力シート（宿泊人数）【1人当】'!CZ37 -> 0
A38: 計 | C38: =SUM(C7:C37) -> 0 | D38: =SUM(D7:D37) -> 0 | E38: =SUM(E7:E37) -> 0 | F38: =SUM(F7:F37) -> 0 | G38: =SUM(G7:G37) -> 0 | H38: =SUM(H7:H37) -> 0 | I38: =SUM(I7:I37) -> 0 | J38: =SUM(J7:J37) -> 0 | ... CX38: =SUM(CX7:CX37) -> 0 | CZ38: =SUM(CZ7:CZ37) -> 0

Sheet ⑥-2A申告納付税額（3％）【室】
A1: ='①-1入力シート（宿泊人数）【1人当】'!A1 -> 0 | B1: 年 | C1: ='①-1入力シート（宿泊人数）【1人当】'!C1 -> 0 | D1: 月分 | F1: 苫小牧市税率 | H1: 0.03
C2: 1 | D2: 2 | E2: 3 | F2: 4 | G2: 5 | H2: 6 | I2: 7 | J2: 8 | K2: 9 | L2: 10 | M2: 11 | N2: 12 | O2: 13 | P2: 14 | Q2: 15 | R2: 16 | S2: 17 | T2: 18 | U2: 19 | V2: 20 | W2: 21 | X2: 22 | Y2: 23 | Z2: 24 | AA2: 25 | AB2: 26 | AC2: 27 | AD2: 28 | AE2: 29 | AF2: 30 | AG2: 31 | AH2: 32 | AI2: 33 | AJ2: 34 | AK2: 35 | AL2: 36 | AM2: 37 | AN2: 38 | AO2: 39 | AP2: 40 | AQ2: 41 | AR2: 42 | AS2: 43 | AT2: 44 | AU2: 45 | AV2: 46 | AW2: 47 | AX2: 48 | AY2: 49 | AZ2: 50 | BA2: 51 | BB2: 52 | BC2: 53 | BD2: 54 | BE2: 55 | BF2: 56 | BG2: 57 | BH2: 58 | BI2: 59 | BJ2: 60 | BK2: 61 | BL2: 62 | BM2: 63 | BN2: 64 | BO2: 65 | BP2: 66 | BQ2: 67 | BR2: 68 | BS2: 69 | BT2: 70 | BU2: 71 | BV2: 72 | BW2: 73 | BX2: 74 | BY2: 75 | BZ2: 76 | CA2: 77 | CB2: 78 | CC2: 79 | CD2: 80 | CE2: 81 | CF2: 82 | CG2: 83 | CH2: 84 | CI2: 85 | CJ2: 86 | CK2: 87 | CL2: 88 | CM2: 89 | CN2: 90 | CO2: 91 | CP2: 92 | CQ2: 93 | CR2: 94 | CS2: 95 | CT2: 96 | CU2: 97 | CV2: 98 | CW2: 99 | CX2: 100
A3: 建物名 | C3: ='①-2入力シート（宿泊人数）【室】'!C3 -> 0 | CY3: 合計 3%
A4: 個別名 | C4: ='①-2入力シート（宿泊人数）【室】'!C4 -> 0 | D4: ='①-2入力シート（宿泊人数）【室】'!D4 -> 0 | E4: ='①-2入力シート（宿泊人数）【室】'!E4 -> 0 | F4: ='①-2入力シート（宿泊人数）【室】'!F4 -> 0 | G4: ='①-2入力シート（宿泊人数）【室】'!G4 -> 0 | H4: ='①-2入力シート（宿泊人数）【室】'!H4 -> 0 | I4: ='①-2入力シート（宿泊人数）【室】'!I4 -> 0 | J4: ='①-2入力シート（宿泊人数）【室】'!J4 -> 0 | ... CX4: ='①-2入力シート（宿泊人数）【室】'!CX4 -> 0 | DA4: 税額計
A5: 宿泊料金（税込） | C5: ='①-2入力シート（宿泊人数）【室】'!C5 -> 0 | D5: ='①-2入力シート（宿泊人数）【室】'!D5 -> 0 | E5: ='①-2入力シート（宿泊人数）【室】'!E5 -> 0 | F5: ='①-2入力シート（宿泊人数）【室】'!F5 -> 0 | G5: ='①-2入力シート（宿泊人数）【室】'!G5 -> 0 | H5: ='①-2入力シート（宿泊人数）【室】'!H5 -> 0 | I5: ='①-2入力シート（宿泊人数）【室】'!I5 -> 0 | J5: ='①-2入力シート（宿泊人数）【室】'!J5 -> 0 | ... CX5: ='①-2入力シート（宿泊人数）【室】'!CX5 -> 0
A6: 宿泊料金（税抜額） | C6: =C5/1.1 -> 0 | D6: =D5/1.1 -> 0 | E6: =E5/1.1 -> 0 | F6: =F5/1.1 -> 0 | G6: =G5/1.1 -> 0 | H6: =H5/1.1 -> 0 | I6: =I5/1.1 -> 0 | J6: =J5/1.1 -> 0 | ... CX6: =CX5/1.1 -> 0
A7: 課税標準額 | C7: =ROUNDDOWN(C$6,-2) -> 0 | D7: =ROUNDDOWN(D$6,-2) -> 0 | E7: =ROUNDDOWN(E$6,-2) -> 0 | F7: =ROUNDDOWN(F$6,-2) -> 0 | G7: =ROUNDDOWN(G$6,-2) -> 0 | H7: =ROUNDDOWN(H$6,-2) -> 0 | I7: =ROUNDDOWN(I$6,-2) -> 0 | J7: =ROUNDDOWN(J$6,-2) -> 0 | ... CX7: =ROUNDDOWN(CX$6,-2) -> 0
A8: 室数 | C8: ='①-2入力シート（宿泊人数）【室】'!C8 -> 0
A9: 納入額（３％） | B9: 1 | C9: =IF('①-2入力シート（宿泊人数）【室】'!C9>0, '⑤-2宿泊料金計算【室】'!C9 * 0.03, 0) -> 0 | D9: =IF('①-2入力シート（宿泊人数）【室】'!D9>0, '⑤-2宿泊料金計算【室】'!D9 * 0.03, 0) -> 0 | E9: =IF('①-2入力シート（宿泊人数）【室】'!E9>0, '⑤-2宿泊料金計算【室】'!E9 * 0.03, 0) -> 0 | F9: =IF('①-2入力シート（宿泊人数）【室】'!F9>0, '⑤-2宿泊料金計算【室】'!F9 * 0.03, 0) -> 0 | G9: =IF('①-2入力シート（宿泊人数）【室】'!G9>0, '⑤-2宿泊料金計算【室】'!G9 * 0.03, 0) -> 0 | H9: =IF('①-2入力シート（宿泊人数）【室】'!H9>0, '⑤-2宿泊料金計算【室】'!H9 * 0.03, 0) -> 0 | I9: =IF('①-2入力シート（宿泊人数）【室】'!I9>0, '⑤-2宿泊料金計算【室】'!I9 * 0.03, 0) -> 0 | J9: =IF('①-2入力シート（宿泊人数）【室】'!J9>0, '⑤-2宿泊料金計算【室】'!J9 * 0.03, 0) -> 0 | ... CX9: =IF('①-2入力シート（宿泊人数）【室】'!CX9>0, '⑤-2宿泊料金計算【室】'!CX9 * 0.03, 0) -> 0 | CY9: =SUM(C9:CX9) -> 0 | DA9: =CY9 -> 0
B10: 2 | C10: =IF('①-2入力シート（宿泊人数）【室】'!C10>0, '⑤-2宿泊料金計算【室】'!C10 * 0.03, 0) -> 0 | D10: =IF('①-2入力シート（宿泊人数）【室】'!D10>0, '⑤-2宿泊料金計算【室】'!D10 * 0.03, 0) -> 0 | E10: =IF('①-2入力シート（宿泊人数）【室】'!E10>0, '⑤-2宿泊料金計算【室】'!E10 * 0.03, 0) -> 0 | F10: =IF('①-2入力シート（宿泊人数）【室】'!F10>0, '⑤-2宿泊料金計算【室】'!F10 * 0.03, 0) -> 0 | G10: =IF('①-2入力シート（宿泊人数）【室】'!G10>0, '⑤-2宿泊料金計算【室】'!G10 * 0.03, 0) -> 0 | H10: =IF('①-2入力シート（宿泊人数）【室】'!H10>0, '⑤-2宿泊料金計算【室】'!H10 * 0.03, 0) -> 0 | I10: =IF('①-2入力シート（宿泊人数）【室】'!I10>0, '⑤-2宿泊料金計算【室】'!I10 * 0.03, 0) -> 0 | J10: =IF('①-2入力シート（宿泊人数）【室】'!J10>0, '⑤-2宿泊料金計算【室】'!J10 * 0.03, 0) -> 0 | ... CX10: =IF('①-2入力シート（宿泊人数）【室】'!CX10>0, '⑤-2宿泊料金計算【室】'!CX10 * 0.03, 0) -> 0 | CY10: =SUM(C10:CX10) -> 0 | DA10: =CY10 -> 0
B11: 3 | C11: =IF('①-2入力シート（宿泊人数）【室】'!C11>0, '⑤-2宿泊料金計算【室】'!C11 * 0.03, 0) -> 0 | D11: =IF('①-2入力シート（宿泊人数）【室】'!D11>0, '⑤-2宿泊料金計算【室】'!D11 * 0.03, 0) -> 0 | E11: =IF('①-2入力シート（宿泊人数）【室】'!E11>0, '⑤-2宿泊料金計算【室】'!E11 * 0.03, 0) -> 0 | F11: =IF('①-2入力シート（宿泊人数）【室】'!F11>0, '⑤-2宿泊料金計算【室】'!F11 * 0.03, 0) -> 0 | G11: =IF('①-2入力シート（宿泊人数）【室】'!G11>0, '⑤-2宿泊料金計算【室】'!G11 * 0.03, 0) -> 0 | H11: =IF('①-2入力シート（宿泊人数）【室】'!H11>0, '⑤-2宿泊料金計算【室】'!H11 * 0.03, 0) -> 0 | I11: =IF('①-2入力シート（宿泊人数）【室】'!I11>0, '⑤-2宿泊料金計算【室】'!I11 * 0.03, 0) -> 0 | J11: =IF('①-2入力シート（宿泊人数）【室】'!J11>0, '⑤-2宿泊料金計算【室】'!J11 * 0.03, 0) -> 0 | ... CX11: =IF('①-2入力シート（宿泊人数）【室】'!CX11>0, '⑤-2宿泊料金計算【室】'!CX11 * 0.03, 0) -> 0 | CY11: =SUM(C11:CX11) -> 0 | DA11: =CY11 -> 0
B12: 4 | C12: =IF('①-2入力シート（宿泊人数）【室】'!C12>0, '⑤-2宿泊料金計算【室】'!C12 * 0.03, 0) -> 0 | D12: =IF('①-2入力シート（宿泊人数）【室】'!D12>0, '⑤-2宿泊料金計算【室】'!D12 * 0.03, 0) -> 0 | E12: =IF('①-2入力シート（宿泊人数）【室】'!E12>0, '⑤-2宿泊料金計算【室】'!E12 * 0.03, 0) -> 0 | F12: =IF('①-2入力シート（宿泊人数）【室】'!F12>0, '⑤-2宿泊料金計算【室】'!F12 * 0.03, 0) -> 0 | G12: =IF('①-2入力シート（宿泊人数）【室】'!G12>0, '⑤-2宿泊料金計算【室】'!G12 * 0.03, 0) -> 0 | H12: =IF('①-2入力シート（宿泊人数）【室】'!H12>0, '⑤-2宿泊料金計算【室】'!H12 * 0.03, 0) -> 0 | I12: =IF('①-2入力シート（宿泊人数）【室】'!I12>0, '⑤-2宿泊料金計算【室】'!I12 * 0.03, 0) -> 0 | J12: =IF('①-2入力シート（宿泊人数）【室】'!J12>0, '⑤-2宿泊料金計算【室】'!J12 * 0.03, 0) -> 0 | ... CX12: =IF('①-2入力シート（宿泊人数）【室】'!CX12>0, '⑤-2宿泊料金計算【室】'!CX12 * 0.03, 0) -> 0 | CY12: =SUM(C12:CX12) -> 0 | DA12: =CY12 -> 0
B13: 5 | C13: =IF('①-2入力シート（宿泊人数）【室】'!C13>0, '⑤-2宿泊料金計算【室】'!C13 * 0.03, 0) -> 0 | D13: =IF('①-2入力シート（宿泊人数）【室】'!D13>0, '⑤-2宿泊料金計算【室】'!D13 * 0.03, 0) -> 0 | E13: =IF('①-2入力シート（宿泊人数）【室】'!E13>0, '⑤-2宿泊料金計算【室】'!E13 * 0.03, 0) -> 0 | F13: =IF('①-2入力シート（宿泊人数）【室】'!F13>0, '⑤-2宿泊料金計算【室】'!F13 * 0.03, 0) -> 0 | G13: =IF('①-2入力シート（宿泊人数）【室】'!G13>0, '⑤-2宿泊料金計算【室】'!G13 * 0.03, 0) -> 0 | H13: =IF('①-2入力シート（宿泊人数）【室】'!H13>0, '⑤-2宿泊料金計算【室】'!H13 * 0.03, 0) -> 0 | I13: =IF('①-2入力シート（宿泊人数）【室】'!I13>0, '⑤-2宿泊料金計算【室】'!I13 * 0.03, 0) -> 0 | J13: =IF('①-2入力シート（宿泊人数）【室】'!J13>0, '⑤-2宿泊料金計算【室】'!J13 * 0.03, 0) -> 0 | ... CX13: =IF('①-2入力シート（宿泊人数）【室】'!CX13>0, '⑤-2宿泊料金計算【室】'!CX13 * 0.03, 0) -> 0 | CY13: =SUM(C13:CX13) -> 0 | DA13: =CY13 -> 0
B14: 6 | C14: =IF('①-2入力シート（宿泊人数）【室】'!C14>0, '⑤-2宿泊料金計算【室】'!C14 * 0.03, 0) -> 0 | D14: =IF('①-2入力シート（宿泊人数）【室】'!D14>0, '⑤-2宿泊料金計算【室】'!D14 * 0.03, 0) -> 0 | E14: =IF('①-2入力シート（宿泊人数）【室】'!E14>0, '⑤-2宿泊料金計算【室】'!E14 * 0.03, 0) -> 0 | F14: =IF('①-2入力シート（宿泊人数）【室】'!F14>0, '⑤-2宿泊料金計算【室】'!F14 * 0.03, 0) -> 0 | G14: =IF('①-2入力シート（宿泊人数）【室】'!G14>0, '⑤-2宿泊料金計算【室】'!G14 * 0.03, 0) -> 0 | H14: =IF('①-2入力シート（宿泊人数）【室】'!H14>0, '⑤-2宿泊料金計算【室】'!H14 * 0.03, 0) -> 0 | I14: =IF('①-2入力シート（宿泊人数）【室】'!I14>0, '⑤-2宿泊料金計算【室】'!I14 * 0.03, 0) -> 0 | J14: =IF('①-2入力シート（宿泊人数）【室】'!J14>0, '⑤-2宿泊料金計算【室】'!J14 * 0.03, 0) -> 0 | ... CX14: =IF('①-2入力シート（宿泊人数）【室】'!CX14>0, '⑤-2宿泊料金計算【室】'!CX14 * 0.03, 0) -> 0 | CY14: =SUM(C14:CX14) -> 0 | DA14: =CY14 -> 0
B15: 7 | C15: =IF('①-2入力シート（宿泊人数）【室】'!C15>0, '⑤-2宿泊料金計算【室】'!C15 * 0.03, 0) -> 0 | D15: =IF('①-2入力シート（宿泊人数）【室】'!D15>0, '⑤-2宿泊料金計算【室】'!D15 * 0.03, 0) -> 0 | E15: =IF('①-2入力シート（宿泊人数）【室】'!E15>0, '⑤-2宿泊料金計算【室】'!E15 * 0.03, 0) -> 0 | F15: =IF('①-2入力シート（宿泊人数）【室】'!F15>0, '⑤-2宿泊料金計算【室】'!F15 * 0.03, 0) -> 0 | G15: =IF('①-2入力シート（宿泊人数）【室】'!G15>0, '⑤-2宿泊料金計算【室】'!G15 * 0.03, 0) -> 0 | H15: =IF('①-2入力シート（宿泊人数）【室】'!H15>0, '⑤-2宿泊料金計算【室】'!H15 * 0.03, 0) -> 0 | I15: =IF('①-2入力シート（宿泊人数）【室】'!I15>0, '⑤-2宿泊料金計算【室】'!I15 * 0.03, 0) -> 0 | J15: =IF('①-2入力シート（宿泊人数）【室】'!J15>0, '⑤-2宿泊料金計算【室】'!J15 * 0.03, 0) -> 0 | ... CX15: =IF('①-2入力シート（宿泊人数）【室】'!CX15>0, '⑤-2宿泊料金計算【室】'!CX15 * 0.03, 0) -> 0 | CY15: =SUM(C15:CX15) -> 0 | DA15: =CY15 -> 0
B16: 8 | C16: =IF('①-2入力シート（宿泊人数）【室】'!C16>0, '⑤-2宿泊料金計算【室】'!C16 * 0.03, 0) -> 0 | D16: =IF('①-2入力シート（宿泊人数）【室】'!D16>0, '⑤-2宿泊料金計算【室】'!D16 * 0.03, 0) -> 0 | E16: =IF('①-2入力シート（宿泊人数）【室】'!E16>0, '⑤-2宿泊料金計算【室】'!E16 * 0.03, 0) -> 0 | F16: =IF('①-2入力シート（宿泊人数）【室】'!F16>0, '⑤-2宿泊料金計算【室】'!F16 * 0.03, 0) -> 0 | G16: =IF('①-2入力シート（宿泊人数）【室】'!G16>0, '⑤-2宿泊料金計算【室】'!G16 * 0.03, 0) -> 0 | H16: =IF('①-2入力シート（宿泊人数）【室】'!H16>0, '⑤-2宿泊料金計算【室】'!H16 * 0.03, 0) -> 0 | I16: =IF('①-2入力シート（宿泊人数）【室】'!I16>0, '⑤-2宿泊料金計算【室】'!I16 * 0.03, 0) -> 0 | J16: =IF('①-2入力シート（宿泊人数）【室】'!J16>0, '⑤-2宿泊料金計算【室】'!J16 * 0.03, 0) -> 0 | ... CX16: =IF('①-2入力シート（宿泊人数）【室】'!CX16>0, '⑤-2宿泊料金計算【室】'!CX16 * 0.03, 0) -> 0 | CY16: =SUM(C16:CX16) -> 0 | DA16: =CY16 -> 0
B17: 9 | C17: =IF('①-2入力シート（宿泊人数）【室】'!C17>0, '⑤-2宿泊料金計算【室】'!C17 * 0.03, 0) -> 0 | D17: =IF('①-2入力シート（宿泊人数）【室】'!D17>0, '⑤-2宿泊料金計算【室】'!D17 * 0.03, 0) -> 0 | E17: =IF('①-2入力シート（宿泊人数）【室】'!E17>0, '⑤-2宿泊料金計算【室】'!E17 * 0.03, 0) -> 0 | F17: =IF('①-2入力シート（宿泊人数）【室】'!F17>0, '⑤-2宿泊料金計算【室】'!F17 * 0.03, 0) -> 0 | G17: =IF('①-2入力シート（宿泊人数）【室】'!G17>0, '⑤-2宿泊料金計算【室】'!G17 * 0.03, 0) -> 0 | H17: =IF('①-2入力シート（宿泊人数）【室】'!H17>0, '⑤-2宿泊料金計算【室】'!H17 * 0.03, 0) -> 0 | I17: =IF('①-2入力シート（宿泊人数）【室】'!I17>0, '⑤-2宿泊料金計算【室】'!I17 * 0.03, 0) -> 0 | J17: =IF('①-2入力シート（宿泊人数）【室】'!J17>0, '⑤-2宿泊料金計算【室】'!J17 * 0.03, 0) -> 0 | ... CX17: =IF('①-2入力シート（宿泊人数）【室】'!CX17>0, '⑤-2宿泊料金計算【室】'!CX17 * 0.03, 0) -> 0 | CY17: =SUM(C17:CX17) -> 0 | DA17: =CY17 -> 0
B18: 10 | C18: =IF('①-2入力シート（宿泊人数）【室】'!C18>0, '⑤-2宿泊料金計算【室】'!C18 * 0.03, 0) -> 0 | D18: =IF('①-2入力シート（宿泊人数）【室】'!D18>0, '⑤-2宿泊料金計算【室】'!D18 * 0.03, 0) -> 0 | E18: =IF('①-2入力シート（宿泊人数）【室】'!E18>0, '⑤-2宿泊料金計算【室】'!E18 * 0.03, 0) -> 0 | F18: =IF('①-2入力シート（宿泊人数）【室】'!F18>0, '⑤-2宿泊料金計算【室】'!F18 * 0.03, 0) -> 0 | G18: =IF('①-2入力シート（宿泊人数）【室】'!G18>0, '⑤-2宿泊料金計算【室】'!G18 * 0.03, 0) -> 0 | H18: =IF('①-2入力シート（宿泊人数）【室】'!H18>0, '⑤-2宿泊料金計算【室】'!H18 * 0.03, 0) -> 0 | I18: =IF('①-2入力シート（宿泊人数）【室】'!I18>0, '⑤-2宿泊料金計算【室】'!I18 * 0.03, 0) -> 0 | J18: =IF('①-2入力シート（宿泊人数）【室】'!J18>0, '⑤-2宿泊料金計算【室】'!J18 * 0.03, 0) -> 0 | ... CX18: =IF('①-2入力シート（宿泊人数）【室】'!CX18>0, '⑤-2宿泊料金計算【室】'!CX18 * 0.03, 0) -> 0 | CY18: =SUM(C18:CX18) -> 0 | DA18: =CY18 -> 0
B19: 11 | C19: =IF('①-2入力シート（宿泊人数）【室】'!C19>0, '⑤-2宿泊料金計算【室】'!C19 * 0.03, 0) -> 0 | D19: =IF('①-2入力シート（宿泊人数）【室】'!D19>0, '⑤-2宿泊料金計算【室】'!D19 * 0.03, 0) -> 0 | E19: =IF('①-2入力シート（宿泊人数）【室】'!E19>0, '⑤-2宿泊料金計算【室】'!E19 * 0.03, 0) -> 0 | F19: =IF('①-2入力シート（宿泊人数）【室】'!F19>0, '⑤-2宿泊料金計算【室】'!F19 * 0.03, 0) -> 0 | G19: =IF('①-2入力シート（宿泊人数）【室】'!G19>0, '⑤-2宿泊料金計算【室】'!G19 * 0.03, 0) -> 0 | H19: =IF('①-2入力シート（宿泊人数）【室】'!H19>0, '⑤-2宿泊料金計算【室】'!H19 * 0.03, 0) -> 0 | I19: =IF('①-2入力シート（宿泊人数）【室】'!I19>0, '⑤-2宿泊料金計算【室】'!I19 * 0.03, 0) -> 0 | J19: =IF('①-2入力シート（宿泊人数）【室】'!J19>0, '⑤-2宿泊料金計算【室】'!J19 * 0.03, 0) -> 0 | ... CX19: =IF('①-2入力シート（宿泊人数）【室】'!CX19>0, '⑤-2宿泊料金計算【室】'!CX19 * 0.03, 0) -> 0 | CY19: =SUM(C19:CX19) -> 0 | DA19: =CY19 -> 0
B20: 12 | C20: =IF('①-2入力シート（宿泊人数）【室】'!C20>0, '⑤-2宿泊料金計算【室】'!C20 * 0.03, 0) -> 0 | D20: =IF('①-2入力シート（宿泊人数）【室】'!D20>0, '⑤-2宿泊料金計算【室】'!D20 * 0.03, 0) -> 0 | E20: =IF('①-2入力シート（宿泊人数）【室】'!E20>0, '⑤-2宿泊料金計算【室】'!E20 * 0.03, 0) -> 0 | F20: =IF('①-2入力シート（宿泊人数）【室】'!F20>0, '⑤-2宿泊料金計算【室】'!F20 * 0.03, 0) -> 0 | G20: =IF('①-2入力シート（宿泊人数）【室】'!G20>0, '⑤-2宿泊料金計算【室】'!G20 * 0.03, 0) -> 0 | H20: =IF('①-2入力シート（宿泊人数）【室】'!H20>0, '⑤-2宿泊料金計算【室】'!H20 * 0.03, 0) -> 0 | I20: =IF('①-2入力シート（宿泊人数）【室】'!I20>0, '⑤-2宿泊料金計算【室】'!I20 * 0.03, 0) -> 0 | J20: =IF('①-2入力シート（宿泊人数）【室】'!J20>0, '⑤-2宿泊料金計算【室】'!J20 * 0.03, 0) -> 0 | ... CX20: =IF('①-2入力シート（宿泊人数）【室】'!CX20>0, '⑤-2宿泊料金計算【室】'!CX20 * 0.03, 0) -> 0 | CY20: =SUM(C20:CX20) -> 0 | DA20: =CY20 -> 0
B21: 13 | C21: =IF('①-2入力シート（宿泊人数）【室】'!C21>0, '⑤-2宿泊料金計算【室】'!C21 * 0.03, 0) -> 0 | D21: =IF('①-2入力シート（宿泊人数）【室】'!D21>0, '⑤-2宿泊料金計算【室】'!D21 * 0.03, 0) -> 0 | E21: =IF('①-2入力シート（宿泊人数）【室】'!E21>0, '⑤-2宿泊料金計算【室】'!E21 * 0.03, 0) -> 0 | F21: =IF('①-2入力シート（宿泊人数）【室】'!F21>0, '⑤-2宿泊料金計算【室】'!F21 * 0.03, 0) -> 0 | G21: =IF('①-2入力シート（宿泊人数）【室】'!G21>0, '⑤-2宿泊料金計算【室】'!G21 * 0.03, 0) -> 0 | H21: =IF('①-2入力シート（宿泊人数）【室】'!H21>0, '⑤-2宿泊料金計算【室】'!H21 * 0.03, 0) -> 0 | I21: =IF('①-2入力シート（宿泊人数）【室】'!I21>0, '⑤-2宿泊料金計算【室】'!I21 * 0.03, 0) -> 0 | J21: =IF('①-2入力シート（宿泊人数）【室】'!J21>0, '⑤-2宿泊料金計算【室】'!J21 * 0.03, 0) -> 0 | ... CX21: =IF('①-2入力シート（宿泊人数）【室】'!CX21>0, '⑤-2宿泊料金計算【室】'!CX21 * 0.03, 0) -> 0 | CY21: =SUM(C21:CX21) -> 0 | DA21: =CY21 -> 0
... B39: 31 | C39: =IF('①-2入力シート（宿泊人数）【室】'!C39>0, '⑤-2宿泊料金計算【室】'!C39 * 0.03, 0) -> 0 | D39: =IF('①-2入力シート（宿泊人数）【室】'!D39>0, '⑤-2宿泊料金計算【室】'!D39 * 0.03, 0) -> 0 | E39: =IF('①-2入力シート（宿泊人数）【室】'!E39>0, '⑤-2宿泊料金計算【室】'!E39 * 0.03, 0) -> 0 | F39: =IF('①-2入力シート（宿泊人数）【室】'!F39>0, '⑤-2宿泊料金計算【室】'!F39 * 0.03, 0) -> 0 | G39: =IF('①-2入力シート（宿泊人数）【室】'!G39>0, '⑤-2宿泊料金計算【室】'!G39 * 0.03, 0) -> 0 | H39: =IF('①-2入力シート（宿泊人数）【室】'!H39>0, '⑤-2宿泊料金計算【室】'!H39 * 0.03, 0) -> 0 | I39: =IF('①-2入力シート（宿泊人数）【室】'!I39>0, '⑤-2宿泊料金計算【室】'!I39 * 0.03, 0) -> 0 | J39: =IF('①-2入力シート（宿泊人数）【室】'!J39>0, '⑤-2宿泊料金計算【室】'!J39 * 0.03, 0) -> 0 | ... CX39: =IF('①-2入力シート（宿泊人数）【室】'!CX39>0, '⑤-2宿泊料金計算【室】'!CX39 * 0.03, 0) -> 0 | CY39: =SUM(C39:CX39) -> 0 | DA39: =CY39 -> 0
A40: 計 | C40: =SUM(C9:C39) -> 0 | D40: =SUM(D9:D39) -> 0 | E40: =SUM(E9:E39) -> 0 | F40: =SUM(F9:F39) -> 0 | G40: =SUM(G9:G39) -> 0 | H40: =SUM(H9:H39) -> 0 | I40: =SUM(I9:I39) -> 0 | J40: =SUM(J9:J39) -> 0 | ... CY40: =SUM(CY9:CY39) -> 0 | DA40: =SUM(DA9:DA39) -> 0

Sheet ⑦-1Aのうち道分【1人当】
B1: 年 | D1: 月分 | E1: 宿泊施設番号 | J1: 宿泊施設名
C2: 1 | D2: 2 | E2: 3 | F2: 4 | G2: 5 | H2: 6 | I2: 7 | J2: 8 | K2: 9 | L2: 10 | M2: 11 | N2: 12 | O2: 13 | P2: 14 | Q2: 15 | R2: 16 | S2: 17 | T2: 18 | U2: 19 | V2: 20 | W2: 21 | X2: 22 | Y2: 23 | Z2: 24 | AA2: 25 | AB2: 26 | AC2: 27 | AD2: 28 | AE2: 29 | AF2: 30 | AG2: 31 | AH2: 32 | AI2: 33 | AJ2: 34 | AK2: 35 | AL2: 36 | AM2: 37 | AN2: 38 | AO2: 39 | AP2: 40 | AQ2: 41 | AR2: 42 | AS2: 43 | AT2: 44 | AU2: 45 | AV2: 46 | AW2: 47 | AX2: 48 | AY2: 49 | AZ2: 50 | BA2: 51 | BB2: 52 | BC2: 53 | BD2: 54 | BE2: 55 | BF2: 56 | BG2: 57 | BH2: 58 | BI2: 59 | BJ2: 60 | BK2: 61 | BL2: 62 | BM2: 63 | BN2: 64 | BO2: 65 | BP2: 66 | BQ2: 67 | BR2: 68 | BS2: 69 | BT2: 70 | BU2: 71 | BV2: 72 | BW2: 73 | BX2: 74 | BY2: 75 | BZ2: 76 | CA2: 77 | CB2: 78 | CC2: 79 | CD2: 80 | CE2: 81 | CF2: 82 | CG2: 83 | CH2: 84 | CI2: 85 | CJ2: 86 | CK2: 87 | CL2: 88 | CM2: 89 | CN2: 90 | CO2: 91 | CP2: 92 | CQ2: 93 | CR2: 94 | CS2: 95 | CT2: 96 | CU2: 97 | CV2: 98 | CW2: 99 | CX2: 100
A3: 種類 | CZ3: 課税免除
A4: 宿泊料金（税込） | C4: ='①-1入力シート（宿泊人数）【1人当】'!C4 -> 0 | D4: ='①-1入力シート（宿泊人数）【1人当】'!D4 -> 0 | E4: ='①-1入力シート（宿泊人数）【1人当】'!E4 -> 0 | F4: ='①-1入力シート（宿泊人数）【1人当】'!F4 -> 0 | G4: ='①-1入力シート（宿泊人数）【1人当】'!G4 -> 0 | H4: ='①-1入力シート（宿泊人数）【1人当】'!H4 -> 0 | I4: ='①-1入力シート（宿泊人数）【1人当】'!I4 -> 0 | J4: ='①-1入力シート（宿泊人数）【1人当】'!J4 -> 0 | ... CX4: ='①-1入力シート（宿泊人数）【1人当】'!CX4 -> 0
A5: 宿泊料金（税抜額） | C5: =C4/1.1 -> 0 | D5: =D4/1.1 -> 0 | E5: =E4/1.1 -> 0 | F5: =F4/1.1 -> 0 | G5: =G4/1.1 -> 0 | H5: =H4/1.1 -> 0 | I5: =I4/1.1 -> 0 | J5: =J4/1.1 -> 0 | ... CX5: =CX4/1.1 -> 0
A6: 課税標準額 | C6: =ROUNDDOWN(C5,-2) -> 0 | D6: =ROUNDDOWN(D5,-2) -> 0 | E6: =ROUNDDOWN(E5,-2) -> 0 | F6: =ROUNDDOWN(F5,-2) -> 0 | G6: =ROUNDDOWN(G5,-2) -> 0 | H6: =ROUNDDOWN(H5,-2) -> 0 | I6: =ROUNDDOWN(I5,-2) -> 0 | J6: =ROUNDDOWN(J5,-2) -> 0 | ... CX6: =ROUNDDOWN(CX5,-2) -> 0
A7: 宿泊者数 | B7: 1 | C7: =IF('①-1入力シート（宿泊人数）【1人当】'!C7>0, IF(C$5/'①-1入力シート（宿泊人数）【1人当】'!C7>=50000, 500, IF(C$5/'①-1入力シート（宿泊人数）【1人当】'!C7>=20000, 200, 100)) * '①-1入力シート（宿泊人数）【1人当】'!C7, 0) -> 0 | D7: =IF('①-1入力シート（宿泊人数）【1人当】'!D7>0, IF(D$5/'①-1入力シート（宿泊人数）【1人当】'!D7>=50000, 500, IF(D$5/'①-1入力シート（宿泊人数）【1人当】'!D7>=20000, 200, 100)) * '①-1入力シート（宿泊人数）【1人当】'!D7, 0) -> 0 | E7: =IF('①-1入力シート（宿泊人数）【1人当】'!E7>0, IF(E$5/'①-1入力シート（宿泊人数）【1人当】'!E7>=50000, 500, IF(E$5/'①-1入力シート（宿泊人数）【1人当】'!E7>=20000, 200, 100)) * '①-1入力シート（宿泊人数）【1人当】'!E7, 0) -> 0 | F7: =IF('①-1入力シート（宿泊人数）【1人当】'!F7>0, IF(F$5/'①-1入力シート（宿泊人数）【1人当】'!F7>=50000, 500, IF(F$5/'①-1入力シート（宿泊人数）【1人当】'!F7>=20000, 200, 100)) * '①-1入力シート（宿泊人数）【1人当】'!F7, 0) -> 0 | G7: =IF('①-1入力シート（宿泊人数）【1人当】'!G7>0, IF(G$5/'①-1入力シート（宿泊人数）【1人当】'!G7>=50000, 500, IF(G$5/'①-1入力シート（宿泊人数）【1人当】'!G7>=20000, 200, 100)) * '①-1入力シート（宿泊人数）【1人当】'!G7, 0) -> 0 | H7: =IF('①-1入力シート（宿泊人数）【1人当】'!H7>0, IF(H$5/'①-1入力シート（宿泊人数）【1人当】'!H7>=50000, 500, IF(H$5/'①-1入力シート（宿泊人数）【1人当】'!H7>=20000, 200, 100)) * '①-1入力シート（宿泊人数）【1人当】'!H7, 0) -> 0 | I7: =IF('①-1入力シート（宿泊人数）【1人当】'!I7>0, IF(I$5/'①-1入力シート（宿泊人数）【1人当】'!I7>=50000, 500, IF(I$5/'①-1入力シート（宿泊人数）【1人当】'!I7>=20000, 200, 100)) * '①-1入力シート（宿泊人数）【1人当】'!I7, 0) -> 0 | J7: =IF('①-1入力シート（宿泊人数）【1人当】'!J7>0, IF(J$5/'①-1入力シート（宿泊人数）【1人当】'!J7>=50000, 500, IF(J$5/'①-1入力シート（宿泊人数）【1人当】'!J7>=20000, 200, 100)) * '①-1入力シート（宿泊人数）【1人当】'!J7, 0) -> 0 | ... CW7: =IF('①-1入力シート（宿泊人数）【1人当】'!CW7>0, IF(CW$5/'①-1入力シート（宿泊人数）【1人当】'!CW7>=50000, 500, IF(CW$5/'①-1入力シート（宿泊人数）【1人当】'!CW7>=20000, 200, 100)) * '①-1入力シート（宿泊人数）【1人当】'!CW7, 0) -> 0 | CX7: =IF('①-1入力シート（宿泊人数）【1人当】'!CX7>0, IF(CX$6/'①-1入力シート（宿泊人数）【1人当】'!CX7>=50000, 500, IF(CX$6/'①-1入力シート（宿泊人数）【1人当】'!CX7>=20000, 200, 100)) * '①-1入力シート（宿泊人数）【1人当】'!CX7, 0) -> 0 | CZ7: ='①-1入力シート（宿泊人数）【1人当】'!CZ7 -> 0
B8: 2 | C8: =IF('①-1入力シート（宿泊人数）【1人当】'!C8>0, IF(C$5/'①-1入力シート（宿泊人数）【1人当】'!C8>=50000, 500, IF(C$5/'①-1入力シート（宿泊人数）【1人当】'!C8>=20000, 200, 100)) * '①-1入力シート（宿泊人数）【1人当】'!C8, 0) -> 0 | D8: =IF('①-1入力シート（宿泊人数）【1人当】'!D8>0, IF(D$5/'①-1入力シート（宿泊人数）【1人当】'!D8>=50000, 500, IF(D$5/'①-1入力シート（宿泊人数）【1人当】'!D8>=20000, 200, 100)) * '①-1入力シート（宿泊人数）【1人当】'!D8, 0) -> 0 | E8: =IF('①-1入力シート（宿泊人数）【1人当】'!E8>0, IF(E$5/'①-1入力シート（宿泊人数）【1人当】'!E8>=50000, 500, IF(E$5/'①-1入力シート（宿泊人数）【1人当】'!E8>=20000, 200, 100)) * '①-1入力シート（宿泊人数）【1人当】'!E8, 0) -> 0 | F8: =IF('①-1入力シート（宿泊人数）【1人当】'!F8>0, IF(F$5/'①-1入力シート（宿泊人数）【1人当】'!F8>=50000, 500, IF(F$5/'①-1入力シート（宿泊人数）【1人当】'!F8>=20000, 200, 100)) * '①-1入力シート（宿泊人数）【1人当】'!F8, 0) -> 0 | G8: =IF('①-1入力シート（宿泊人数）【1人当】'!G8>0, IF(G$5/'①-1入力シート（宿泊人数）【1人当】'!G8>=50000, 500, IF(G$5/'①-1入力シート（宿泊人数）【1人当】'!G8>=20000, 200, 100)) * '①-1入力シート（宿泊人数）【1人当】'!G8, 0) -> 0 | H8: =IF('①-1入力シート（宿泊人数）【1人当】'!H8>0, IF(H$5/'①-1入力シート（宿泊人数）【1人当】'!H8>=50000, 500, IF(H$5/'①-1入力シート（宿泊人数）【1人当】'!H8>=20000, 200, 100)) * '①-1入力シート（宿泊人数）【1人当】'!H8, 0) -> 0 | I8: =IF('①-1入力シート（宿泊人数）【1人当】'!I8>0, IF(I$5/'①-1入力シート（宿泊人数）【1人当】'!I8>=50000, 500, IF(I$5/'①-1入力シート（宿泊人数）【1人当】'!I8>=20000, 200, 100)) * '①-1入力シート（宿泊人数）【1人当】'!I8, 0) -> 0 | J8: =IF('①-1入力シート（宿泊人数）【1人当】'!J8>0, IF(J$5/'①-1入力シート（宿泊人数）【1人当】'!J8>=50000, 500, IF(J$5/'①-1入力シート（宿泊人数）【1人当】'!J8>=20000, 200, 100)) * '①-1入力シート（宿泊人数）【1人当】'!J8, 0) -> 0 | ... CX8: =IF('①-1入力シート（宿泊人数）【1人当】'!CX8>0, IF(CX$5/'①-1入力シート（宿泊人数）【1人当】'!CX8>=50000, 500, IF(CX$5/'①-1入力シート（宿泊人数）【1人当】'!CX8>=20000, 200, 100)) * '①-1入力シート（宿泊人数）【1人当】'!CX8, 0) -> 0 | CZ8: ='①-1入力シート（宿泊人数）【1人当】'!CZ8 -> 0
B9: 3 | C9: =IF('①-1入力シート（宿泊人数）【1人当】'!C9>0, IF(C$5/'①-1入力シート（宿泊人数）【1人当】'!C9>=50000, 500, IF(C$5/'①-1入力シート（宿泊人数）【1人当】'!C9>=20000, 200, 100)) * '①-1入力シート（宿泊人数）【1人当】'!C9, 0) -> 0 | D9: =IF('①-1入力シート（宿泊人数）【1人当】'!D9>0, IF(D$5/'①-1入力シート（宿泊人数）【1人当】'!D9>=50000, 500, IF(D$5/'①-1入力シート（宿泊人数）【1人当】'!D9>=20000, 200, 100)) * '①-1入力シート（宿泊人数）【1人当】'!D9, 0) -> 0 | E9: =IF('①-1入力シート（宿泊人数）【1人当】'!E9>0, IF(E$5/'①-1入力シート（宿泊人数）【1人当】'!E9>=50000, 500, IF(E$5/'①-1入力シート（宿泊人数）【1人当】'!E9>=20000, 200, 100)) * '①-1入力シート（宿泊人数）【1人当】'!E9, 0) -> 0 | F9: =IF('①-1入力シート（宿泊人数）【1人当】'!F9>0, IF(F$5/'①-1入力シート（宿泊人数）【1人当】'!F9>=50000, 500, IF(F$5/'①-1入力シート（宿泊人数）【1人当】'!F9>=20000, 200, 100)) * '①-1入力シート（宿泊人数）【1人当】'!F9, 0) -> 0 | G9: =IF('①-1入力シート（宿泊人数）【1人当】'!G9>0, IF(G$5/'①-1入力シート（宿泊人数）【1人当】'!G9>=50000, 500, IF(G$5/'①-1入力シート（宿泊人数）【1人当】'!G9>=20000, 200, 100)) * '①-1入力シート（宿泊人数）【1人当】'!G9, 0) -> 0 | H9: =IF('①-1入力シート（宿泊人数）【1人当】'!H9>0, IF(H$5/'①-1入力シート（宿泊人数）【1人当】'!H9>=50000, 500, IF(H$5/'①-1入力シート（宿泊人数）【1人当】'!H9>=20000, 200, 100)) * '①-1入力シート（宿泊人数）【1人当】'!H9, 0) -> 0 | I9: =IF('①-1入力シート（宿泊人数）【1人当】'!I9>0, IF(I$5/'①-1入力シート（宿泊人数）【1人当】'!I9>=50000, 500, IF(I$5/'①-1入力シート（宿泊人数）【1人当】'!I9>=20000, 200, 100)) * '①-1入力シート（宿泊人数）【1人当】'!I9, 0) -> 0 | J9: =IF('①-1入力シート（宿泊人数）【1人当】'!J9>0, IF(J$5/'①-1入力シート（宿泊人数）【1人当】'!J9>=50000, 500, IF(J$5/'①-1入力シート（宿泊人数）【1人当】'!J9>=20000, 200, 100)) * '①-1入力シート（宿泊人数）【1人当】'!J9, 0) -> 0 | ... CX9: =IF('①-1入力シート（宿泊人数）【1人当】'!CX9>0, IF(CX$5/'①-1入力シート（宿泊人数）【1人当】'!CX9>=50000, 500, IF(CX$5/'①-1入力シート（宿泊人数）【1人当】'!CX9>=20000, 200, 100)) * '①-1入力シート（宿泊人数）【1人当】'!CX9, 0) -> 0 | CZ9: ='①-1入力シート（宿泊人数）【1人当】'!CZ9 -> 0
B10: 4 | C10: =IF('①-1入力シート（宿泊人数）【1人当】'!C10>0, IF(C$5/'①-1入力シート（宿泊人数）【1人当】'!C10>=50000, 500, IF(C$5/'①-1入力シート（宿泊人数）【1人当】'!C10>=20000, 200, 100)) * '①-1入力シート（宿泊人数）【1人当】'!C10, 0) -> 0 | D10: =IF('①-1入力シート（宿泊人数）【1人当】'!D10>0, IF(D$5/'①-1入力シート（宿泊人数）【1人当】'!D10>=50000, 500, IF(D$5/'①-1入力シート（宿泊人数）【1人当】'!D10>=20000, 200, 100)) * '①-1入力シート（宿泊人数）【1人当】'!D10, 0) -> 0 | E10: =IF('①-1入力シート（宿泊人数）【1人当】'!E10>0, IF(E$5/'①-1入力シート（宿泊人数）【1人当】'!E10>=50000, 500, IF(E$5/'①-1入力シート（宿泊人数）【1人当】'!E10>=20000, 200, 100)) * '①-1入力シート（宿泊人数）【1人当】'!E10, 0) -> 0 | F10: =IF('①-1入力シート（宿泊人数）【1人当】'!F10>0, IF(F$5/'①-1入力シート（宿泊人数）【1人当】'!F10>=50000, 500, IF(F$5/'①-1入力シート（宿泊人数）【1人当】'!F10>=20000, 200, 100)) * '①-1入力シート（宿泊人数）【1人当】'!F10, 0) -> 0 | G10: =IF('①-1入力シート（宿泊人数）【1人当】'!G10>0, IF(G$5/'①-1入力シート（宿泊人数）【1人当】'!G10>=50000, 500, IF(G$5/'①-1入力シート（宿泊人数）【1人当】'!G10>=20000, 200, 100)) * '①-1入力シート（宿泊人数）【1人当】'!G10, 0) -> 0 | H10: =IF('①-1入力シート（宿泊人数）【1人当】'!H10>0, IF(H$5/'①-1入力シート（宿泊人数）【1人当】'!H10>=50000, 500, IF(H$5/'①-1入力シート（宿泊人数）【1人当】'!H10>=20000, 200, 100)) * '①-1入力シート（宿泊人数）【1人当】'!H10, 0) -> 0 | I10: =IF('①-1入力シート（宿泊人数）【1人当】'!I10>0, IF(I$5/'①-1入力シート（宿泊人数）【1人当】'!I10>=50000, 500, IF(I$5/'①-1入力シート（宿泊人数）【1人当】'!I10>=20000, 200, 100)) * '①-1入力シート（宿泊人数）【1人当】'!I10, 0) -> 0 | J10: =IF('①-1入力シート（宿泊人数）【1人当】'!J10>0, IF(J$5/'①-1入力シート（宿泊人数）【1人当】'!J10>=50000, 500, IF(J$5/'①-1入力シート（宿泊人数）【1人当】'!J10>=20000, 200, 100)) * '①-1入力シート（宿泊人数）【1人当】'!J10, 0) -> 0 | ... CX10: =IF('①-1入力シート（宿泊人数）【1人当】'!CX10>0, IF(CX$5/'①-1入力シート（宿泊人数）【1人当】'!CX10>=50000, 500, IF(CX$5/'①-1入力シート（宿泊人数）【1人当】'!CX10>=20000, 200, 100)) * '①-1入力シート（宿泊人数）【1人当】'!CX10, 0) -> 0 | CZ10: ='①-1入力シート（宿泊人数）【1人当】'!CZ10 -> 0
B11: 5 | C11: =IF('①-1入力シート（宿泊人数）【1人当】'!C11>0, IF(C$5/'①-1入力シート（宿泊人数）【1人当】'!C11>=50000, 500, IF(C$5/'①-1入力シート（宿泊人数）【1人当】'!C11>=20000, 200, 100)) * '①-1入力シート（宿泊人数）【1人当】'!C11, 0) -> 0 | D11: =IF('①-1入力シート（宿泊人数）【1人当】'!D11>0, IF(D$5/'①-1入力シート（宿泊人数）【1人当】'!D11>=50000, 500, IF(D$5/'①-1入力シート（宿泊人数）【1人当】'!D11>=20000, 200, 100)) * '①-1入力シート（宿泊人数）【1人当】'!D11, 0) -> 0 | E11: =IF('①-1入力シート（宿泊人数）【1人当】'!E11>0, IF(E$5/'①-1入力シート（宿泊人数）【1人当】'!E11>=50000, 500, IF(E$5/'①-1入力シート（宿泊人数）【1人当】'!E11>=20000, 200, 100)) * '①-1入力シート（宿泊人数）【1人当】'!E11, 0) -> 0 | F11: =IF('①-1入力シート（宿泊人数）【1人当】'!F11>0, IF(F$5/'①-1入力シート（宿泊人数）【1人当】'!F11>=50000, 500, IF(F$5/'①-1入力シート（宿泊人数）【1人当】'!F11>=20000, 200, 100)) * '①-1入力シート（宿泊人数）【1人当】'!F11, 0) -> 0 | G11: =IF('①-1入力シート（宿泊人数）【1人当】'!G11>0, IF(G$5/'①-1入力シート（宿泊人数）【1人当】'!G11>=50000, 500, IF(G$5/'①-1入力シート（宿泊人数）【1人当】'!G11>=20000, 200, 100)) * '①-1入力シート（宿泊人数）【1人当】'!G11, 0) -> 0 | H11: =IF('①-1入力シート（宿泊人数）【1人当】'!H11>0, IF(H$5/'①-1入力シート（宿泊人数）【1人当】'!H11>=50000, 500, IF(H$5/'①-1入力シート（宿泊人数）【1人当】'!H11>=20000, 200, 100)) * '①-1入力シート（宿泊人数）【1人当】'!H11, 0) -> 0 | I11: =IF('①-1入力シート（宿泊人数）【1人当】'!I11>0, IF(I$5/'①-1入力シート（宿泊人数）【1人当】'!I11>=50000, 500, IF(I$5/'①-1入力シート（宿泊人数）【1人当】'!I11>=20000, 200, 100)) * '①-1入力シート（宿泊人数）【1人当】'!I11, 0) -> 0 | J11: =IF('①-1入力シート（宿泊人数）【1人当】'!J11>0, IF(J$5/'①-1入力シート（宿泊人数）【1人当】'!J11>=50000, 500, IF(J$5/'①-1入力シート（宿泊人数）【1人当】'!J11>=20000, 200, 100)) * '①-1入力シート（宿泊人数）【1人当】'!J11, 0) -> 0 | ... CX11: =IF('①-1入力シート（宿泊人数）【1人当】'!CX11>0, IF(CX$5/'①-1入力シート（宿泊人数）【1人当】'!CX11>=50000, 500, IF(CX$5/'①-1入力シート（宿泊人数）【1人当】'!CX11>=20000, 200, 100)) * '①-1入力シート（宿泊人数）【1人当】'!CX11, 0) -> 0 | CZ11: ='①-1入力シート（宿泊人数）【1人当】'!CZ11 -> 0
B12: 6 | C12: =IF('①-1入力シート（宿泊人数）【1人当】'!C12>0, IF(C$5/'①-1入力シート（宿泊人数）【1人当】'!C12>=50000, 500, IF(C$5/'①-1入力シート（宿泊人数）【1人当】'!C12>=20000, 200, 100)) * '①-1入力シート（宿泊人数）【1人当】'!C12, 0) -> 0 | D12: =IF('①-1入力シート（宿泊人数）【1人当】'!D12>0, IF(D$5/'①-1入力シート（宿泊人数）【1人当】'!D12>=50000, 500, IF(D$5/'①-1入力シート（宿泊人数）【1人当】'!D12>=20000, 200, 100)) * '①-1入力シート（宿泊人数）【1人当】'!D12, 0) -> 0 | E12: =IF('①-1入力シート（宿泊人数）【1人当】'!E12>0, IF(E$5/'①-1入力シート（宿泊人数）【1人当】'!E12>=50000, 500, IF(E$5/'①-1入力シート（宿泊人数）【1人当】'!E12>=20000, 200, 100)) * '①-1入力シート（宿泊人数）【1人当】'!E12, 0) -> 0 | F12: =IF('①-1入力シート（宿泊人数）【1人当】'!F12>0, IF(F$5/'①-1入力シート（宿泊人数）【1人当】'!F12>=50000, 500, IF(F$5/'①-1入力シート（宿泊人数）【1人当】'!F12>=20000, 200, 100)) * '①-1入力シート（宿泊人数）【1人当】'!F12, 0) -> 0 | G12: =IF('①-1入力シート（宿泊人数）【1人当】'!G12>0, IF(G$5/'①-1入力シート（宿泊人数）【1人当】'!G12>=50000, 500, IF(G$5/'①-1入力シート（宿泊人数）【1人当】'!G12>=20000, 200, 100)) * '①-1入力シート（宿泊人数）【1人当】'!G12, 0) -> 0 | H12: =IF('①-1入力シート（宿泊人数）【1人当】'!H12>0, IF(H$5/'①-1入力シート（宿泊人数）【1人当】'!H12>=50000, 500, IF(H$5/'①-1入力シート（宿泊人数）【1人当】'!H12>=20000, 200, 100)) * '①-1入力シート（宿泊人数）【1人当】'!H12, 0) -> 0 | I12: =IF('①-1入力シート（宿泊人数）【1人当】'!I12>0, IF(I$5/'①-1入力シート（宿泊人数）【1人当】'!I12>=50000, 500, IF(I$5/'①-1入力シート（宿泊人数）【1人当】'!I12>=20000, 200, 100)) * '①-1入力シート（宿泊人数）【1人当】'!I12, 0) -> 0 | J12: =IF('①-1入力シート（宿泊人数）【1人当】'!J12>0, IF(J$5/'①-1入力シート（宿泊人数）【1人当】'!J12>=50000, 500, IF(J$5/'①-1入力シート（宿泊人数）【1人当】'!J12>=20000, 200, 100)) * '①-1入力シート（宿泊人数）【1人当】'!J12, 0) -> 0 | ... CX12: =IF('①-1入力シート（宿泊人数）【1人当】'!CX12>0, IF(CX$5/'①-1入力シート（宿泊人数）【1人当】'!CX12>=50000, 500, IF(CX$5/'①-1入力シート（宿泊人数）【1人当】'!CX12>=20000, 200, 100)) * '①-1入力シート（宿泊人数）【1人当】'!CX12, 0) -> 0 | CZ12: ='①-1入力シート（宿泊人数）【1人当】'!CZ12 -> 0
B13: 7 | C13: =IF('①-1入力シート（宿泊人数）【1人当】'!C13>0, IF(C$5/'①-1入力シート（宿泊人数）【1人当】'!C13>=50000, 500, IF(C$5/'①-1入力シート（宿泊人数）【1人当】'!C13>=20000, 200, 100)) * '①-1入力シート（宿泊人数）【1人当】'!C13, 0) -> 0 | D13: =IF('①-1入力シート（宿泊人数）【1人当】'!D13>0, IF(D$5/'①-1入力シート（宿泊人数）【1人当】'!D13>=50000, 500, IF(D$5/'①-1入力シート（宿泊人数）【1人当】'!D13>=20000, 200, 100)) * '①-1入力シート（宿泊人数）【1人当】'!D13, 0) -> 0 | E13: =IF('①-1入力シート（宿泊人数）【1人当】'!E13>0, IF(E$5/'①-1入力シート（宿泊人数）【1人当】'!E13>=50000, 500, IF(E$5/'①-1入力シート（宿泊人数）【1人当】'!E13>=20000, 200, 100)) * '①-1入力シート（宿泊人数）【1人当】'!E13, 0) -> 0 | F13: =IF('①-1入力シート（宿泊人数）【1人当】'!F13>0, IF(F$5/'①-1入力シート（宿泊人数）【1人当】'!F13>=50000, 500, IF(F$5/'①-1入力シート（宿泊人数）【1人当】'!F13>=20000, 200, 100)) * '①-1入力シート（宿泊人数）【1人当】'!F13, 0) -> 0 | G13: =IF('①-1入力シート（宿泊人数）【1人当】'!G13>0, IF(G$5/'①-1入力シート（宿泊人数）【1人当】'!G13>=50000, 500, IF(G$5/'①-1入力シート（宿泊人数）【1人当】'!G13>=20000, 200, 100)) * '①-1入力シート（宿泊人数）【1人当】'!G13, 0) -> 0 | H13: =IF('①-1入力シート（宿泊人数）【1人当】'!H13>0, IF(H$5/'①-1入力シート（宿泊人数）【1人当】'!H13>=50000, 500, IF(H$5/'①-1入力シート（宿泊人数）【1人当】'!H13>=20000, 200, 100)) * '①-1入力シート（宿泊人数）【1人当】'!H13, 0) -> 0 | I13: =IF('①-1入力シート（宿泊人数）【1人当】'!I13>0, IF(I$5/'①-1入力シート（宿泊人数）【1人当】'!I13>=50000, 500, IF(I$5/'①-1入力シート（宿泊人数）【1人当】'!I13>=20000, 200, 100)) * '①-1入力シート（宿泊人数）【1人当】'!I13, 0) -> 0 | J13: =IF('①-1入力シート（宿泊人数）【1人当】'!J13>0, IF(J$5/'①-1入力シート（宿泊人数）【1人当】'!J13>=50000, 500, IF(J$5/'①-1入力シート（宿泊人数）【1人当】'!J13>=20000, 200, 100)) * '①-1入力シート（宿泊人数）【1人当】'!J13, 0) -> 0 | ... CX13: =IF('①-1入力シート（宿泊人数）【1人当】'!CX13>0, IF(CX$5/'①-1入力シート（宿泊人数）【1人当】'!CX13>=50000, 500, IF(CX$5/'①-1入力シート（宿泊人数）【1人当】'!CX13>=20000, 200, 100)) * '①-1入力シート（宿泊人数）【1人当】'!CX13, 0) -> 0 | CZ13: ='①-1入力シート（宿泊人数）【1人当】'!CZ13 -> 0
B14: 8 | C14: =IF('①-1入力シート（宿泊人数）【1人当】'!C14>0, IF(C$5/'①-1入力シート（宿泊人数）【1人当】'!C14>=50000, 500, IF(C$5/'①-1入力シート（宿泊人数）【1人当】'!C14>=20000, 200, 100)) * '①-1入力シート（宿泊人数）【1人当】'!C14, 0) -> 0 | D14: =IF('①-1入力シート（宿泊人数）【1人当】'!D14>0, IF(D$5/'①-1入力シート（宿泊人数）【1人当】'!D14>=50000, 500, IF(D$5/'①-1入力シート（宿泊人数）【1人当】'!D14>=20000, 200, 100)) * '①-1入力シート（宿泊人数）【1人当】'!D14, 0) -> 0 | E14: =IF('①-1入力シート（宿泊人数）【1人当】'!E14>0, IF(E$5/'①-1入力シート（宿泊人数）【1人当】'!E14>=50000, 500, IF(E$5/'①-1入力シート（宿泊人数）【1人当】'!E14>=20000, 200, 100)) * '①-1入力シート（宿泊人数）【1人当】'!E14, 0) -> 0 | F14: =IF('①-1入力シート（宿泊人数）【1人当】'!F14>0, IF(F$5/'①-1入力シート（宿泊人数）【1人当】'!F14>=50000, 500, IF(F$5/'①-1入力シート（宿泊人数）【1人当】'!F14>=20000, 200, 100)) * '①-1入力シート（宿泊人数）【1人当】'!F14, 0) -> 0 | G14: =IF('①-1入力シート（宿泊人数）【1人当】'!G14>0, IF(G$5/'①-1入力シート（宿泊人数）【1人当】'!G14>=50000, 500, IF(G$5/'①-1入力シート（宿泊人数）【1人当】'!G14>=20000, 200, 100)) * '①-1入力シート（宿泊人数）【1人当】'!G14, 0) -> 0 | H14: =IF('①-1入力シート（宿泊人数）【1人当】'!H14>0, IF(H$5/'①-1入力シート（宿泊人数）【1人当】'!H14>=50000, 500, IF(H$5/'①-1入力シート（宿泊人数）【1人当】'!H14>=20000, 200, 100)) * '①-1入力シート（宿泊人数）【1人当】'!H14, 0) -> 0 | I14: =IF('①-1入力シート（宿泊人数）【1人当】'!I14>0, IF(I$5/'①-1入力シート（宿泊人数）【1人当】'!I14>=50000, 500, IF(I$5/'①-1入力シート（宿泊人数）【1人当】'!I14>=20000, 200, 100)) * '①-1入力シート（宿泊人数）【1人当】'!I14, 0) -> 0 | J14: =IF('①-1入力シート（宿泊人数）【1人当】'!J14>0, IF(J$5/'①-1入力シート（宿泊人数）【1人当】'!J14>=50000, 500, IF(J$5/'①-1入力シート（宿泊人数）【1人当】'!J14>=20000, 200, 100)) * '①-1入力シート（宿泊人数）【1人当】'!J14, 0) -> 0 | ... CX14: =IF('①-1入力シート（宿泊人数）【1人当】'!CX14>0, IF(CX$5/'①-1入力シート（宿泊人数）【1人当】'!CX14>=50000, 500, IF(CX$5/'①-1入力シート（宿泊人数）【1人当】'!CX14>=20000, 200, 100)) * '①-1入力シート（宿泊人数）【1人当】'!CX14, 0) -> 0 | CZ14: ='①-1入力シート（宿泊人数）【1人当】'!CZ14 -> 0
B15: 9 | C15: =IF('①-1入力シート（宿泊人数）【1人当】'!C15>0, IF(C$5/'①-1入力シート（宿泊人数）【1人当】'!C15>=50000, 500, IF(C$5/'①-1入力シート（宿泊人数）【1人当】'!C15>=20000, 200, 100)) * '①-1入力シート（宿泊人数）【1人当】'!C15, 0) -> 0 | D15: =IF('①-1入力シート（宿泊人数）【1人当】'!D15>0, IF(D$5/'①-1入力シート（宿泊人数）【1人当】'!D15>=50000, 500, IF(D$5/'①-1入力シート（宿泊人数）【1人当】'!D15>=20000, 200, 100)) * '①-1入力シート（宿泊人数）【1人当】'!D15, 0) -> 0 | E15: =IF('①-1入力シート（宿泊人数）【1人当】'!E15>0, IF(E$5/'①-1入力シート（宿泊人数）【1人当】'!E15>=50000, 500, IF(E$5/'①-1入力シート（宿泊人数）【1人当】'!E15>=20000, 200, 100)) * '①-1入力シート（宿泊人数）【1人当】'!E15, 0) -> 0 | F15: =IF('①-1入力シート（宿泊人数）【1人当】'!F15>0, IF(F$5/'①-1入力シート（宿泊人数）【1人当】'!F15>=50000, 500, IF(F$5/'①-1入力シート（宿泊人数）【1人当】'!F15>=20000, 200, 100)) * '①-1入力シート（宿泊人数）【1人当】'!F15, 0) -> 0 | G15: =IF('①-1入力シート（宿泊人数）【1人当】'!G15>0, IF(G$5/'①-1入力シート（宿泊人数）【1人当】'!G15>=50000, 500, IF(G$5/'①-1入力シート（宿泊人数）【1人当】'!G15>=20000, 200, 100)) * '①-1入力シート（宿泊人数）【1人当】'!G15, 0) -> 0 | H15: =IF('①-1入力シート（宿泊人数）【1人当】'!H15>0, IF(H$5/'①-1入力シート（宿泊人数）【1人当】'!H15>=50000, 500, IF(H$5/'①-1入力シート（宿泊人数）【1人当】'!H15>=20000, 200, 100)) * '①-1入力シート（宿泊人数）【1人当】'!H15, 0) -> 0 | I15: =IF('①-1入力シート（宿泊人数）【1人当】'!I15>0, IF(I$5/'①-1入力シート（宿泊人数）【1人当】'!I15>=50000, 500, IF(I$5/'①-1入力シート（宿泊人数）【1人当】'!I15>=20000, 200, 100)) * '①-1入力シート（宿泊人数）【1人当】'!I15, 0) -> 0 | J15: =IF('①-1入力シート（宿泊人数）【1人当】'!J15>0, IF(J$5/'①-1入力シート（宿泊人数）【1人当】'!J15>=50000, 500, IF(J$5/'①-1入力シート（宿泊人数）【1人当】'!J15>=20000, 200, 100)) * '①-1入力シート（宿泊人数）【1人当】'!J15, 0) -> 0 | ... CX15: =IF('①-1入力シート（宿泊人数）【1人当】'!CX15>0, IF(CX$5/'①-1入力シート（宿泊人数）【1人当】'!CX15>=50000, 500, IF(CX$5/'①-1入力シート（宿泊人数）【1人当】'!CX15>=20000, 200, 100)) * '①-1入力シート（宿泊人数）【1人当】'!CX15, 0) -> 0 | CZ15: ='①-1入力シート（宿泊人数）【1人当】'!CZ15 -> 0
B16: 10 | C16: =IF('①-1入力シート（宿泊人数）【1人当】'!C16>0, IF(C$5/'①-1入力シート（宿泊人数）【1人当】'!C16>=50000, 500, IF(C$5/'①-1入力シート（宿泊人数）【1人当】'!C16>=20000, 200, 100)) * '①-1入力シート（宿泊人数）【1人当】'!C16, 0) -> 0 | D16: =IF('①-1入力シート（宿泊人数）【1人当】'!D16>0, IF(D$5/'①-1入力シート（宿泊人数）【1人当】'!D16>=50000, 500, IF(D$5/'①-1入力シート（宿泊人数）【1人当】'!D16>=20000, 200, 100)) * '①-1入力シート（宿泊人数）【1人当】'!D16, 0) -> 0 | E16: =IF('①-1入力シート（宿泊人数）【1人当】'!E16>0, IF(E$5/'①-1入力シート（宿泊人数）【1人当】'!E16>=50000, 500, IF(E$5/'①-1入力シート（宿泊人数）【1人当】'!E16>=20000, 200, 100)) * '①-1入力シート（宿泊人数）【1人当】'!E16, 0) -> 0 | F16: =IF('①-1入力シート（宿泊人数）【1人当】'!F16>0, IF(F$5/'①-1入力シート（宿泊人数）【1人当】'!F16>=50000, 500, IF(F$5/'①-1入力シート（宿泊人数）【1人当】'!F16>=20000, 200, 100)) * '①-1入力シート（宿泊人数）【1人当】'!F16, 0) -> 0 | G16: =IF('①-1入力シート（宿泊人数）【1人当】'!G16>0, IF(G$5/'①-1入力シート（宿泊人数）【1人当】'!G16>=50000, 500, IF(G$5/'①-1入力シート（宿泊人数）【1人当】'!G16>=20000, 200, 100)) * '①-1入力シート（宿泊人数）【1人当】'!G16, 0) -> 0 | H16: =IF('①-1入力シート（宿泊人数）【1人当】'!H16>0, IF(H$5/'①-1入力シート（宿泊人数）【1人当】'!H16>=50000, 500, IF(H$5/'①-1入力シート（宿泊人数）【1人当】'!H16>=20000, 200, 100)) * '①-1入力シート（宿泊人数）【1人当】'!H16, 0) -> 0 | I16: =IF('①-1入力シート（宿泊人数）【1人当】'!I16>0, IF(I$5/'①-1入力シート（宿泊人数）【1人当】'!I16>=50000, 500, IF(I$5/'①-1入力シート（宿泊人数）【1人当】'!I16>=20000, 200, 100)) * '①-1入力シート（宿泊人数）【1人当】'!I16, 0) -> 0 | J16: =IF('①-1入力シート（宿泊人数）【1人当】'!J16>0, IF(J$5/'①-1入力シート（宿泊人数）【1人当】'!J16>=50000, 500, IF(J$5/'①-1入力シート（宿泊人数）【1人当】'!J16>=20000, 200, 100)) * '①-1入力シート（宿泊人数）【1人当】'!J16, 0) -> 0 | ... CX16: =IF('①-1入力シート（宿泊人数）【1人当】'!CX16>0, IF(CX$5/'①-1入力シート（宿泊人数）【1人当】'!CX16>=50000, 500, IF(CX$5/'①-1入力シート（宿泊人数）【1人当】'!CX16>=20000, 200, 100)) * '①-1入力シート（宿泊人数）【1人当】'!CX16, 0) -> 0 | CZ16: ='①-1入力シート（宿泊人数）【1人当】'!CZ16 -> 0
B17: 11 | C17: =IF('①-1入力シート（宿泊人数）【1人当】'!C17>0, IF(C$5/'①-1入力シート（宿泊人数）【1人当】'!C17>=50000, 500, IF(C$5/'①-1入力シート（宿泊人数）【1人当】'!C17>=20000, 200, 100)) * '①-1入力シート（宿泊人数）【1人当】'!C17, 0) -> 0 | D17: =IF('①-1入力シート（宿泊人数）【1人当】'!D17>0, IF(D$5/'①-1入力シート（宿泊人数）【1人当】'!D17>=50000, 500, IF(D$5/'①-1入力シート（宿泊人数）【1人当】'!D17>=20000, 200, 100)) * '①-1入力シート（宿泊人数）【1人当】'!D17, 0) -> 0 | E17: =IF('①-1入力シート（宿泊人数）【1人当】'!E17>0, IF(E$5/'①-1入力シート（宿泊人数）【1人当】'!E17>=50000, 500, IF(E$5/'①-1入力シート（宿泊人数）【1人当】'!E17>=20000, 200, 100)) * '①-1入力シート（宿泊人数）【1人当】'!E17, 0) -> 0 | F17: =IF('①-1入力シート（宿泊人数）【1人当】'!F17>0, IF(F$5/'①-1入力シート（宿泊人数）【1人当】'!F17>=50000, 500, IF(F$5/'①-1入力シート（宿泊人数）【1人当】'!F17>=20000, 200, 100)) * '①-1入力シート（宿泊人数）【1人当】'!F17, 0) -> 0 | G17: =IF('①-1入力シート（宿泊人数）【1人当】'!G17>0, IF(G$5/'①-1入力シート（宿泊人数）【1人当】'!G17>=50000, 500, IF(G$5/'①-1入力シート（宿泊人数）【1人当】'!G17>=20000, 200, 100)) * '①-1入力シート（宿泊人数）【1人当】'!G17, 0) -> 0 | H17: =IF('①-1入力シート（宿泊人数）【1人当】'!H17>0, IF(H$5/'①-1入力シート（宿泊人数）【1人当】'!H17>=50000, 500, IF(H$5/'①-1入力シート（宿泊人数）【1人当】'!H17>=20000, 200, 100)) * '①-1入力シート（宿泊人数）【1人当】'!H17, 0) -> 0 | I17: =IF('①-1入力シート（宿泊人数）【1人当】'!I17>0, IF(I$5/'①-1入力シート（宿泊人数）【1人当】'!I17>=50000, 500, IF(I$5/'①-1入力シート（宿泊人数）【1人当】'!I17>=20000, 200, 100)) * '①-1入力シート（宿泊人数）【1人当】'!I17, 0) -> 0 | J17: =IF('①-1入力シート（宿泊人数）【1人当】'!J17>0, IF(J$5/'①-1入力シート（宿泊人数）【1人当】'!J17>=50000, 500, IF(J$5/'①-1入力シート（宿泊人数）【1人当】'!J17>=20000, 200, 100)) * '①-1入力シート（宿泊人数）【1人当】'!J17, 0) -> 0 | ... CX17: =IF('①-1入力シート（宿泊人数）【1人当】'!CX17>0, IF(CX$5/'①-1入力シート（宿泊人数）【1人当】'!CX17>=50000, 500, IF(CX$5/'①-1入力シート（宿泊人数）【1人当】'!CX17>=20000, 200, 100)) * '①-1入力シート（宿泊人数）【1人当】'!CX17, 0) -> 0 | CZ17: ='①-1入力シート（宿泊人数）【1人当】'!CZ17 -> 0
B18: 12 | C18: =IF('①-1入力シート（宿泊人数）【1人当】'!C18>0, IF(C$5/'①-1入力シート（宿泊人数）【1人当】'!C18>=50000, 500, IF(C$5/'①-1入力シート（宿泊人数）【1人当】'!C18>=20000, 200, 100)) * '①-1入力シート（宿泊人数）【1人当】'!C18, 0) -> 0 | D18: =IF('①-1入力シート（宿泊人数）【1人当】'!D18>0, IF(D$5/'①-1入力シート（宿泊人数）【1人当】'!D18>=50000, 500, IF(D$5/'①-1入力シート（宿泊人数）【1人当】'!D18>=20000, 200, 100)) * '①-1入力シート（宿泊人数）【1人当】'!D18, 0) -> 0 | E18: =IF('①-1入力シート（宿泊人数）【1人当】'!E18>0, IF(E$5/'①-1入力シート（宿泊人数）【1人当】'!E18>=50000, 500, IF(E$5/'①-1入力シート（宿泊人数）【1人当】'!E18>=20000, 200, 100)) * '①-1入力シート（宿泊人数）【1人当】'!E18, 0) -> 0 | F18: =IF('①-1入力シート（宿泊人数）【1人当】'!F18>0, IF(F$5/'①-1入力シート（宿泊人数）【1人当】'!F18>=50000, 500, IF(F$5/'①-1入力シート（宿泊人数）【1人当】'!F18>=20000, 200, 100)) * '①-1入力シート（宿泊人数）【1人当】'!F18, 0) -> 0 | G18: =IF('①-1入力シート（宿泊人数）【1人当】'!G18>0, IF(G$5/'①-1入力シート（宿泊人数）【1人当】'!G18>=50000, 500, IF(G$5/'①-1入力シート（宿泊人数）【1人当】'!G18>=20000, 200, 100)) * '①-1入力シート（宿泊人数）【1人当】'!G18, 0) -> 0 | H18: =IF('①-1入力シート（宿泊人数）【1人当】'!H18>0, IF(H$5/'①-1入力シート（宿泊人数）【1人当】'!H18>=50000, 500, IF(H$5/'①-1入力シート（宿泊人数）【1人当】'!H18>=20000, 200, 100)) * '①-1入力シート（宿泊人数）【1人当】'!H18, 0) -> 0 | I18: =IF('①-1入力シート（宿泊人数）【1人当】'!I18>0, IF(I$5/'①-1入力シート（宿泊人数）【1人当】'!I18>=50000, 500, IF(I$5/'①-1入力シート（宿泊人数）【1人当】'!I18>=20000, 200, 100)) * '①-1入力シート（宿泊人数）【1人当】'!I18, 0) -> 0 | J18: =IF('①-1入力シート（宿泊人数）【1人当】'!J18>0, IF(J$5/'①-1入力シート（宿泊人数）【1人当】'!J18>=50000, 500, IF(J$5/'①-1入力シート（宿泊人数）【1人当】'!J18>=20000, 200, 100)) * '①-1入力シート（宿泊人数）【1人当】'!J18, 0) -> 0 | ... CX18: =IF('①-1入力シート（宿泊人数）【1人当】'!CX18>0, IF(CX$5/'①-1入力シート（宿泊人数）【1人当】'!CX18>=50000, 500, IF(CX$5/'①-1入力シート（宿泊人数）【1人当】'!CX18>=20000, 200, 100)) * '①-1入力シート（宿泊人数）【1人当】'!CX18, 0) -> 0 | CZ18: ='①-1入力シート（宿泊人数）【1人当】'!CZ18 -> 0
B19: 13 | C19: =IF('①-1入力シート（宿泊人数）【1人当】'!C19>0, IF(C$5/'①-1入力シート（宿泊人数）【1人当】'!C19>=50000, 500, IF(C$5/'①-1入力シート（宿泊人数）【1人当】'!C19>=20000, 200, 100)) * '①-1入力シート（宿泊人数）【1人当】'!C19, 0) -> 0 | D19: =IF('①-1入力シート（宿泊人数）【1人当】'!D19>0, IF(D$5/'①-1入力シート（宿泊人数）【1人当】'!D19>=50000, 500, IF(D$5/'①-1入力シート（宿泊人数）【1人当】'!D19>=20000, 200, 100)) * '①-1入力シート（宿泊人数）【1人当】'!D19, 0) -> 0 | E19: =IF('①-1入力シート（宿泊人数）【1人当】'!E19>0, IF(E$5/'①-1入力シート（宿泊人数）【1人当】'!E19>=50000, 500, IF(E$5/'①-1入力シート（宿泊人数）【1人当】'!E19>=20000, 200, 100)) * '①-1入力シート（宿泊人数）【1人当】'!E19, 0) -> 0 | F19: =IF('①-1入力シート（宿泊人数）【1人当】'!F19>0, IF(F$5/'①-1入力シート（宿泊人数）【1人当】'!F19>=50000, 500, IF(F$5/'①-1入力シート（宿泊人数）【1人当】'!F19>=20000, 200, 100)) * '①-1入力シート（宿泊人数）【1人当】'!F19, 0) -> 0 | G19: =IF('①-1入力シート（宿泊人数）【1人当】'!G19>0, IF(G$5/'①-1入力シート（宿泊人数）【1人当】'!G19>=50000, 500, IF(G$5/'①-1入力シート（宿泊人数）【1人当】'!G19>=20000, 200, 100)) * '①-1入力シート（宿泊人数）【1人当】'!G19, 0) -> 0 | H19: =IF('①-1入力シート（宿泊人数）【1人当】'!H19>0, IF(H$5/'①-1入力シート（宿泊人数）【1人当】'!H19>=50000, 500, IF(H$5/'①-1入力シート（宿泊人数）【1人当】'!H19>=20000, 200, 100)) * '①-1入力シート（宿泊人数）【1人当】'!H19, 0) -> 0 | I19: =IF('①-1入力シート（宿泊人数）【1人当】'!I19>0, IF(I$5/'①-1入力シート（宿泊人数）【1人当】'!I19>=50000, 500, IF(I$5/'①-1入力シート（宿泊人数）【1人当】'!I19>=20000, 200, 100)) * '①-1入力シート（宿泊人数）【1人当】'!I19, 0) -> 0 | J19: =IF('①-1入力シート（宿泊人数）【1人当】'!J19>0, IF(J$5/'①-1入力シート（宿泊人数）【1人当】'!J19>=50000, 500, IF(J$5/'①-1入力シート（宿泊人数）【1人当】'!J19>=20000, 200, 100)) * '①-1入力シート（宿泊人数）【1人当】'!J19, 0) -> 0 | ... CX19: =IF('①-1入力シート（宿泊人数）【1人当】'!CX19>0, IF(CX$5/'①-1入力シート（宿泊人数）【1人当】'!CX19>=50000, 500, IF(CX$5/'①-1入力シート（宿泊人数）【1人当】'!CX19>=20000, 200, 100)) * '①-1入力シート（宿泊人数）【1人当】'!CX19, 0) -> 0 | CZ19: ='①-1入力シート（宿泊人数）【1人当】'!CZ19 -> 0
... B37: 31 | C37: =IF('①-1入力シート（宿泊人数）【1人当】'!C37>0, IF(C$5/'①-1入力シート（宿泊人数）【1人当】'!C37>=50000, 500, IF(C$5/'①-1入力シート（宿泊人数）【1人当】'!C37>=20000, 200, 100)) * '①-1入力シート（宿泊人数）【1人当】'!C37, 0) -> 0 | D37: =IF('①-1入力シート（宿泊人数）【1人当】'!D37>0, IF(D$5/'①-1入力シート（宿泊人数）【1人当】'!D37>=50000, 500, IF(D$5/'①-1入力シート（宿泊人数）【1人当】'!D37>=20000, 200, 100)) * '①-1入力シート（宿泊人数）【1人当】'!D37, 0) -> 0 | E37: =IF('①-1入力シート（宿泊人数）【1人当】'!E37>0, IF(E$5/'①-1入力シート（宿泊人数）【1人当】'!E37>=50000, 500, IF(E$5/'①-1入力シート（宿泊人数）【1人当】'!E37>=20000, 200, 100)) * '①-1入力シート（宿泊人数）【1人当】'!E37, 0) -> 0 | F37: =IF('①-1入力シート（宿泊人数）【1人当】'!F37>0, IF(F$5/'①-1入力シート（宿泊人数）【1人当】'!F37>=50000, 500, IF(F$5/'①-1入力シート（宿泊人数）【1人当】'!F37>=20000, 200, 100)) * '①-1入力シート（宿泊人数）【1人当】'!F37, 0) -> 0 | G37: =IF('①-1入力シート（宿泊人数）【1人当】'!G37>0, IF(G$5/'①-1入力シート（宿泊人数）【1人当】'!G37>=50000, 500, IF(G$5/'①-1入力シート（宿泊人数）【1人当】'!G37>=20000, 200, 100)) * '①-1入力シート（宿泊人数）【1人当】'!G37, 0) -> 0 | H37: =IF('①-1入力シート（宿泊人数）【1人当】'!H37>0, IF(H$5/'①-1入力シート（宿泊人数）【1人当】'!H37>=50000, 500, IF(H$5/'①-1入力シート（宿泊人数）【1人当】'!H37>=20000, 200, 100)) * '①-1入力シート（宿泊人数）【1人当】'!H37, 0) -> 0 | I37: =IF('①-1入力シート（宿泊人数）【1人当】'!I37>0, IF(I$5/'①-1入力シート（宿泊人数）【1人当】'!I37>=50000, 500, IF(I$5/'①-1入力シート（宿泊人数）【1人当】'!I37>=20000, 200, 100)) * '①-1入力シート（宿泊人数）【1人当】'!I37, 0) -> 0 | J37: =IF('①-1入力シート（宿泊人数）【1人当】'!J37>0, IF(J$5/'①-1入力シート（宿泊人数）【1人当】'!J37>=50000, 500, IF(J$5/'①-1入力シート（宿泊人数）【1人当】'!J37>=20000, 200, 100)) * '①-1入力シート（宿泊人数）【1人当】'!J37, 0) -> 0 | ... CX37: =IF('①-1入力シート（宿泊人数）【1人当】'!CX37>0, IF(CX$5/'①-1入力シート（宿泊人数）【1人当】'!CX37>=50000, 500, IF(CX$5/'①-1入力シート（宿泊人数）【1人当】'!CX37>=20000, 200, 100)) * '①-1入力シート（宿泊人数）【1人当】'!CX37, 0) -> 0 | CZ37: ='①-1入力シート（宿泊人数）【1人当】'!CZ37 -> 0
A38: 計 | C38: =SUM(C7:C37) -> 0 | D38: =SUM(D7:D37) -> 0 | E38: =SUM(E7:E37) -> 0 | F38: =SUM(F7:F37) -> 0 | G38: =SUM(G7:G37) -> 0 | H38: =SUM(H7:H37) -> 0 | I38: =SUM(I7:I37) -> 0 | J38: =SUM(J7:J37) -> 0 | ... CX38: =SUM(CX7:CX37) -> 0 | CZ38: =SUM(CZ7:CZ37) -> 0

Sheet ⑦-2Aのうち道分【室】
A1: ='①-1入力シート（宿泊人数）【1人当】'!A1 -> 0 | B1: 年 | C1: ='①-1入力シート（宿泊人数）【1人当】'!C1 -> 0 | D1: 月分
C2: 1 | D2: 2 | E2: 3 | F2: 4 | G2: 5 | H2: 6 | I2: 7 | J2: 8 | K2: 9 | L2: 10 | M2: 11 | N2: 12 | O2: 13 | P2: 14 | Q2: 15 | R2: 16 | S2: 17 | T2: 18 | U2: 19 | V2: 20 | W2: 21 | X2: 22 | Y2: 23 | Z2: 24 | AA2: 25 | AB2: 26 | AC2: 27 | AD2: 28 | AE2: 29 | AF2: 30 | AG2: 31 | AH2: 32 | AI2: 33 | AJ2: 34 | AK2: 35 | AL2: 36 | AM2: 37 | AN2: 38 | AO2: 39 | AP2: 40 | AQ2: 41 | AR2: 42 | AS2: 43 | AT2: 44 | AU2: 45 | AV2: 46 | AW2: 47 | AX2: 48 | AY2: 49 | AZ2: 50 | BA2: 51 | BB2: 52 | BC2: 53 | BD2: 54 | BE2: 55 | BF2: 56 | BG2: 57 | BH2: 58 | BI2: 59 | BJ2: 60 | BK2: 61 | BL2: 62 | BM2: 63 | BN2: 64 | BO2: 65 | BP2: 66 | BQ2: 67 | BR2: 68 | BS2: 69 | BT2: 70 | BU2: 71 | BV2: 72 | BW2: 73 | BX2: 74 | BY2: 75 | BZ2: 76 | CA2: 77 | CB2: 78 | CC2: 79 | CD2: 80 | CE2: 81 | CF2: 82 | CG2: 83 | CH2: 84 | CI2: 85 | CJ2: 86 | CK2: 87 | CL2: 88 | CM2: 89 | CN2: 90 | CO2: 91 | CP2: 92 | CQ2: 93 | CR2: 94 | CS2: 95 | CT2: 96 | CU2: 97 | CV2: 98 | CW2: 99 | CX2: 100
A3: 建物名 | C3: ='①-2入力シート（宿泊人数）【室】'!C3 -> 0 | CY3: 合計 道税額
A4: 個別名 | C4: ='①-2入力シート（宿泊人数）【室】'!C4 -> 0 | D4: ='①-2入力シート（宿泊人数）【室】'!D4 -> 0 | E4: ='①-2入力シート（宿泊人数）【室】'!E4 -> 0 | F4: ='①-2入力シート（宿泊人数）【室】'!F4 -> 0 | G4: ='①-2入力シート（宿泊人数）【室】'!G4 -> 0 | H4: ='①-2入力シート（宿泊人数）【室】'!H4 -> 0 | I4: ='①-2入力シート（宿泊人数）【室】'!I4 -> 0 | J4: ='①-2入力シート（宿泊人数）【室】'!J4 -> 0 | ... CX4: ='①-2入力シート（宿泊人数）【室】'!CX4 -> 0 | DA4: 税額計
A5: 宿泊料金（税込） | C5: ='①-2入力シート（宿泊人数）【室】'!C5 -> 0 | D5: ='①-2入力シート（宿泊人数）【室】'!D5 -> 0 | E5: ='①-2入力シート（宿泊人数）【室】'!E5 -> 0 | F5: ='①-2入力シート（宿泊人数）【室】'!F5 -> 0 | G5: ='①-2入力シート（宿泊人数）【室】'!G5 -> 0 | H5: ='①-2入力シート（宿泊人数）【室】'!H5 -> 0 | I5: ='①-2入力シート（宿泊人数）【室】'!I5 -> 0 | J5: ='①-2入力シート（宿泊人数）【室】'!J5 -> 0 | ... CX5: ='①-2入力シート（宿泊人数）【室】'!CX5 -> 0
A6: 宿泊料金（税抜額） | C6: =C5/1.1 -> 0 | D6: =D5/1.1 -> 0 | E6: =E5/1.1 -> 0 | F6: =F5/1.1 -> 0 | G6: =G5/1.1 -> 0 | H6: =H5/1.1 -> 0 | I6: =I5/1.1 -> 0 | J6: =J5/1.1 -> 0 | ... CX6: =CX5/1.1 -> 0
A7: 課税標準額 | C7: =ROUNDDOWN(C$6,-2) -> 0 | D7: =ROUNDDOWN(D$6,-2) -> 0 | E7: =ROUNDDOWN(E$6,-2) -> 0 | F7: =ROUNDDOWN(F$6,-2) -> 0 | G7: =ROUNDDOWN(G$6,-2) -> 0 | H7: =ROUNDDOWN(H$6,-2) -> 0 | I7: =ROUNDDOWN(I$6,-2) -> 0 | J7: =ROUNDDOWN(J$6,-2) -> 0 | ... CX7: =ROUNDDOWN(CX$6,-2) -> 0
A8: 室数 | C8: ='①-2入力シート（宿泊人数）【室】'!C8 -> 0
A9: 北海道宿泊税分 | B9: 1 | C9: =IF('①-2入力シート（宿泊人数）【室】'!C9>0, IF(C$7/'①-2入力シート（宿泊人数）【室】'!C9>=50000, 500, IF(C$7/'①-2入力シート（宿泊人数）【室】'!C9>=20000, 200, 100)) * '①-2入力シート（宿泊人数）【室】'!C9, 0) -> 0 | D9: =IF('①-2入力シート（宿泊人数）【室】'!D9>0, IF(D$7/'①-2入力シート（宿泊人数）【室】'!D9>=50000, 500, IF(D$7/'①-2入力シート（宿泊人数）【室】'!D9>=20000, 200, 100)) * '①-2入力シート（宿泊人数）【室】'!D9, 0) -> 0 | E9: =IF('①-2入力シート（宿泊人数）【室】'!E9>0, IF(E$7/'①-2入力シート（宿泊人数）【室】'!E9>=50000, 500, IF(E$7/'①-2入力シート（宿泊人数）【室】'!E9>=20000, 200, 100)) * '①-2入力シート（宿泊人数）【室】'!E9, 0) -> 0 | F9: =IF('①-2入力シート（宿泊人数）【室】'!F9>0, IF(F$7/'①-2入力シート（宿泊人数）【室】'!F9>=50000, 500, IF(F$7/'①-2入力シート（宿泊人数）【室】'!F9>=20000, 200, 100)) * '①-2入力シート（宿泊人数）【室】'!F9, 0) -> 0 | G9: =IF('①-2入力シート（宿泊人数）【室】'!G9>0, IF(G$7/'①-2入力シート（宿泊人数）【室】'!G9>=50000, 500, IF(G$7/'①-2入力シート（宿泊人数）【室】'!G9>=20000, 200, 100)) * '①-2入力シート（宿泊人数）【室】'!G9, 0) -> 0 | H9: =IF('①-2入力シート（宿泊人数）【室】'!H9>0, IF(H$7/'①-2入力シート（宿泊人数）【室】'!H9>=50000, 500, IF(H$7/'①-2入力シート（宿泊人数）【室】'!H9>=20000, 200, 100)) * '①-2入力シート（宿泊人数）【室】'!H9, 0) -> 0 | I9: =IF('①-2入力シート（宿泊人数）【室】'!I9>0, IF(I$7/'①-2入力シート（宿泊人数）【室】'!I9>=50000, 500, IF(I$7/'①-2入力シート（宿泊人数）【室】'!I9>=20000, 200, 100)) * '①-2入力シート（宿泊人数）【室】'!I9, 0) -> 0 | J9: =IF('①-2入力シート（宿泊人数）【室】'!J9>0, IF(J$7/'①-2入力シート（宿泊人数）【室】'!J9>=50000, 500, IF(J$7/'①-2入力シート（宿泊人数）【室】'!J9>=20000, 200, 100)) * '①-2入力シート（宿泊人数）【室】'!J9, 0) -> 0 | ... CX9: =IF('①-2入力シート（宿泊人数）【室】'!CX9>0, IF(CX$7/'①-2入力シート（宿泊人数）【室】'!CX9>=50000, 500, IF(CX$7/'①-2入力シート（宿泊人数）【室】'!CX9>=20000, 200, 100)) * '①-2入力シート（宿泊人数）【室】'!CX9, 0) -> 0 | CY9: =SUM(C9:CX9) -> 0 | DA9: =CY9 -> 0
B10: 2 | C10: =IF('①-2入力シート（宿泊人数）【室】'!C10>0, IF(C$7/'①-2入力シート（宿泊人数）【室】'!C10>=50000, 500, IF(C$7/'①-2入力シート（宿泊人数）【室】'!C10>=20000, 200, 100)) * '①-2入力シート（宿泊人数）【室】'!C10, 0) -> 0 | D10: =IF('①-2入力シート（宿泊人数）【室】'!D10>0, IF(D$7/'①-2入力シート（宿泊人数）【室】'!D10>=50000, 500, IF(D$7/'①-2入力シート（宿泊人数）【室】'!D10>=20000, 200, 100)) * '①-2入力シート（宿泊人数）【室】'!D10, 0) -> 0 | E10: =IF('①-2入力シート（宿泊人数）【室】'!E10>0, IF(E$7/'①-2入力シート（宿泊人数）【室】'!E10>=50000, 500, IF(E$7/'①-2入力シート（宿泊人数）【室】'!E10>=20000, 200, 100)) * '①-2入力シート（宿泊人数）【室】'!E10, 0) -> 0 | F10: =IF('①-2入力シート（宿泊人数）【室】'!F10>0, IF(F$7/'①-2入力シート（宿泊人数）【室】'!F10>=50000, 500, IF(F$7/'①-2入力シート（宿泊人数）【室】'!F10>=20000, 200, 100)) * '①-2入力シート（宿泊人数）【室】'!F10, 0) -> 0 | G10: =IF('①-2入力シート（宿泊人数）【室】'!G10>0, IF(G$7/'①-2入力シート（宿泊人数）【室】'!G10>=50000, 500, IF(G$7/'①-2入力シート（宿泊人数）【室】'!G10>=20000, 200, 100)) * '①-2入力シート（宿泊人数）【室】'!G10, 0) -> 0 | H10: =IF('①-2入力シート（宿泊人数）【室】'!H10>0, IF(H$7/'①-2入力シート（宿泊人数）【室】'!H10>=50000, 500, IF(H$7/'①-2入力シート（宿泊人数）【室】'!H10>=20000, 200, 100)) * '①-2入力シート（宿泊人数）【室】'!H10, 0) -> 0 | I10: =IF('①-2入力シート（宿泊人数）【室】'!I10>0, IF(I$7/'①-2入力シート（宿泊人数）【室】'!I10>=50000, 500, IF(I$7/'①-2入力シート（宿泊人数）【室】'!I10>=20000, 200, 100)) * '①-2入力シート（宿泊人数）【室】'!I10, 0) -> 0 | J10: =IF('①-2入力シート（宿泊人数）【室】'!J10>0, IF(J$7/'①-2入力シート（宿泊人数）【室】'!J10>=50000, 500, IF(J$7/'①-2入力シート（宿泊人数）【室】'!J10>=20000, 200, 100)) * '①-2入力シート（宿泊人数）【室】'!J10, 0) -> 0 | ... CX10: =IF('①-2入力シート（宿泊人数）【室】'!CX10>0, IF(CX$7/'①-2入力シート（宿泊人数）【室】'!CX10>=50000, 500, IF(CX$7/'①-2入力シート（宿泊人数）【室】'!CX10>=20000, 200, 100)) * '①-2入力シート（宿泊人数）【室】'!CX10, 0) -> 0 | CY10: =SUM(C10:CX10) -> 0 | DA10: =CY10 -> 0
B11: 3 | C11: =IF('①-2入力シート（宿泊人数）【室】'!C11>0, IF(C$7/'①-2入力シート（宿泊人数）【室】'!C11>=50000, 500, IF(C$7/'①-2入力シート（宿泊人数）【室】'!C11>=20000, 200, 100)) * '①-2入力シート（宿泊人数）【室】'!C11, 0) -> 0 | D11: =IF('①-2入力シート（宿泊人数）【室】'!D11>0, IF(D$7/'①-2入力シート（宿泊人数）【室】'!D11>=50000, 500, IF(D$7/'①-2入力シート（宿泊人数）【室】'!D11>=20000, 200, 100)) * '①-2入力シート（宿泊人数）【室】'!D11, 0) -> 0 | E11: =IF('①-2入力シート（宿泊人数）【室】'!E11>0, IF(E$7/'①-2入力シート（宿泊人数）【室】'!E11>=50000, 500, IF(E$7/'①-2入力シート（宿泊人数）【室】'!E11>=20000, 200, 100)) * '①-2入力シート（宿泊人数）【室】'!E11, 0) -> 0 | F11: =IF('①-2入力シート（宿泊人数）【室】'!F11>0, IF(F$7/'①-2入力シート（宿泊人数）【室】'!F11>=50000, 500, IF(F$7/'①-2入力シート（宿泊人数）【室】'!F11>=20000, 200, 100)) * '①-2入力シート（宿泊人数）【室】'!F11, 0) -> 0 | G11: =IF('①-2入力シート（宿泊人数）【室】'!G11>0, IF(G$7/'①-2入力シート（宿泊人数）【室】'!G11>=50000, 500, IF(G$7/'①-2入力シート（宿泊人数）【室】'!G11>=20000, 200, 100)) * '①-2入力シート（宿泊人数）【室】'!G11, 0) -> 0 | H11: =IF('①-2入力シート（宿泊人数）【室】'!H11>0, IF(H$7/'①-2入力シート（宿泊人数）【室】'!H11>=50000, 500, IF(H$7/'①-2入力シート（宿泊人数）【室】'!H11>=20000, 200, 100)) * '①-2入力シート（宿泊人数）【室】'!H11, 0) -> 0 | I11: =IF('①-2入力シート（宿泊人数）【室】'!I11>0, IF(I$7/'①-2入力シート（宿泊人数）【室】'!I11>=50000, 500, IF(I$7/'①-2入力シート（宿泊人数）【室】'!I11>=20000, 200, 100)) * '①-2入力シート（宿泊人数）【室】'!I11, 0) -> 0 | J11: =IF('①-2入力シート（宿泊人数）【室】'!J11>0, IF(J$7/'①-2入力シート（宿泊人数）【室】'!J11>=50000, 500, IF(J$7/'①-2入力シート（宿泊人数）【室】'!J11>=20000, 200, 100)) * '①-2入力シート（宿泊人数）【室】'!J11, 0) -> 0 | ... CX11: =IF('①-2入力シート（宿泊人数）【室】'!CX11>0, IF(CX$7/'①-2入力シート（宿泊人数）【室】'!CX11>=50000, 500, IF(CX$7/'①-2入力シート（宿泊人数）【室】'!CX11>=20000, 200, 100)) * '①-2入力シート（宿泊人数）【室】'!CX11, 0) -> 0 | CY11: =SUM(C11:CX11) -> 0 | DA11: =CY11 -> 0
B12: 4 | C12: =IF('①-2入力シート（宿泊人数）【室】'!C12>0, IF(C$7/'①-2入力シート（宿泊人数）【室】'!C12>=50000, 500, IF(C$7/'①-2入力シート（宿泊人数）【室】'!C12>=20000, 200, 100)) * '①-2入力シート（宿泊人数）【室】'!C12, 0) -> 0 | D12: =IF('①-2入力シート（宿泊人数）【室】'!D12>0, IF(D$7/'①-2入力シート（宿泊人数）【室】'!D12>=50000, 500, IF(D$7/'①-2入力シート（宿泊人数）【室】'!D12>=20000, 200, 100)) * '①-2入力シート（宿泊人数）【室】'!D12, 0) -> 0 | E12: =IF('①-2入力シート（宿泊人数）【室】'!E12>0, IF(E$7/'①-2入力シート（宿泊人数）【室】'!E12>=50000, 500, IF(E$7/'①-2入力シート（宿泊人数）【室】'!E12>=20000, 200, 100)) * '①-2入力シート（宿泊人数）【室】'!E12, 0) -> 0 | F12: =IF('①-2入力シート（宿泊人数）【室】'!F12>0, IF(F$7/'①-2入力シート（宿泊人数）【室】'!F12>=50000, 500, IF(F$7/'①-2入力シート（宿泊人数）【室】'!F12>=20000, 200, 100)) * '①-2入力シート（宿泊人数）【室】'!F12, 0) -> 0 | G12: =IF('①-2入力シート（宿泊人数）【室】'!G12>0, IF(G$7/'①-2入力シート（宿泊人数）【室】'!G12>=50000, 500, IF(G$7/'①-2入力シート（宿泊人数）【室】'!G12>=20000, 200, 100)) * '①-2入力シート（宿泊人数）【室】'!G12, 0) -> 0 | H12: =IF('①-2入力シート（宿泊人数）【室】'!H12>0, IF(H$7/'①-2入力シート（宿泊人数）【室】'!H12>=50000, 500, IF(H$7/'①-2入力シート（宿泊人数）【室】'!H12>=20000, 200, 100)) * '①-2入力シート（宿泊人数）【室】'!H12, 0) -> 0 | I12: =IF('①-2入力シート（宿泊人数）【室】'!I12>0, IF(I$7/'①-2入力シート（宿泊人数）【室】'!I12>=50000, 500, IF(I$7/'①-2入力シート（宿泊人数）【室】'!I12>=20000, 200, 100)) * '①-2入力シート（宿泊人数）【室】'!I12, 0) -> 0 | J12: =IF('①-2入力シート（宿泊人数）【室】'!J12>0, IF(J$7/'①-2入力シート（宿泊人数）【室】'!J12>=50000, 500, IF(J$7/'①-2入力シート（宿泊人数）【室】'!J12>=20000, 200, 100)) * '①-2入力シート（宿泊人数）【室】'!J12, 0) -> 0 | ... CX12: =IF('①-2入力シート（宿泊人数）【室】'!CX12>0, IF(CX$7/'①-2入力シート（宿泊人数）【室】'!CX12>=50000, 500, IF(CX$7/'①-2入力シート（宿泊人数）【室】'!CX12>=20000, 200, 100)) * '①-2入力シート（宿泊人数）【室】'!CX12, 0) -> 0 | CY12: =SUM(C12:CX12) -> 0 | DA12: =CY12 -> 0
B13: 5 | C13: =IF('①-2入力シート（宿泊人数）【室】'!C13>0, IF(C$7/'①-2入力シート（宿泊人数）【室】'!C13>=50000, 500, IF(C$7/'①-2入力シート（宿泊人数）【室】'!C13>=20000, 200, 100)) * '①-2入力シート（宿泊人数）【室】'!C13, 0) -> 0 | D13: =IF('①-2入力シート（宿泊人数）【室】'!D13>0, IF(D$7/'①-2入力シート（宿泊人数）【室】'!D13>=50000, 500, IF(D$7/'①-2入力シート（宿泊人数）【室】'!D13>=20000, 200, 100)) * '①-2入力シート（宿泊人数）【室】'!D13, 0) -> 0 | E13: =IF('①-2入力シート（宿泊人数）【室】'!E13>0, IF(E$7/'①-2入力シート（宿泊人数）【室】'!E13>=50000, 500, IF(E$7/'①-2入力シート（宿泊人数）【室】'!E13>=20000, 200, 100)) * '①-2入力シート（宿泊人数）【室】'!E13, 0) -> 0 | F13: =IF('①-2入力シート（宿泊人数）【室】'!F13>0, IF(F$7/'①-2入力シート（宿泊人数）【室】'!F13>=50000, 500, IF(F$7/'①-2入力シート（宿泊人数）【室】'!F13>=20000, 200, 100)) * '①-2入力シート（宿泊人数）【室】'!F13, 0) -> 0 | G13: =IF('①-2入力シート（宿泊人数）【室】'!G13>0, IF(G$7/'①-2入力シート（宿泊人数）【室】'!G13>=50000, 500, IF(G$7/'①-2入力シート（宿泊人数）【室】'!G13>=20000, 200, 100)) * '①-2入力シート（宿泊人数）【室】'!G13, 0) -> 0 | H13: =IF('①-2入力シート（宿泊人数）【室】'!H13>0, IF(H$7/'①-2入力シート（宿泊人数）【室】'!H13>=50000, 500, IF(H$7/'①-2入力シート（宿泊人数）【室】'!H13>=20000, 200, 100)) * '①-2入力シート（宿泊人数）【室】'!H13, 0) -> 0 | I13: =IF('①-2入力シート（宿泊人数）【室】'!I13>0, IF(I$7/'①-2入力シート（宿泊人数）【室】'!I13>=50000, 500, IF(I$7/'①-2入力シート（宿泊人数）【室】'!I13>=20000, 200, 100)) * '①-2入力シート（宿泊人数）【室】'!I13, 0) -> 0 | J13: =IF('①-2入力シート（宿泊人数）【室】'!J13>0, IF(J$7/'①-2入力シート（宿泊人数）【室】'!J13>=50000, 500, IF(J$7/'①-2入力シート（宿泊人数）【室】'!J13>=20000, 200, 100)) * '①-2入力シート（宿泊人数）【室】'!J13, 0) -> 0 | ... CX13: =IF('①-2入力シート（宿泊人数）【室】'!CX13>0, IF(CX$7/'①-2入力シート（宿泊人数）【室】'!CX13>=50000, 500, IF(CX$7/'①-2入力シート（宿泊人数）【室】'!CX13>=20000, 200, 100)) * '①-2入力シート（宿泊人数）【室】'!CX13, 0) -> 0 | CY13: =SUM(C13:CX13) -> 0 | DA13: =CY13 -> 0
B14: 6 | C14: =IF('①-2入力シート（宿泊人数）【室】'!C14>0, IF(C$7/'①-2入力シート（宿泊人数）【室】'!C14>=50000, 500, IF(C$7/'①-2入力シート（宿泊人数）【室】'!C14>=20000, 200, 100)) * '①-2入力シート（宿泊人数）【室】'!C14, 0) -> 0 | D14: =IF('①-2入力シート（宿泊人数）【室】'!D14>0, IF(D$7/'①-2入力シート（宿泊人数）【室】'!D14>=50000, 500, IF(D$7/'①-2入力シート（宿泊人数）【室】'!D14>=20000, 200, 100)) * '①-2入力シート（宿泊人数）【室】'!D14, 0) -> 0 | E14: =IF('①-2入力シート（宿泊人数）【室】'!E14>0, IF(E$7/'①-2入力シート（宿泊人数）【室】'!E14>=50000, 500, IF(E$7/'①-2入力シート（宿泊人数）【室】'!E14>=20000, 200, 100)) * '①-2入力シート（宿泊人数）【室】'!E14, 0) -> 0 | F14: =IF('①-2入力シート（宿泊人数）【室】'!F14>0, IF(F$7/'①-2入力シート（宿泊人数）【室】'!F14>=50000, 500, IF(F$7/'①-2入力シート（宿泊人数）【室】'!F14>=20000, 200, 100)) * '①-2入力シート（宿泊人数）【室】'!F14, 0) -> 0 | G14: =IF('①-2入力シート（宿泊人数）【室】'!G14>0, IF(G$7/'①-2入力シート（宿泊人数）【室】'!G14>=50000, 500, IF(G$7/'①-2入力シート（宿泊人数）【室】'!G14>=20000, 200, 100)) * '①-2入力シート（宿泊人数）【室】'!G14, 0) -> 0 | H14: =IF('①-2入力シート（宿泊人数）【室】'!H14>0, IF(H$7/'①-2入力シート（宿泊人数）【室】'!H14>=50000, 500, IF(H$7/'①-2入力シート（宿泊人数）【室】'!H14>=20000, 200, 100)) * '①-2入力シート（宿泊人数）【室】'!H14, 0) -> 0 | I14: =IF('①-2入力シート（宿泊人数）【室】'!I14>0, IF(I$7/'①-2入力シート（宿泊人数）【室】'!I14>=50000, 500, IF(I$7/'①-2入力シート（宿泊人数）【室】'!I14>=20000, 200, 100)) * '①-2入力シート（宿泊人数）【室】'!I14, 0) -> 0 | J14: =IF('①-2入力シート（宿泊人数）【室】'!J14>0, IF(J$7/'①-2入力シート（宿泊人数）【室】'!J14>=50000, 500, IF(J$7/'①-2入力シート（宿泊人数）【室】'!J14>=20000, 200, 100)) * '①-2入力シート（宿泊人数）【室】'!J14, 0) -> 0 | ... CX14: =IF('①-2入力シート（宿泊人数）【室】'!CX14>0, IF(CX$7/'①-2入力シート（宿泊人数）【室】'!CX14>=50000, 500, IF(CX$7/'①-2入力シート（宿泊人数）【室】'!CX14>=20000, 200, 100)) * '①-2入力シート（宿泊人数）【室】'!CX14, 0) -> 0 | CY14: =SUM(C14:CX14) -> 0 | DA14: =CY14 -> 0
B15: 7 | C15: =IF('①-2入力シート（宿泊人数）【室】'!C15>0, IF(C$7/'①-2入力シート（宿泊人数）【室】'!C15>=50000, 500, IF(C$7/'①-2入力シート（宿泊人数）【室】'!C15>=20000, 200, 100)) * '①-2入力シート（宿泊人数）【室】'!C15, 0) -> 0 | D15: =IF('①-2入力シート（宿泊人数）【室】'!D15>0, IF(D$7/'①-2入力シート（宿泊人数）【室】'!D15>=50000, 500, IF(D$7/'①-2入力シート（宿泊人数）【室】'!D15>=20000, 200, 100)) * '①-2入力シート（宿泊人数）【室】'!D15, 0) -> 0 | E15: =IF('①-2入力シート（宿泊人数）【室】'!E15>0, IF(E$7/'①-2入力シート（宿泊人数）【室】'!E15>=50000, 500, IF(E$7/'①-2入力シート（宿泊人数）【室】'!E15>=20000, 200, 100)) * '①-2入力シート（宿泊人数）【室】'!E15, 0) -> 0 | F15: =IF('①-2入力シート（宿泊人数）【室】'!F15>0, IF(F$7/'①-2入力シート（宿泊人数）【室】'!F15>=50000, 500, IF(F$7/'①-2入力シート（宿泊人数）【室】'!F15>=20000, 200, 100)) * '①-2入力シート（宿泊人数）【室】'!F15, 0) -> 0 | G15: =IF('①-2入力シート（宿泊人数）【室】'!G15>0, IF(G$7/'①-2入力シート（宿泊人数）【室】'!G15>=50000, 500, IF(G$7/'①-2入力シート（宿泊人数）【室】'!G15>=20000, 200, 100)) * '①-2入力シート（宿泊人数）【室】'!G15, 0) -> 0 | H15: =IF('①-2入力シート（宿泊人数）【室】'!H15>0, IF(H$7/'①-2入力シート（宿泊人数）【室】'!H15>=50000, 500, IF(H$7/'①-2入力シート（宿泊人数）【室】'!H15>=20000, 200, 100)) * '①-2入力シート（宿泊人数）【室】'!H15, 0) -> 0 | I15: =IF('①-2入力シート（宿泊人数）【室】'!I15>0, IF(I$7/'①-2入力シート（宿泊人数）【室】'!I15>=50000, 500, IF(I$7/'①-2入力シート（宿泊人数）【室】'!I15>=20000, 200, 100)) * '①-2入力シート（宿泊人数）【室】'!I15, 0) -> 0 | J15: =IF('①-2入力シート（宿泊人数）【室】'!J15>0, IF(J$7/'①-2入力シート（宿泊人数）【室】'!J15>=50000, 500, IF(J$7/'①-2入力シート（宿泊人数）【室】'!J15>=20000, 200, 100)) * '①-2入力シート（宿泊人数）【室】'!J15, 0) -> 0 | ... CX15: =IF('①-2入力シート（宿泊人数）【室】'!CX15>0, IF(CX$7/'①-2入力シート（宿泊人数）【室】'!CX15>=50000, 500, IF(CX$7/'①-2入力シート（宿泊人数）【室】'!CX15>=20000, 200, 100)) * '①-2入力シート（宿泊人数）【室】'!CX15, 0) -> 0 | CY15: =SUM(C15:CX15) -> 0 | DA15: =CY15 -> 0
B16: 8 | C16: =IF('①-2入力シート（宿泊人数）【室】'!C16>0, IF(C$7/'①-2入力シート（宿泊人数）【室】'!C16>=50000, 500, IF(C$7/'①-2入力シート（宿泊人数）【室】'!C16>=20000, 200, 100)) * '①-2入力シート（宿泊人数）【室】'!C16, 0) -> 0 | D16: =IF('①-2入力シート（宿泊人数）【室】'!D16>0, IF(D$7/'①-2入力シート（宿泊人数）【室】'!D16>=50000, 500, IF(D$7/'①-2入力シート（宿泊人数）【室】'!D16>=20000, 200, 100)) * '①-2入力シート（宿泊人数）【室】'!D16, 0) -> 0 | E16: =IF('①-2入力シート（宿泊人数）【室】'!E16>0, IF(E$7/'①-2入力シート（宿泊人数）【室】'!E16>=50000, 500, IF(E$7/'①-2入力シート（宿泊人数）【室】'!E16>=20000, 200, 100)) * '①-2入力シート（宿泊人数）【室】'!E16, 0) -> 0 | F16: =IF('①-2入力シート（宿泊人数）【室】'!F16>0, IF(F$7/'①-2入力シート（宿泊人数）【室】'!F16>=50000, 500, IF(F$7/'①-2入力シート（宿泊人数）【室】'!F16>=20000, 200, 100)) * '①-2入力シート（宿泊人数）【室】'!F16, 0) -> 0 | G16: =IF('①-2入力シート（宿泊人数）【室】'!G16>0, IF(G$7/'①-2入力シート（宿泊人数）【室】'!G16>=50000, 500, IF(G$7/'①-2入力シート（宿泊人数）【室】'!G16>=20000, 200, 100)) * '①-2入力シート（宿泊人数）【室】'!G16, 0) -> 0 | H16: =IF('①-2入力シート（宿泊人数）【室】'!H16>0, IF(H$7/'①-2入力シート（宿泊人数）【室】'!H16>=50000, 500, IF(H$7/'①-2入力シート（宿泊人数）【室】'!H16>=20000, 200, 100)) * '①-2入力シート（宿泊人数）【室】'!H16, 0) -> 0 | I16: =IF('①-2入力シート（宿泊人数）【室】'!I16>0, IF(I$7/'①-2入力シート（宿泊人数）【室】'!I16>=50000, 500, IF(I$7/'①-2入力シート（宿泊人数）【室】'!I16>=20000, 200, 100)) * '①-2入力シート（宿泊人数）【室】'!I16, 0) -> 0 | J16: =IF('①-2入力シート（宿泊人数）【室】'!J16>0, IF(J$7/'①-2入力シート（宿泊人数）【室】'!J16>=50000, 500, IF(J$7/'①-2入力シート（宿泊人数）【室】'!J16>=20000, 200, 100)) * '①-2入力シート（宿泊人数）【室】'!J16, 0) -> 0 | ... CX16: =IF('①-2入力シート（宿泊人数）【室】'!CX16>0, IF(CX$7/'①-2入力シート（宿泊人数）【室】'!CX16>=50000, 500, IF(CX$7/'①-2入力シート（宿泊人数）【室】'!CX16>=20000, 200, 100)) * '①-2入力シート（宿泊人数）【室】'!CX16, 0) -> 0 | CY16: =SUM(C16:CX16) -> 0 | DA16: =CY16 -> 0
B17: 9 | C17: =IF('①-2入力シート（宿泊人数）【室】'!C17>0, IF(C$7/'①-2入力シート（宿泊人数）【室】'!C17>=50000, 500, IF(C$7/'①-2入力シート（宿泊人数）【室】'!C17>=20000, 200, 100)) * '①-2入力シート（宿泊人数）【室】'!C17, 0) -> 0 | D17: =IF('①-2入力シート（宿泊人数）【室】'!D17>0, IF(D$7/'①-2入力シート（宿泊人数）【室】'!D17>=50000, 500, IF(D$7/'①-2入力シート（宿泊人数）【室】'!D17>=20000, 200, 100)) * '①-2入力シート（宿泊人数）【室】'!D17, 0) -> 0 | E17: =IF('①-2入力シート（宿泊人数）【室】'!E17>0, IF(E$7/'①-2入力シート（宿泊人数）【室】'!E17>=50000, 500, IF(E$7/'①-2入力シート（宿泊人数）【室】'!E17>=20000, 200, 100)) * '①-2入力シート（宿泊人数）【室】'!E17, 0) -> 0 | F17: =IF('①-2入力シート（宿泊人数）【室】'!F17>0, IF(F$7/'①-2入力シート（宿泊人数）【室】'!F17>=50000, 500, IF(F$7/'①-2入力シート（宿泊人数）【室】'!F17>=20000, 200, 100)) * '①-2入力シート（宿泊人数）【室】'!F17, 0) -> 0 | G17: =IF('①-2入力シート（宿泊人数）【室】'!G17>0, IF(G$7/'①-2入力シート（宿泊人数）【室】'!G17>=50000, 500, IF(G$7/'①-2入力シート（宿泊人数）【室】'!G17>=20000, 200, 100)) * '①-2入力シート（宿泊人数）【室】'!G17, 0) -> 0 | H17: =IF('①-2入力シート（宿泊人数）【室】'!H17>0, IF(H$7/'①-2入力シート（宿泊人数）【室】'!H17>=50000, 500, IF(H$7/'①-2入力シート（宿泊人数）【室】'!H17>=20000, 200, 100)) * '①-2入力シート（宿泊人数）【室】'!H17, 0) -> 0 | I17: =IF('①-2入力シート（宿泊人数）【室】'!I17>0, IF(I$7/'①-2入力シート（宿泊人数）【室】'!I17>=50000, 500, IF(I$7/'①-2入力シート（宿泊人数）【室】'!I17>=20000, 200, 100)) * '①-2入力シート（宿泊人数）【室】'!I17, 0) -> 0 | J17: =IF('①-2入力シート（宿泊人数）【室】'!J17>0, IF(J$7/'①-2入力シート（宿泊人数）【室】'!J17>=50000, 500, IF(J$7/'①-2入力シート（宿泊人数）【室】'!J17>=20000, 200, 100)) * '①-2入力シート（宿泊人数）【室】'!J17, 0) -> 0 | ... CX17: =IF('①-2入力シート（宿泊人数）【室】'!CX17>0, IF(CX$7/'①-2入力シート（宿泊人数）【室】'!CX17>=50000, 500, IF(CX$7/'①-2入力シート（宿泊人数）【室】'!CX17>=20000, 200, 100)) * '①-2入力シート（宿泊人数）【室】'!CX17, 0) -> 0 | CY17: =SUM(C17:CX17) -> 0 | DA17: =CY17 -> 0
B18: 10 | C18: =IF('①-2入力シート（宿泊人数）【室】'!C18>0, IF(C$7/'①-2入力シート（宿泊人数）【室】'!C18>=50000, 500, IF(C$7/'①-2入力シート（宿泊人数）【室】'!C18>=20000, 200, 100)) * '①-2入力シート（宿泊人数）【室】'!C18, 0) -> 0 | D18: =IF('①-2入力シート（宿泊人数）【室】'!D18>0, IF(D$7/'①-2入力シート（宿泊人数）【室】'!D18>=50000, 500, IF(D$7/'①-2入力シート（宿泊人数）【室】'!D18>=20000, 200, 100)) * '①-2入力シート（宿泊人数）【室】'!D18, 0) -> 0 | E18: =IF('①-2入力シート（宿泊人数）【室】'!E18>0, IF(E$7/'①-2入力シート（宿泊人数）【室】'!E18>=50000, 500, IF(E$7/'①-2入力シート（宿泊人数）【室】'!E18>=20000, 200, 100)) * '①-2入力シート（宿泊人数）【室】'!E18, 0) -> 0 | F18: =IF('①-2入力シート（宿泊人数）【室】'!F18>0, IF(F$7/'①-2入力シート（宿泊人数）【室】'!F18>=50000, 500, IF(F$7/'①-2入力シート（宿泊人数）【室】'!F18>=20000, 200, 100)) * '①-2入力シート（宿泊人数）【室】'!F18, 0) -> 0 | G18: =IF('①-2入力シート（宿泊人数）【室】'!G18>0, IF(G$7/'①-2入力シート（宿泊人数）【室】'!G18>=50000, 500, IF(G$7/'①-2入力シート（宿泊人数）【室】'!G18>=20000, 200, 100)) * '①-2入力シート（宿泊人数）【室】'!G18, 0) -> 0 | H18: =IF('①-2入力シート（宿泊人数）【室】'!H18>0, IF(H$7/'①-2入力シート（宿泊人数）【室】'!H18>=50000, 500, IF(H$7/'①-2入力シート（宿泊人数）【室】'!H18>=20000, 200, 100)) * '①-2入力シート（宿泊人数）【室】'!H18, 0) -> 0 | I18: =IF('①-2入力シート（宿泊人数）【室】'!I18>0, IF(I$7/'①-2入力シート（宿泊人数）【室】'!I18>=50000, 500, IF(I$7/'①-2入力シート（宿泊人数）【室】'!I18>=20000, 200, 100)) * '①-2入力シート（宿泊人数）【室】'!I18, 0) -> 0 | J18: =IF('①-2入力シート（宿泊人数）【室】'!J18>0, IF(J$7/'①-2入力シート（宿泊人数）【室】'!J18>=50000, 500, IF(J$7/'①-2入力シート（宿泊人数）【室】'!J18>=20000, 200, 100)) * '①-2入力シート（宿泊人数）【室】'!J18, 0) -> 0 | ... CX18: =IF('①-2入力シート（宿泊人数）【室】'!CX18>0, IF(CX$7/'①-2入力シート（宿泊人数）【室】'!CX18>=50000, 500, IF(CX$7/'①-2入力シート（宿泊人数）【室】'!CX18>=20000, 200, 100)) * '①-2入力シート（宿泊人数）【室】'!CX18, 0) -> 0 | CY18: =SUM(C18:CX18) -> 0 | DA18: =CY18 -> 0
B19: 11 | C19: =IF('①-2入力シート（宿泊人数）【室】'!C19>0, IF(C$7/'①-2入力シート（宿泊人数）【室】'!C19>=50000, 500, IF(C$7/'①-2入力シート（宿泊人数）【室】'!C19>=20000, 200, 100)) * '①-2入力シート（宿泊人数）【室】'!C19, 0) -> 0 | D19: =IF('①-2入力シート（宿泊人数）【室】'!D19>0, IF(D$7/'①-2入力シート（宿泊人数）【室】'!D19>=50000, 500, IF(D$7/'①-2入力シート（宿泊人数）【室】'!D19>=20000, 200, 100)) * '①-2入力シート（宿泊人数）【室】'!D19, 0) -> 0 | E19: =IF('①-2入力シート（宿泊人数）【室】'!E19>0, IF(E$7/'①-2入力シート（宿泊人数）【室】'!E19>=50000, 500, IF(E$7/'①-2入力シート（宿泊人数）【室】'!E19>=20000, 200, 100)) * '①-2入力シート（宿泊人数）【室】'!E19, 0) -> 0 | F19: =IF('①-2入力シート（宿泊人数）【室】'!F19>0, IF(F$7/'①-2入力シート（宿泊人数）【室】'!F19>=50000, 500, IF(F$7/'①-2入力シート（宿泊人数）【室】'!F19>=20000, 200, 100)) * '①-2入力シート（宿泊人数）【室】'!F19, 0) -> 0 | G19: =IF('①-2入力シート（宿泊人数）【室】'!G19>0, IF(G$7/'①-2入力シート（宿泊人数）【室】'!G19>=50000, 500, IF(G$7/'①-2入力シート（宿泊人数）【室】'!G19>=20000, 200, 100)) * '①-2入力シート（宿泊人数）【室】'!G19, 0) -> 0 | H19: =IF('①-2入力シート（宿泊人数）【室】'!H19>0, IF(H$7/'①-2入力シート（宿泊人数）【室】'!H19>=50000, 500, IF(H$7/'①-2入力シート（宿泊人数）【室】'!H19>=20000, 200, 100)) * '①-2入力シート（宿泊人数）【室】'!H19, 0) -> 0 | I19: =IF('①-2入力シート（宿泊人数）【室】'!I19>0, IF(I$7/'①-2入力シート（宿泊人数）【室】'!I19>=50000, 500, IF(I$7/'①-2入力シート（宿泊人数）【室】'!I19>=20000, 200, 100)) * '①-2入力シート（宿泊人数）【室】'!I19, 0) -> 0 | J19: =IF('①-2入力シート（宿泊人数）【室】'!J19>0, IF(J$7/'①-2入力シート（宿泊人数）【室】'!J19>=50000, 500, IF(J$7/'①-2入力シート（宿泊人数）【室】'!J19>=20000, 200, 100)) * '①-2入力シート（宿泊人数）【室】'!J19, 0) -> 0 | ... CX19: =IF('①-2入力シート（宿泊人数）【室】'!CX19>0, IF(CX$7/'①-2入力シート（宿泊人数）【室】'!CX19>=50000, 500, IF(CX$7/'①-2入力シート（宿泊人数）【室】'!CX19>=20000, 200, 100)) * '①-2入力シート（宿泊人数）【室】'!CX19, 0) -> 0 | CY19: =SUM(C19:CX19) -> 0 | DA19: =CY19 -> 0
B20: 12 | C20: =IF('①-2入力シート（宿泊人数）【室】'!C20>0, IF(C$7/'①-2入力シート（宿泊人数）【室】'!C20>=50000, 500, IF(C$7/'①-2入力シート（宿泊人数）【室】'!C20>=20000, 200, 100)) * '①-2入力シート（宿泊人数）【室】'!C20, 0) -> 0 | D20: =IF('①-2入力シート（宿泊人数）【室】'!D20>0, IF(D$7/'①-2入力シート（宿泊人数）【室】'!D20>=50000, 500, IF(D$7/'①-2入力シート（宿泊人数）【室】'!D20>=20000, 200, 100)) * '①-2入力シート（宿泊人数）【室】'!D20, 0) -> 0 | E20: =IF('①-2入力シート（宿泊人数）【室】'!E20>0, IF(E$7/'①-2入力シート（宿泊人数）【室】'!E20>=50000, 500, IF(E$7/'①-2入力シート（宿泊人数）【室】'!E20>=20000, 200, 100)) * '①-2入力シート（宿泊人数）【室】'!E20, 0) -> 0 | F20: =IF('①-2入力シート（宿泊人数）【室】'!F20>0, IF(F$7/'①-2入力シート（宿泊人数）【室】'!F20>=50000, 500, IF(F$7/'①-2入力シート（宿泊人数）【室】'!F20>=20000, 200, 100)) * '①-2入力シート（宿泊人数）【室】'!F20, 0) -> 0 | G20: =IF('①-2入力シート（宿泊人数）【室】'!G20>0, IF(G$7/'①-2入力シート（宿泊人数）【室】'!G20>=50000, 500, IF(G$7/'①-2入力シート（宿泊人数）【室】'!G20>=20000, 200, 100)) * '①-2入力シート（宿泊人数）【室】'!G20, 0) -> 0 | H20: =IF('①-2入力シート（宿泊人数）【室】'!H20>0, IF(H$7/'①-2入力シート（宿泊人数）【室】'!H20>=50000, 500, IF(H$7/'①-2入力シート（宿泊人数）【室】'!H20>=20000, 200, 100)) * '①-2入力シート（宿泊人数）【室】'!H20, 0) -> 0 | I20: =IF('①-2入力シート（宿泊人数）【室】'!I20>0, IF(I$7/'①-2入力シート（宿泊人数）【室】'!I20>=50000, 500, IF(I$7/'①-2入力シート（宿泊人数）【室】'!I20>=20000, 200, 100)) * '①-2入力シート（宿泊人数）【室】'!I20, 0) -> 0 | J20: =IF('①-2入力シート（宿泊人数）【室】'!J20>0, IF(J$7/'①-2入力シート（宿泊人数）【室】'!J20>=50000, 500, IF(J$7/'①-2入力シート（宿泊人数）【室】'!J20>=20000, 200, 100)) * '①-2入力シート（宿泊人数）【室】'!J20, 0) -> 0 | ... CX20: =IF('①-2入力シート（宿泊人数）【室】'!CX20>0, IF(CX$7/'①-2入力シート（宿泊人数）【室】'!CX20>=50000, 500, IF(CX$7/'①-2入力シート（宿泊人数）【室】'!CX20>=20000, 200, 100)) * '①-2入力シート（宿泊人数）【室】'!CX20, 0) -> 0 | CY20: =SUM(C20:CX20) -> 0 | DA20: =CY20 -> 0
B21: 13 | C21: =IF('①-2入力シート（宿泊人数）【室】'!C21>0, IF(C$7/'①-2入力シート（宿泊人数）【室】'!C21>=50000, 500, IF(C$7/'①-2入力シート（宿泊人数）【室】'!C21>=20000, 200, 100)) * '①-2入力シート（宿泊人数）【室】'!C21, 0) -> 0 | D21: =IF('①-2入力シート（宿泊人数）【室】'!D21>0, IF(D$7/'①-2入力シート（宿泊人数）【室】'!D21>=50000, 500, IF(D$7/'①-2入力シート（宿泊人数）【室】'!D21>=20000, 200, 100)) * '①-2入力シート（宿泊人数）【室】'!D21, 0) -> 0 | E21: =IF('①-2入力シート（宿泊人数）【室】'!E21>0, IF(E$7/'①-2入力シート（宿泊人数）【室】'!E21>=50000, 500, IF(E$7/'①-2入力シート（宿泊人数）【室】'!E21>=20000, 200, 100)) * '①-2入力シート（宿泊人数）【室】'!E21, 0) -> 0 | F21: =IF('①-2入力シート（宿泊人数）【室】'!F21>0, IF(F$7/'①-2入力シート（宿泊人数）【室】'!F21>=50000, 500, IF(F$7/'①-2入力シート（宿泊人数）【室】'!F21>=20000, 200, 100)) * '①-2入力シート（宿泊人数）【室】'!F21, 0) -> 0 | G21: =IF('①-2入力シート（宿泊人数）【室】'!G21>0, IF(G$7/'①-2入力シート（宿泊人数）【室】'!G21>=50000, 500, IF(G$7/'①-2入力シート（宿泊人数）【室】'!G21>=20000, 200, 100)) * '①-2入力シート（宿泊人数）【室】'!G21, 0) -> 0 | H21: =IF('①-2入力シート（宿泊人数）【室】'!H21>0, IF(H$7/'①-2入力シート（宿泊人数）【室】'!H21>=50000, 500, IF(H$7/'①-2入力シート（宿泊人数）【室】'!H21>=20000, 200, 100)) * '①-2入力シート（宿泊人数）【室】'!H21, 0) -> 0 | I21: =IF('①-2入力シート（宿泊人数）【室】'!I21>0, IF(I$7/'①-2入力シート（宿泊人数）【室】'!I21>=50000, 500, IF(I$7/'①-2入力シート（宿泊人数）【室】'!I21>=20000, 200, 100)) * '①-2入力シート（宿泊人数）【室】'!I21, 0) -> 0 | J21: =IF('①-2入力シート（宿泊人数）【室】'!J21>0, IF(J$7/'①-2入力シート（宿泊人数）【室】'!J21>=50000, 500, IF(J$7/'①-2入力シート（宿泊人数）【室】'!J21>=20000, 200, 100)) * '①-2入力シート（宿泊人数）【室】'!J21, 0) -> 0 | ... CX21: =IF('①-2入力シート（宿泊人数）【室】'!CX21>0, IF(CX$7/'①-2入力シート（宿泊人数）【室】'!CX21>=50000, 500, IF(CX$7/'①-2入力シート（宿泊人数）【室】'!CX21>=20000, 200, 100)) * '①-2入力シート（宿泊人数）【室】'!CX21, 0) -> 0 | CY21: =SUM(C21:CX21) -> 0 | DA21: =CY21 -> 0
... B39: 31 | C39: =IF('①-2入力シート（宿泊人数）【室】'!C39>0, IF(C$7/'①-2入力シート（宿泊人数）【室】'!C39>=50000, 500, IF(C$7/'①-2入力シート（宿泊人数）【室】'!C39>=20000, 200, 100)) * '①-2入力シート（宿泊人数）【室】'!C39, 0) -> 0 | D39: =IF('①-2入力シート（宿泊人数）【室】'!D39>0, IF(D$7/'①-2入力シート（宿泊人数）【室】'!D39>=50000, 500, IF(D$7/'①-2入力シート（宿泊人数）【室】'!D39>=20000, 200, 100)) * '①-2入力シート（宿泊人数）【室】'!D39, 0) -> 0 | E39: =IF('①-2入力シート（宿泊人数）【室】'!E39>0, IF(E$7/'①-2入力シート（宿泊人数）【室】'!E39>=50000, 500, IF(E$7/'①-2入力シート（宿泊人数）【室】'!E39>=20000, 200, 100)) * '①-2入力シート（宿泊人数）【室】'!E39, 0) -> 0 | F39: =IF('①-2入力シート（宿泊人数）【室】'!F39>0, IF(F$7/'①-2入力シート（宿泊人数）【室】'!F39>=50000, 500, IF(F$7/'①-2入力シート（宿泊人数）【室】'!F39>=20000, 200, 100)) * '①-2入力シート（宿泊人数）【室】'!F39, 0) -> 0 | G39: =IF('①-2入力シート（宿泊人数）【室】'!G39>0, IF(G$7/'①-2入力シート（宿泊人数）【室】'!G39>=50000, 500, IF(G$7/'①-2入力シート（宿泊人数）【室】'!G39>=20000, 200, 100)) * '①-2入力シート（宿泊人数）【室】'!G39, 0) -> 0 | H39: =IF('①-2入力シート（宿泊人数）【室】'!H39>0, IF(H$7/'①-2入力シート（宿泊人数）【室】'!H39>=50000, 500, IF(H$7/'①-2入力シート（宿泊人数）【室】'!H39>=20000, 200, 100)) * '①-2入力シート（宿泊人数）【室】'!H39, 0) -> 0 | I39: =IF('①-2入力シート（宿泊人数）【室】'!I39>0, IF(I$7/'①-2入力シート（宿泊人数）【室】'!I39>=50000, 500, IF(I$7/'①-2入力シート（宿泊人数）【室】'!I39>=20000, 200, 100)) * '①-2入力シート（宿泊人数）【室】'!I39, 0) -> 0 | J39: =IF('①-2入力シート（宿泊人数）【室】'!J39>0, IF(J$7/'①-2入力シート（宿泊人数）【室】'!J39>=50000, 500, IF(J$7/'①-2入力シート（宿泊人数）【室】'!J39>=20000, 200, 100)) * '①-2入力シート（宿泊人数）【室】'!J39, 0) -> 0 | ... CX39: =IF('①-2入力シート（宿泊人数）【室】'!CX39>0, IF(CX$7/'①-2入力シート（宿泊人数）【室】'!CX39>=50000, 500, IF(CX$7/'①-2入力シート（宿泊人数）【室】'!CX39>=20000, 200, 100)) * '①-2入力シート（宿泊人数）【室】'!CX39, 0) -> 0 | CY39: =SUM(C39:CX39) -> 0 | DA39: =CY39 -> 0
A40: 計 | C40: =SUM(C9:C39) -> 0 | D40: =SUM(D9:D39) -> 0 | E40: =SUM(E9:E39) -> 0 | F40: =SUM(F9:F39) -> 0 | G40: =SUM(G9:G39) -> 0 | H40: =SUM(H9:H39) -> 0 | I40: =SUM(I9:I39) -> 0 | J40: =SUM(J9:J39) -> 0 | ... CY40: =SUM(CY9:CY39) -> 0 | DA40: =SUM(DA9:DA39) -> 0

Sheet ⑧-1Aのうち市分【1人当】
B1: 年 | D1: 月分 | E1: 宿泊施設番号 | J1: 宿泊施設名
C2: 1 | D2: 2 | E2: 3 | F2: 4 | G2: 5 | H2: 6 | I2: 7 | J2: 8 | K2: 9 | L2: 10 | M2: 11 | N2: 12 | O2: 13 | P2: 14 | Q2: 15 | R2: 16 | S2: 17 | T2: 18 | U2: 19 | V2: 20 | W2: 21 | X2: 22 | Y2: 23 | Z2: 24 | AA2: 25 | AB2: 26 | AC2: 27 | AD2: 28 | AE2: 29 | AF2: 30 | AG2: 31 | AH2: 32 | AI2: 33 | AJ2: 34 | AK2: 35 | AL2: 36 | AM2: 37 | AN2: 38 | AO2: 39 | AP2: 40 | AQ2: 41 | AR2: 42 | AS2: 43 | AT2: 44 | AU2: 45 | AV2: 46 | AW2: 47 | AX2: 48 | AY2: 49 | AZ2: 50 | BA2: 51 | BB2: 52 | BC2: 53 | BD2: 54 | BE2: 55 | BF2: 56 | BG2: 57 | BH2: 58 | BI2: 59 | BJ2: 60 | BK2: 61 | BL2: 62 | BM2: 63 | BN2: 64 | BO2: 65 | BP2: 66 | BQ2: 67 | BR2: 68 | BS2: 69 | BT2: 70 | BU2: 71 | BV2: 72 | BW2: 73 | BX2: 74 | BY2: 75 | BZ2: 76 | CA2: 77 | CB2: 78 | CC2: 79 | CD2: 80 | CE2: 81 | CF2: 82 | CG2: 83 | CH2: 84 | CI2: 85 | CJ2: 86 | CK2: 87 | CL2: 88 | CM2: 89 | CN2: 90 | CO2: 91 | CP2: 92 | CQ2: 93 | CR2: 94 | CS2: 95 | CT2: 96 | CU2: 97 | CV2: 98 | CW2: 99 | CX2: 100
A3: 種類 | CZ3: 課税免除
A4: 宿泊料金（税込） | C4: ='①-1入力シート（宿泊人数）【1人当】'!C4 -> 0 | D4: ='①-1入力シート（宿泊人数）【1人当】'!D4 -> 0 | E4: ='①-1入力シート（宿泊人数）【1人当】'!E4 -> 0 | F4: ='①-1入力シート（宿泊人数）【1人当】'!F4 -> 0 | G4: ='①-1入力シート（宿泊人数）【1人当】'!G4 -> 0 | H4: ='①-1入力シート（宿泊人数）【1人当】'!H4 -> 0 | I4: ='①-1入力シート（宿泊人数）【1人当】'!I4 -> 0 | J4: ='①-1入力シート（宿泊人数）【1人当】'!J4 -> 0 | ... CX4: ='①-1入力シート（宿泊人数）【1人当】'!CX4 -> 0
A5: 宿泊料金（税抜額） | C5: =C4/1.1 -> 0 | D5: =D4/1.1 -> 0 | E5: =E4/1.1 -> 0 | F5: =F4/1.1 -> 0 | G5: =G4/1.1 -> 0 | H5: =H4/1.1 -> 0 | I5: =I4/1.1 -> 0 | J5: =J4/1.1 -> 0 | ... CX5: =CX4/1.1 -> 0
A6: 課税標準額 | C6: =ROUNDDOWN(C5,-2) -> 0 | D6: =ROUNDDOWN(D5,-2) -> 0 | E6: =ROUNDDOWN(E5,-2) -> 0 | F6: =ROUNDDOWN(F5,-2) -> 0 | G6: =ROUNDDOWN(G5,-2) -> 0 | H6: =ROUNDDOWN(H5,-2) -> 0 | I6: =ROUNDDOWN(I5,-2) -> 0 | J6: =ROUNDDOWN(J5,-2) -> 0 | ... CX6: =ROUNDDOWN(CX5,-2) -> 0
A7: 宿泊者数 | B7: 1 | C7: =IFERROR(IF('⑥-1A申告納付税額（3%）【1人当】'!C7-'⑦-1Aのうち道分【1人当】'!C7<0, 0, '⑥-1A申告納付税額（3%）【1人当】'!C7-'⑦-1Aのうち道分【1人当】'!C7), 0) -> 0 | D7: =IFERROR(IF('⑥-1A申告納付税額（3%）【1人当】'!D7-'⑦-1Aのうち道分【1人当】'!D7<0, 0, '⑥-1A申告納付税額（3%）【1人当】'!D7-'⑦-1Aのうち道分【1人当】'!D7), 0) -> 0 | E7: =IFERROR(IF('⑥-1A申告納付税額（3%）【1人当】'!E7-'⑦-1Aのうち道分【1人当】'!E7<0, 0, '⑥-1A申告納付税額（3%）【1人当】'!E7-'⑦-1Aのうち道分【1人当】'!E7), 0) -> 0 | F7: =IFERROR(IF('⑥-1A申告納付税額（3%）【1人当】'!F7-'⑦-1Aのうち道分【1人当】'!F7<0, 0, '⑥-1A申告納付税額（3%）【1人当】'!F7-'⑦-1Aのうち道分【1人当】'!F7), 0) -> 0 | G7: =IFERROR(IF('⑥-1A申告納付税額（3%）【1人当】'!G7-'⑦-1Aのうち道分【1人当】'!G7<0, 0, '⑥-1A申告納付税額（3%）【1人当】'!G7-'⑦-1Aのうち道分【1人当】'!G7), 0) -> 0 | H7: =IFERROR(IF('⑥-1A申告納付税額（3%）【1人当】'!H7-'⑦-1Aのうち道分【1人当】'!H7<0, 0, '⑥-1A申告納付税額（3%）【1人当】'!H7-'⑦-1Aのうち道分【1人当】'!H7), 0) -> 0 | I7: =IFERROR(IF('⑥-1A申告納付税額（3%）【1人当】'!I7-'⑦-1Aのうち道分【1人当】'!I7<0, 0, '⑥-1A申告納付税額（3%）【1人当】'!I7-'⑦-1Aのうち道分【1人当】'!I7), 0) -> 0 | J7: =IFERROR(IF('⑥-1A申告納付税額（3%）【1人当】'!J7-'⑦-1Aのうち道分【1人当】'!J7<0, 0, '⑥-1A申告納付税額（3%）【1人当】'!J7-'⑦-1Aのうち道分【1人当】'!J7), 0) -> 0 | ... CX7: =IFERROR(IF('⑥-1A申告納付税額（3%）【1人当】'!CX7-'⑦-1Aのうち道分【1人当】'!CX7<0, 0, '⑥-1A申告納付税額（3%）【1人当】'!CX7-'⑦-1Aのうち道分【1人当】'!CX7), 0) -> 0 | CZ7: ='①-1入力シート（宿泊人数）【1人当】'!CZ7 -> 0
B8: 2 | C8: =IFERROR(IF('⑥-1A申告納付税額（3%）【1人当】'!C8-'⑦-1Aのうち道分【1人当】'!C8<0, 0, '⑥-1A申告納付税額（3%）【1人当】'!C8-'⑦-1Aのうち道分【1人当】'!C8), 0) -> 0 | D8: =IFERROR(IF('⑥-1A申告納付税額（3%）【1人当】'!D8-'⑦-1Aのうち道分【1人当】'!D8<0, 0, '⑥-1A申告納付税額（3%）【1人当】'!D8-'⑦-1Aのうち道分【1人当】'!D8), 0) -> 0 | E8: =IFERROR(IF('⑥-1A申告納付税額（3%）【1人当】'!E8-'⑦-1Aのうち道分【1人当】'!E8<0, 0, '⑥-1A申告納付税額（3%）【1人当】'!E8-'⑦-1Aのうち道分【1人当】'!E8), 0) -> 0 | F8: =IFERROR(IF('⑥-1A申告納付税額（3%）【1人当】'!F8-'⑦-1Aのうち道分【1人当】'!F8<0, 0, '⑥-1A申告納付税額（3%）【1人当】'!F8-'⑦-1Aのうち道分【1人当】'!F8), 0) -> 0 | G8: =IFERROR(IF('⑥-1A申告納付税額（3%）【1人当】'!G8-'⑦-1Aのうち道分【1人当】'!G8<0, 0, '⑥-1A申告納付税額（3%）【1人当】'!G8-'⑦-1Aのうち道分【1人当】'!G8), 0) -> 0 | H8: =IFERROR(IF('⑥-1A申告納付税額（3%）【1人当】'!H8-'⑦-1Aのうち道分【1人当】'!H8<0, 0, '⑥-1A申告納付税額（3%）【1人当】'!H8-'⑦-1Aのうち道分【1人当】'!H8), 0) -> 0 | I8: =IFERROR(IF('⑥-1A申告納付税額（3%）【1人当】'!I8-'⑦-1Aのうち道分【1人当】'!I8<0, 0, '⑥-1A申告納付税額（3%）【1人当】'!I8-'⑦-1Aのうち道分【1人当】'!I8), 0) -> 0 | J8: =IFERROR(IF('⑥-1A申告納付税額（3%）【1人当】'!J8-'⑦-1Aのうち道分【1人当】'!J8<0, 0, '⑥-1A申告納付税額（3%）【1人当】'!J8-'⑦-1Aのうち道分【1人当】'!J8), 0) -> 0 | ... CX8: =IFERROR(IF('⑥-1A申告納付税額（3%）【1人当】'!CX8-'⑦-1Aのうち道分【1人当】'!CX8<0, 0, '⑥-1A申告納付税額（3%）【1人当】'!CX8-'⑦-1Aのうち道分【1人当】'!CX8), 0) -> 0 | CZ8: ='①-1入力シート（宿泊人数）【1人当】'!CZ8 -> 0
B9: 3 | C9: =IFERROR(IF('⑥-1A申告納付税額（3%）【1人当】'!C9-'⑦-1Aのうち道分【1人当】'!C9<0, 0, '⑥-1A申告納付税額（3%）【1人当】'!C9-'⑦-1Aのうち道分【1人当】'!C9), 0) -> 0 | D9: =IFERROR(IF('⑥-1A申告納付税額（3%）【1人当】'!D9-'⑦-1Aのうち道分【1人当】'!D9<0, 0, '⑥-1A申告納付税額（3%）【1人当】'!D9-'⑦-1Aのうち道分【1人当】'!D9), 0) -> 0 | E9: =IFERROR(IF('⑥-1A申告納付税額（3%）【1人当】'!E9-'⑦-1Aのうち道分【1人当】'!E9<0, 0, '⑥-1A申告納付税額（3%）【1人当】'!E9-'⑦-1Aのうち道分【1人当】'!E9), 0) -> 0 | F9: =IFERROR(IF('⑥-1A申告納付税額（3%）【1人当】'!F9-'⑦-1Aのうち道分【1人当】'!F9<0, 0, '⑥-1A申告納付税額（3%）【1人当】'!F9-'⑦-1Aのうち道分【1人当】'!F9), 0) -> 0 | G9: =IFERROR(IF('⑥-1A申告納付税額（3%）【1人当】'!G9-'⑦-1Aのうち道分【1人当】'!G9<0, 0, '⑥-1A申告納付税額（3%）【1人当】'!G9-'⑦-1Aのうち道分【1人当】'!G9), 0) -> 0 | H9: =IFERROR(IF('⑥-1A申告納付税額（3%）【1人当】'!H9-'⑦-1Aのうち道分【1人当】'!H9<0, 0, '⑥-1A申告納付税額（3%）【1人当】'!H9-'⑦-1Aのうち道分【1人当】'!H9), 0) -> 0 | I9: =IFERROR(IF('⑥-1A申告納付税額（3%）【1人当】'!I9-'⑦-1Aのうち道分【1人当】'!I9<0, 0, '⑥-1A申告納付税額（3%）【1人当】'!I9-'⑦-1Aのうち道分【1人当】'!I9), 0) -> 0 | J9: =IFERROR(IF('⑥-1A申告納付税額（3%）【1人当】'!J9-'⑦-1Aのうち道分【1人当】'!J9<0, 0, '⑥-1A申告納付税額（3%）【1人当】'!J9-'⑦-1Aのうち道分【1人当】'!J9), 0) -> 0 | ... CX9: =IFERROR(IF('⑥-1A申告納付税額（3%）【1人当】'!CX9-'⑦-1Aのうち道分【1人当】'!CX9<0, 0, '⑥-1A申告納付税額（3%）【1人当】'!CX9-'⑦-1Aのうち道分【1人当】'!CX9), 0) -> 0 | CZ9: ='①-1入力シート（宿泊人数）【1人当】'!CZ9 -> 0
B10: 4 | C10: =IFERROR(IF('⑥-1A申告納付税額（3%）【1人当】'!C10-'⑦-1Aのうち道分【1人当】'!C10<0, 0, '⑥-1A申告納付税額（3%）【1人当】'!C10-'⑦-1Aのうち道分【1人当】'!C10), 0) -> 0 | D10: =IFERROR(IF('⑥-1A申告納付税額（3%）【1人当】'!D10-'⑦-1Aのうち道分【1人当】'!D10<0, 0, '⑥-1A申告納付税額（3%）【1人当】'!D10-'⑦-1Aのうち道分【1人当】'!D10), 0) -> 0 | E10: =IFERROR(IF('⑥-1A申告納付税額（3%）【1人当】'!E10-'⑦-1Aのうち道分【1人当】'!E10<0, 0, '⑥-1A申告納付税額（3%）【1人当】'!E10-'⑦-1Aのうち道分【1人当】'!E10), 0) -> 0 | F10: =IFERROR(IF('⑥-1A申告納付税額（3%）【1人当】'!F10-'⑦-1Aのうち道分【1人当】'!F10<0, 0, '⑥-1A申告納付税額（3%）【1人当】'!F10-'⑦-1Aのうち道分【1人当】'!F10), 0) -> 0 | G10: =IFERROR(IF('⑥-1A申告納付税額（3%）【1人当】'!G10-'⑦-1Aのうち道分【1人当】'!G10<0, 0, '⑥-1A申告納付税額（3%）【1人当】'!G10-'⑦-1Aのうち道分【1人当】'!G10), 0) -> 0 | H10: =IFERROR(IF('⑥-1A申告納付税額（3%）【1人当】'!H10-'⑦-1Aのうち道分【1人当】'!H10<0, 0, '⑥-1A申告納付税額（3%）【1人当】'!H10-'⑦-1Aのうち道分【1人当】'!H10), 0) -> 0 | I10: =IFERROR(IF('⑥-1A申告納付税額（3%）【1人当】'!I10-'⑦-1Aのうち道分【1人当】'!I10<0, 0, '⑥-1A申告納付税額（3%）【1人当】'!I10-'⑦-1Aのうち道分【1人当】'!I10), 0) -> 0 | J10: =IFERROR(IF('⑥-1A申告納付税額（3%）【1人当】'!J10-'⑦-1Aのうち道分【1人当】'!J10<0, 0, '⑥-1A申告納付税額（3%）【1人当】'!J10-'⑦-1Aのうち道分【1人当】'!J10), 0) -> 0 | ... CX10: =IFERROR(IF('⑥-1A申告納付税額（3%）【1人当】'!CX10-'⑦-1Aのうち道分【1人当】'!CX10<0, 0, '⑥-1A申告納付税額（3%）【1人当】'!CX10-'⑦-1Aのうち道分【1人当】'!CX10), 0) -> 0 | CZ10: ='①-1入力シート（宿泊人数）【1人当】'!CZ10 -> 0
B11: 5 | C11: =IFERROR(IF('⑥-1A申告納付税額（3%）【1人当】'!C11-'⑦-1Aのうち道分【1人当】'!C11<0, 0, '⑥-1A申告納付税額（3%）【1人当】'!C11-'⑦-1Aのうち道分【1人当】'!C11), 0) -> 0 | D11: =IFERROR(IF('⑥-1A申告納付税額（3%）【1人当】'!D11-'⑦-1Aのうち道分【1人当】'!D11<0, 0, '⑥-1A申告納付税額（3%）【1人当】'!D11-'⑦-1Aのうち道分【1人当】'!D11), 0) -> 0 | E11: =IFERROR(IF('⑥-1A申告納付税額（3%）【1人当】'!E11-'⑦-1Aのうち道分【1人当】'!E11<0, 0, '⑥-1A申告納付税額（3%）【1人当】'!E11-'⑦-1Aのうち道分【1人当】'!E11), 0) -> 0 | F11: =IFERROR(IF('⑥-1A申告納付税額（3%）【1人当】'!F11-'⑦-1Aのうち道分【1人当】'!F11<0, 0, '⑥-1A申告納付税額（3%）【1人当】'!F11-'⑦-1Aのうち道分【1人当】'!F11), 0) -> 0 | G11: =IFERROR(IF('⑥-1A申告納付税額（3%）【1人当】'!G11-'⑦-1Aのうち道分【1人当】'!G11<0, 0, '⑥-1A申告納付税額（3%）【1人当】'!G11-'⑦-1Aのうち道分【1人当】'!G11), 0) -> 0 | H11: =IFERROR(IF('⑥-1A申告納付税額（3%）【1人当】'!H11-'⑦-1Aのうち道分【1人当】'!H11<0, 0, '⑥-1A申告納付税額（3%）【1人当】'!H11-'⑦-1Aのうち道分【1人当】'!H11), 0) -> 0 | I11: =IFERROR(IF('⑥-1A申告納付税額（3%）【1人当】'!I11-'⑦-1Aのうち道分【1人当】'!I11<0, 0, '⑥-1A申告納付税額（3%）【1人当】'!I11-'⑦-1Aのうち道分【1人当】'!I11), 0) -> 0 | J11: =IFERROR(IF('⑥-1A申告納付税額（3%）【1人当】'!J11-'⑦-1Aのうち道分【1人当】'!J11<0, 0, '⑥-1A申告納付税額（3%）【1人当】'!J11-'⑦-1Aのうち道分【1人当】'!J11), 0) -> 0 | ... CX11: =IFERROR(IF('⑥-1A申告納付税額（3%）【1人当】'!CX11-'⑦-1Aのうち道分【1人当】'!CX11<0, 0, '⑥-1A申告納付税額（3%）【1人当】'!CX11-'⑦-1Aのうち道分【1人当】'!CX11), 0) -> 0 | CZ11: ='①-1入力シート（宿泊人数）【1人当】'!CZ11 -> 0
B12: 6 | C12: =IFERROR(IF('⑥-1A申告納付税額（3%）【1人当】'!C12-'⑦-1Aのうち道分【1人当】'!C12<0, 0, '⑥-1A申告納付税額（3%）【1人当】'!C12-'⑦-1Aのうち道分【1人当】'!C12), 0) -> 0 | D12: =IFERROR(IF('⑥-1A申告納付税額（3%）【1人当】'!D12-'⑦-1Aのうち道分【1人当】'!D12<0, 0, '⑥-1A申告納付税額（3%）【1人当】'!D12-'⑦-1Aのうち道分【1人当】'!D12), 0) -> 0 | E12: =IFERROR(IF('⑥-1A申告納付税額（3%）【1人当】'!E12-'⑦-1Aのうち道分【1人当】'!E12<0, 0, '⑥-1A申告納付税額（3%）【1人当】'!E12-'⑦-1Aのうち道分【1人当】'!E12), 0) -> 0 | F12: =IFERROR(IF('⑥-1A申告納付税額（3%）【1人当】'!F12-'⑦-1Aのうち道分【1人当】'!F12<0, 0, '⑥-1A申告納付税額（3%）【1人当】'!F12-'⑦-1Aのうち道分【1人当】'!F12), 0) -> 0 | G12: =IFERROR(IF('⑥-1A申告納付税額（3%）【1人当】'!G12-'⑦-1Aのうち道分【1人当】'!G12<0, 0, '⑥-1A申告納付税額（3%）【1人当】'!G12-'⑦-1Aのうち道分【1人当】'!G12), 0) -> 0 | H12: =IFERROR(IF('⑥-1A申告納付税額（3%）【1人当】'!H12-'⑦-1Aのうち道分【1人当】'!H12<0, 0, '⑥-1A申告納付税額（3%）【1人当】'!H12-'⑦-1Aのうち道分【1人当】'!H12), 0) -> 0 | I12: =IFERROR(IF('⑥-1A申告納付税額（3%）【1人当】'!I12-'⑦-1Aのうち道分【1人当】'!I12<0, 0, '⑥-1A申告納付税額（3%）【1人当】'!I12-'⑦-1Aのうち道分【1人当】'!I12), 0) -> 0 | J12: =IFERROR(IF('⑥-1A申告納付税額（3%）【1人当】'!J12-'⑦-1Aのうち道分【1人当】'!J12<0, 0, '⑥-1A申告納付税額（3%）【1人当】'!J12-'⑦-1Aのうち道分【1人当】'!J12), 0) -> 0 | ... CX12: =IFERROR(IF('⑥-1A申告納付税額（3%）【1人当】'!CX12-'⑦-1Aのうち道分【1人当】'!CX12<0, 0, '⑥-1A申告納付税額（3%）【1人当】'!CX12-'⑦-1Aのうち道分【1人当】'!CX12), 0) -> 0 | CZ12: ='①-1入力シート（宿泊人数）【1人当】'!CZ12 -> 0
B13: 7 | C13: =IFERROR(IF('⑥-1A申告納付税額（3%）【1人当】'!C13-'⑦-1Aのうち道分【1人当】'!C13<0, 0, '⑥-1A申告納付税額（3%）【1人当】'!C13-'⑦-1Aのうち道分【1人当】'!C13), 0) -> 0 | D13: =IFERROR(IF('⑥-1A申告納付税額（3%）【1人当】'!D13-'⑦-1Aのうち道分【1人当】'!D13<0, 0, '⑥-1A申告納付税額（3%）【1人当】'!D13-'⑦-1Aのうち道分【1人当】'!D13), 0) -> 0 | E13: =IFERROR(IF('⑥-1A申告納付税額（3%）【1人当】'!E13-'⑦-1Aのうち道分【1人当】'!E13<0, 0, '⑥-1A申告納付税額（3%）【1人当】'!E13-'⑦-1Aのうち道分【1人当】'!E13), 0) -> 0 | F13: =IFERROR(IF('⑥-1A申告納付税額（3%）【1人当】'!F13-'⑦-1Aのうち道分【1人当】'!F13<0, 0, '⑥-1A申告納付税額（3%）【1人当】'!F13-'⑦-1Aのうち道分【1人当】'!F13), 0) -> 0 | G13: =IFERROR(IF('⑥-1A申告納付税額（3%）【1人当】'!G13-'⑦-1Aのうち道分【1人当】'!G13<0, 0, '⑥-1A申告納付税額（3%）【1人当】'!G13-'⑦-1Aのうち道分【1人当】'!G13), 0) -> 0 | H13: =IFERROR(IF('⑥-1A申告納付税額（3%）【1人当】'!H13-'⑦-1Aのうち道分【1人当】'!H13<0, 0, '⑥-1A申告納付税額（3%）【1人当】'!H13-'⑦-1Aのうち道分【1人当】'!H13), 0) -> 0 | I13: =IFERROR(IF('⑥-1A申告納付税額（3%）【1人当】'!I13-'⑦-1Aのうち道分【1人当】'!I13<0, 0, '⑥-1A申告納付税額（3%）【1人当】'!I13-'⑦-1Aのうち道分【1人当】'!I13), 0) -> 0 | J13: =IFERROR(IF('⑥-1A申告納付税額（3%）【1人当】'!J13-'⑦-1Aのうち道分【1人当】'!J13<0, 0, '⑥-1A申告納付税額（3%）【1人当】'!J13-'⑦-1Aのうち道分【1人当】'!J13), 0) -> 0 | ... CX13: =IFERROR(IF('⑥-1A申告納付税額（3%）【1人当】'!CX13-'⑦-1Aのうち道分【1人当】'!CX13<0, 0, '⑥-1A申告納付税額（3%）【1人当】'!CX13-'⑦-1Aのうち道分【1人当】'!CX13), 0) -> 0 | CZ13: ='①-1入力シート（宿泊人数）【1人当】'!CZ13 -> 0
B14: 8 | C14: =IFERROR(IF('⑥-1A申告納付税額（3%）【1人当】'!C14-'⑦-1Aのうち道分【1人当】'!C14<0, 0, '⑥-1A申告納付税額（3%）【1人当】'!C14-'⑦-1Aのうち道分【1人当】'!C14), 0) -> 0 | D14: =IFERROR(IF('⑥-1A申告納付税額（3%）【1人当】'!D14-'⑦-1Aのうち道分【1人当】'!D14<0, 0, '⑥-1A申告納付税額（3%）【1人当】'!D14-'⑦-1Aのうち道分【1人当】'!D14), 0) -> 0 | E14: =IFERROR(IF('⑥-1A申告納付税額（3%）【1人当】'!E14-'⑦-1Aのうち道分【1人当】'!E14<0, 0, '⑥-1A申告納付税額（3%）【1人当】'!E14-'⑦-1Aのうち道分【1人当】'!E14), 0) -> 0 | F14: =IFERROR(IF('⑥-1A申告納付税額（3%）【1人当】'!F14-'⑦-1Aのうち道分【1人当】'!F14<0, 0, '⑥-1A申告納付税額（3%）【1人当】'!F14-'⑦-1Aのうち道分【1人当】'!F14), 0) -> 0 | G14: =IFERROR(IF('⑥-1A申告納付税額（3%）【1人当】'!G14-'⑦-1Aのうち道分【1人当】'!G14<0, 0, '⑥-1A申告納付税額（3%）【1人当】'!G14-'⑦-1Aのうち道分【1人当】'!G14), 0) -> 0 | H14: =IFERROR(IF('⑥-1A申告納付税額（3%）【1人当】'!H14-'⑦-1Aのうち道分【1人当】'!H14<0, 0, '⑥-1A申告納付税額（3%）【1人当】'!H14-'⑦-1Aのうち道分【1人当】'!H14), 0) -> 0 | I14: =IFERROR(IF('⑥-1A申告納付税額（3%）【1人当】'!I14-'⑦-1Aのうち道分【1人当】'!I14<0, 0, '⑥-1A申告納付税額（3%）【1人当】'!I14-'⑦-1Aのうち道分【1人当】'!I14), 0) -> 0 | J14: =IFERROR(IF('⑥-1A申告納付税額（3%）【1人当】'!J14-'⑦-1Aのうち道分【1人当】'!J14<0, 0, '⑥-1A申告納付税額（3%）【1人当】'!J14-'⑦-1Aのうち道分【1人当】'!J14), 0) -> 0 | ... CX14: =IFERROR(IF('⑥-1A申告納付税額（3%）【1人当】'!CX14-'⑦-1Aのうち道分【1人当】'!CX14<0, 0, '⑥-1A申告納付税額（3%）【1人当】'!CX14-'⑦-1Aのうち道分【1人当】'!CX14), 0) -> 0 | CZ14: ='①-1入力シート（宿泊人数）【1人当】'!CZ14 -> 0
B15: 9 | C15: =IFERROR(IF('⑥-1A申告納付税額（3%）【1人当】'!C15-'⑦-1Aのうち道分【1人当】'!C15<0, 0, '⑥-1A申告納付税額（3%）【1人当】'!C15-'⑦-1Aのうち道分【1人当】'!C15), 0) -> 0 | D15: =IFERROR(IF('⑥-1A申告納付税額（3%）【1人当】'!D15-'⑦-1Aのうち道分【1人当】'!D15<0, 0, '⑥-1A申告納付税額（3%）【1人当】'!D15-'⑦-1Aのうち道分【1人当】'!D15), 0) -> 0 | E15: =IFERROR(IF('⑥-1A申告納付税額（3%）【1人当】'!E15-'⑦-1Aのうち道分【1人当】'!E15<0, 0, '⑥-1A申告納付税額（3%）【1人当】'!E15-'⑦-1Aのうち道分【1人当】'!E15), 0) -> 0 | F15: =IFERROR(IF('⑥-1A申告納付税額（3%）【1人当】'!F15-'⑦-1Aのうち道分【1人当】'!F15<0, 0, '⑥-1A申告納付税額（3%）【1人当】'!F15-'⑦-1Aのうち道分【1人当】'!F15), 0) -> 0 | G15: =IFERROR(IF('⑥-1A申告納付税額（3%）【1人当】'!G15-'⑦-1Aのうち道分【1人当】'!G15<0, 0, '⑥-1A申告納付税額（3%）【1人当】'!G15-'⑦-1Aのうち道分【1人当】'!G15), 0) -> 0 | H15: =IFERROR(IF('⑥-1A申告納付税額（3%）【1人当】'!H15-'⑦-1Aのうち道分【1人当】'!H15<0, 0, '⑥-1A申告納付税額（3%）【1人当】'!H15-'⑦-1Aのうち道分【1人当】'!H15), 0) -> 0 | I15: =IFERROR(IF('⑥-1A申告納付税額（3%）【1人当】'!I15-'⑦-1Aのうち道分【1人当】'!I15<0, 0, '⑥-1A申告納付税額（3%）【1人当】'!I15-'⑦-1Aのうち道分【1人当】'!I15), 0) -> 0 | J15: =IFERROR(IF('⑥-1A申告納付税額（3%）【1人当】'!J15-'⑦-1Aのうち道分【1人当】'!J15<0, 0, '⑥-1A申告納付税額（3%）【1人当】'!J15-'⑦-1Aのうち道分【1人当】'!J15), 0) -> 0 | ... CX15: =IFERROR(IF('⑥-1A申告納付税額（3%）【1人当】'!CX15-'⑦-1Aのうち道分【1人当】'!CX15<0, 0, '⑥-1A申告納付税額（3%）【1人当】'!CX15-'⑦-1Aのうち道分【1人当】'!CX15), 0) -> 0 | CZ15: ='①-1入力シート（宿泊人数）【1人当】'!CZ15 -> 0
B16: 10 | C16: =IFERROR(IF('⑥-1A申告納付税額（3%）【1人当】'!C16-'⑦-1Aのうち道分【1人当】'!C16<0, 0, '⑥-1A申告納付税額（3%）【1人当】'!C16-'⑦-1Aのうち道分【1人当】'!C16), 0) -> 0 | D16: =IFERROR(IF('⑥-1A申告納付税額（3%）【1人当】'!D16-'⑦-1Aのうち道分【1人当】'!D16<0, 0, '⑥-1A申告納付税額（3%）【1人当】'!D16-'⑦-1Aのうち道分【1人当】'!D16), 0) -> 0 | E16: =IFERROR(IF('⑥-1A申告納付税額（3%）【1人当】'!E16-'⑦-1Aのうち道分【1人当】'!E16<0, 0, '⑥-1A申告納付税額（3%）【1人当】'!E16-'⑦-1Aのうち道分【1人当】'!E16), 0) -> 0 | F16: =IFERROR(IF('⑥-1A申告納付税額（3%）【1人当】'!F16-'⑦-1Aのうち道分【1人当】'!F16<0, 0, '⑥-1A申告納付税額（3%）【1人当】'!F16-'⑦-1Aのうち道分【1人当】'!F16), 0) -> 0 | G16: =IFERROR(IF('⑥-1A申告納付税額（3%）【1人当】'!G16-'⑦-1Aのうち道分【1人当】'!G16<0, 0, '⑥-1A申告納付税額（3%）【1人当】'!G16-'⑦-1Aのうち道分【1人当】'!G16), 0) -> 0 | H16: =IFERROR(IF('⑥-1A申告納付税額（3%）【1人当】'!H16-'⑦-1Aのうち道分【1人当】'!H16<0, 0, '⑥-1A申告納付税額（3%）【1人当】'!H16-'⑦-1Aのうち道分【1人当】'!H16), 0) -> 0 | I16: =IFERROR(IF('⑥-1A申告納付税額（3%）【1人当】'!I16-'⑦-1Aのうち道分【1人当】'!I16<0, 0, '⑥-1A申告納付税額（3%）【1人当】'!I16-'⑦-1Aのうち道分【1人当】'!I16), 0) -> 0 | J16: =IFERROR(IF('⑥-1A申告納付税額（3%）【1人当】'!J16-'⑦-1Aのうち道分【1人当】'!J16<0, 0, '⑥-1A申告納付税額（3%）【1人当】'!J16-'⑦-1Aのうち道分【1人当】'!J16), 0) -> 0 | ... CX16: =IFERROR(IF('⑥-1A申告納付税額（3%）【1人当】'!CX16-'⑦-1Aのうち道分【1人当】'!CX16<0, 0, '⑥-1A申告納付税額（3%）【1人当】'!CX16-'⑦-1Aのうち道分【1人当】'!CX16), 0) -> 0 | CZ16: ='①-1入力シート（宿泊人数）【1人当】'!CZ16 -> 0
B17: 11 | C17: =IFERROR(IF('⑥-1A申告納付税額（3%）【1人当】'!C17-'⑦-1Aのうち道分【1人当】'!C17<0, 0, '⑥-1A申告納付税額（3%）【1人当】'!C17-'⑦-1Aのうち道分【1人当】'!C17), 0) -> 0 | D17: =IFERROR(IF('⑥-1A申告納付税額（3%）【1人当】'!D17-'⑦-1Aのうち道分【1人当】'!D17<0, 0, '⑥-1A申告納付税額（3%）【1人当】'!D17-'⑦-1Aのうち道分【1人当】'!D17), 0) -> 0 | E17: =IFERROR(IF('⑥-1A申告納付税額（3%）【1人当】'!E17-'⑦-1Aのうち道分【1人当】'!E17<0, 0, '⑥-1A申告納付税額（3%）【1人当】'!E17-'⑦-1Aのうち道分【1人当】'!E17), 0) -> 0 | F17: =IFERROR(IF('⑥-1A申告納付税額（3%）【1人当】'!F17-'⑦-1Aのうち道分【1人当】'!F17<0, 0, '⑥-1A申告納付税額（3%）【1人当】'!F17-'⑦-1Aのうち道分【1人当】'!F17), 0) -> 0 | G17: =IFERROR(IF('⑥-1A申告納付税額（3%）【1人当】'!G17-'⑦-1Aのうち道分【1人当】'!G17<0, 0, '⑥-1A申告納付税額（3%）【1人当】'!G17-'⑦-1Aのうち道分【1人当】'!G17), 0) -> 0 | H17: =IFERROR(IF('⑥-1A申告納付税額（3%）【1人当】'!H17-'⑦-1Aのうち道分【1人当】'!H17<0, 0, '⑥-1A申告納付税額（3%）【1人当】'!H17-'⑦-1Aのうち道分【1人当】'!H17), 0) -> 0 | I17: =IFERROR(IF('⑥-1A申告納付税額（3%）【1人当】'!I17-'⑦-1Aのうち道分【1人当】'!I17<0, 0, '⑥-1A申告納付税額（3%）【1人当】'!I17-'⑦-1Aのうち道分【1人当】'!I17), 0) -> 0 | J17: =IFERROR(IF('⑥-1A申告納付税額（3%）【1人当】'!J17-'⑦-1Aのうち道分【1人当】'!J17<0, 0, '⑥-1A申告納付税額（3%）【1人当】'!J17-'⑦-1Aのうち道分【1人当】'!J17), 0) -> 0 | ... CX17: =IFERROR(IF('⑥-1A申告納付税額（3%）【1人当】'!CX17-'⑦-1Aのうち道分【1人当】'!CX17<0, 0, '⑥-1A申告納付税額（3%）【1人当】'!CX17-'⑦-1Aのうち道分【1人当】'!CX17), 0) -> 0 | CZ17: ='①-1入力シート（宿泊人数）【1人当】'!CZ17 -> 0
B18: 12 | C18: =IFERROR(IF('⑥-1A申告納付税額（3%）【1人当】'!C18-'⑦-1Aのうち道分【1人当】'!C18<0, 0, '⑥-1A申告納付税額（3%）【1人当】'!C18-'⑦-1Aのうち道分【1人当】'!C18), 0) -> 0 | D18: =IFERROR(IF('⑥-1A申告納付税額（3%）【1人当】'!D18-'⑦-1Aのうち道分【1人当】'!D18<0, 0, '⑥-1A申告納付税額（3%）【1人当】'!D18-'⑦-1Aのうち道分【1人当】'!D18), 0) -> 0 | E18: =IFERROR(IF('⑥-1A申告納付税額（3%）【1人当】'!E18-'⑦-1Aのうち道分【1人当】'!E18<0, 0, '⑥-1A申告納付税額（3%）【1人当】'!E18-'⑦-1Aのうち道分【1人当】'!E18), 0) -> 0 | F18: =IFERROR(IF('⑥-1A申告納付税額（3%）【1人当】'!F18-'⑦-1Aのうち道分【1人当】'!F18<0, 0, '⑥-1A申告納付税額（3%）【1人当】'!F18-'⑦-1Aのうち道分【1人当】'!F18), 0) -> 0 | G18: =IFERROR(IF('⑥-1A申告納付税額（3%）【1人当】'!G18-'⑦-1Aのうち道分【1人当】'!G18<0, 0, '⑥-1A申告納付税額（3%）【1人当】'!G18-'⑦-1Aのうち道分【1人当】'!G18), 0) -> 0 | H18: =IFERROR(IF('⑥-1A申告納付税額（3%）【1人当】'!H18-'⑦-1Aのうち道分【1人当】'!H18<0, 0, '⑥-1A申告納付税額（3%）【1人当】'!H18-'⑦-1Aのうち道分【1人当】'!H18), 0) -> 0 | I18: =IFERROR(IF('⑥-1A申告納付税額（3%）【1人当】'!I18-'⑦-1Aのうち道分【1人当】'!I18<0, 0, '⑥-1A申告納付税額（3%）【1人当】'!I18-'⑦-1Aのうち道分【1人当】'!I18), 0) -> 0 | J18: =IFERROR(IF('⑥-1A申告納付税額（3%）【1人当】'!J18-'⑦-1Aのうち道分【1人当】'!J18<0, 0, '⑥-1A申告納付税額（3%）【1人当】'!J18-'⑦-1Aのうち道分【1人当】'!J18), 0) -> 0 | ... CX18: =IFERROR(IF('⑥-1A申告納付税額（3%）【1人当】'!CX18-'⑦-1Aのうち道分【1人当】'!CX18<0, 0, '⑥-1A申告納付税額（3%）【1人当】'!CX18-'⑦-1Aのうち道分【1人当】'!CX18), 0) -> 0 | CZ18: ='①-1入力シート（宿泊人数）【1人当】'!CZ18 -> 0
B19: 13 | C19: =IFERROR(IF('⑥-1A申告納付税額（3%）【1人当】'!C19-'⑦-1Aのうち道分【1人当】'!C19<0, 0, '⑥-1A申告納付税額（3%）【1人当】'!C19-'⑦-1Aのうち道分【1人当】'!C19), 0) -> 0 | D19: =IFERROR(IF('⑥-1A申告納付税額（3%）【1人当】'!D19-'⑦-1Aのうち道分【1人当】'!D19<0, 0, '⑥-1A申告納付税額（3%）【1人当】'!D19-'⑦-1Aのうち道分【1人当】'!D19), 0) -> 0 | E19: =IFERROR(IF('⑥-1A申告納付税額（3%）【1人当】'!E19-'⑦-1Aのうち道分【1人当】'!E19<0, 0, '⑥-1A申告納付税額（3%）【1人当】'!E19-'⑦-1Aのうち道分【1人当】'!E19), 0) -> 0 | F19: =IFERROR(IF('⑥-1A申告納付税額（3%）【1人当】'!F19-'⑦-1Aのうち道分【1人当】'!F19<0, 0, '⑥-1A申告納付税額（3%）【1人当】'!F19-'⑦-1Aのうち道分【1人当】'!F19), 0) -> 0 | G19: =IFERROR(IF('⑥-1A申告納付税額（3%）【1人当】'!G19-'⑦-1Aのうち道分【1人当】'!G19<0, 0, '⑥-1A申告納付税額（3%）【1人当】'!G19-'⑦-1Aのうち道分【1人当】'!G19), 0) -> 0 | H19: =IFERROR(IF('⑥-1A申告納付税額（3%）【1人当】'!H19-'⑦-1Aのうち道分【1人当】'!H19<0, 0, '⑥-1A申告納付税額（3%）【1人当】'!H19-'⑦-1Aのうち道分【1人当】'!H19), 0) -> 0 | I19: =IFERROR(IF('⑥-1A申告納付税額（3%）【1人当】'!I19-'⑦-1Aのうち道分【1人当】'!I19<0, 0, '⑥-1A申告納付税額（3%）【1人当】'!I19-'⑦-1Aのうち道分【1人当】'!I19), 0) -> 0 | J19: =IFERROR(IF('⑥-1A申告納付税額（3%）【1人当】'!J19-'⑦-1Aのうち道分【1人当】'!J19<0, 0, '⑥-1A申告納付税額（3%）【1人当】'!J19-'⑦-1Aのうち道分【1人当】'!J19), 0) -> 0 | ... CX19: =IFERROR(IF('⑥-1A申告納付税額（3%）【1人当】'!CX19-'⑦-1Aのうち道分【1人当】'!CX19<0, 0, '⑥-1A申告納付税額（3%）【1人当】'!CX19-'⑦-1Aのうち道分【1人当】'!CX19), 0) -> 0 | CZ19: ='①-1入力シート（宿泊人数）【1人当】'!CZ19 -> 0
... B37: 31 | C37: =IFERROR(IF('⑥-1A申告納付税額（3%）【1人当】'!C37-'⑦-1Aのうち道分【1人当】'!C37<0, 0, '⑥-1A申告納付税額（3%）【1人当】'!C37-'⑦-1Aのうち道分【1人当】'!C37), 0) -> 0 | D37: =IFERROR(IF('⑥-1A申告納付税額（3%）【1人当】'!D37-'⑦-1Aのうち道分【1人当】'!D37<0, 0, '⑥-1A申告納付税額（3%）【1人当】'!D37-'⑦-1Aのうち道分【1人当】'!D37), 0) -> 0 | E37: =IFERROR(IF('⑥-1A申告納付税額（3%）【1人当】'!E37-'⑦-1Aのうち道分【1人当】'!E37<0, 0, '⑥-1A申告納付税額（3%）【1人当】'!E37-'⑦-1Aのうち道分【1人当】'!E37), 0) -> 0 | F37: =IFERROR(IF('⑥-1A申告納付税額（3%）【1人当】'!F37-'⑦-1Aのうち道分【1人当】'!F37<0, 0, '⑥-1A申告納付税額（3%）【1人当】'!F37-'⑦-1Aのうち道分【1人当】'!F37), 0) -> 0 | G37: =IFERROR(IF('⑥-1A申告納付税額（3%）【1人当】'!G37-'⑦-1Aのうち道分【1人当】'!G37<0, 0, '⑥-1A申告納付税額（3%）【1人当】'!G37-'⑦-1Aのうち道分【1人当】'!G37), 0) -> 0 | H37: =IFERROR(IF('⑥-1A申告納付税額（3%）【1人当】'!H37-'⑦-1Aのうち道分【1人当】'!H37<0, 0, '⑥-1A申告納付税額（3%）【1人当】'!H37-'⑦-1Aのうち道分【1人当】'!H37), 0) -> 0 | I37: =IFERROR(IF('⑥-1A申告納付税額（3%）【1人当】'!I37-'⑦-1Aのうち道分【1人当】'!I37<0, 0, '⑥-1A申告納付税額（3%）【1人当】'!I37-'⑦-1Aのうち道分【1人当】'!I37), 0) -> 0 | J37: =IFERROR(IF('⑥-1A申告納付税額（3%）【1人当】'!J37-'⑦-1Aのうち道分【1人当】'!J37<0, 0, '⑥-1A申告納付税額（3%）【1人当】'!J37-'⑦-1Aのうち道分【1人当】'!J37), 0) -> 0 | ... CX37: =IFERROR(IF('⑥-1A申告納付税額（3%）【1人当】'!CX37-'⑦-1Aのうち道分【1人当】'!CX37<0, 0, '⑥-1A申告納付税額（3%）【1人当】'!CX37-'⑦-1Aのうち道分【1人当】'!CX37), 0) -> 0 | CZ37: ='①-1入力シート（宿泊人数）【1人当】'!CZ37 -> 0
A38: 計 | C38: =SUM(C7:C37) -> 0 | D38: =SUM(D7:D37) -> 0 | E38: =SUM(E7:E37) -> 0 | F38: =SUM(F7:F37) -> 0 | G38: =SUM(G7:G37) -> 0 | H38: =SUM(H7:H37) -> 0 | I38: =SUM(I7:I37) -> 0 | J38: =SUM(J7:J37) -> 0 | ... CX38: =SUM(CX7:CX37) -> 0 | CZ38: =SUM(CZ7:CZ37) -> 0

Sheet ⑧-2Aのうち市分【室】
A1: ='①-1入力シート（宿泊人数）【1人当】'!A1 -> 0 | B1: 年 | C1: ='①-1入力シート（宿泊人数）【1人当】'!C1 -> 0 | D1: 月分
A3: 建物名 | C3: ='①-2入力シート（宿泊人数）【室】'!C3 -> 0 | CY3: 合計 市税収
A4: 個別名 | C4: ='①-2入力シート（宿泊人数）【室】'!C4 -> 0 | D4: ='①-2入力シート（宿泊人数）【室】'!D4 -> 0 | E4: ='①-2入力シート（宿泊人数）【室】'!E4 -> 0 | F4: ='①-2入力シート（宿泊人数）【室】'!F4 -> 0 | G4: ='①-2入力シート（宿泊人数）【室】'!G4 -> 0 | H4: ='①-2入力シート（宿泊人数）【室】'!H4 -> 0 | I4: ='①-2入力シート（宿泊人数）【室】'!I4 -> 0 | J4: ='①-2入力シート（宿泊人数）【室】'!J4 -> 0 | ... CX4: ='①-2入力シート（宿泊人数）【室】'!CX4 -> 0 | DA4: 税額 （市）
A5: 宿泊料金（税込） | C5: ='①-2入力シート（宿泊人数）【室】'!C5 -> 0 | D5: ='①-2入力シート（宿泊人数）【室】'!D5 -> 0 | E5: ='①-2入力シート（宿泊人数）【室】'!E5 -> 0 | F5: ='①-2入力シート（宿泊人数）【室】'!F5 -> 0 | G5: ='①-2入力シート（宿泊人数）【室】'!G5 -> 0 | H5: ='①-2入力シート（宿泊人数）【室】'!H5 -> 0 | I5: ='①-2入力シート（宿泊人数）【室】'!I5 -> 0 | J5: ='①-2入力シート（宿泊人数）【室】'!J5 -> 0 | ... CX5: ='①-2入力シート（宿泊人数）【室】'!CX5 -> 0
A6: 宿泊料金（税抜額） | C6: =C5/1.1 -> 0 | D6: =D5/1.1 -> 0 | E6: =E5/1.1 -> 0 | F6: =F5/1.1 -> 0 | G6: =G5/1.1 -> 0 | H6: =H5/1.1 -> 0 | I6: =I5/1.1 -> 0 | J6: =J5/1.1 -> 0 | ... CX6: =CX5/1.1 -> 0
A7: 課税標準額 | C7: =ROUNDDOWN(C$6,-2) -> 0 | D7: =ROUNDDOWN(D$6,-2) -> 0 | E7: =ROUNDDOWN(E$6,-2) -> 0 | F7: =ROUNDDOWN(F$6,-2) -> 0 | G7: =ROUNDDOWN(G$6,-2) -> 0 | H7: =ROUNDDOWN(H$6,-2) -> 0 | I7: =ROUNDDOWN(I$6,-2) -> 0 | J7: =ROUNDDOWN(J$6,-2) -> 0 | ... CX7: =ROUNDDOWN(CX$6,-2) -> 0
A8: 室数 | C8: ='①-2入力シート（宿泊人数）【室】'!C8 -> 0
A9: 苫小牧市宿泊税分 | B9: 1 | C9: =IFERROR(IF('⑥-2A申告納付税額（3％）【室】'!C9-'⑦-2Aのうち道分【室】'!C9<0, 0, '⑥-2A申告納付税額（3％）【室】'!C9-'⑦-2Aのうち道分【室】'!C9), 0) -> 0 | D9: =IFERROR(IF('⑥-2A申告納付税額（3％）【室】'!D9-'⑦-2Aのうち道分【室】'!D9<0, 0, '⑥-2A申告納付税額（3％）【室】'!D9-'⑦-2Aのうち道分【室】'!D9), 0) -> 0 | E9: =IFERROR(IF('⑥-2A申告納付税額（3％）【室】'!E9-'⑦-2Aのうち道分【室】'!E9<0, 0, '⑥-2A申告納付税額（3％）【室】'!E9-'⑦-2Aのうち道分【室】'!E9), 0) -> 0 | F9: =IFERROR(IF('⑥-2A申告納付税額（3％）【室】'!F9-'⑦-2Aのうち道分【室】'!F9<0, 0, '⑥-2A申告納付税額（3％）【室】'!F9-'⑦-2Aのうち道分【室】'!F9), 0) -> 0 | G9: =IFERROR(IF('⑥-2A申告納付税額（3％）【室】'!G9-'⑦-2Aのうち道分【室】'!G9<0, 0, '⑥-2A申告納付税額（3％）【室】'!G9-'⑦-2Aのうち道分【室】'!G9), 0) -> 0 | H9: =IFERROR(IF('⑥-2A申告納付税額（3％）【室】'!H9-'⑦-2Aのうち道分【室】'!H9<0, 0, '⑥-2A申告納付税額（3％）【室】'!H9-'⑦-2Aのうち道分【室】'!H9), 0) -> 0 | I9: =IFERROR(IF('⑥-2A申告納付税額（3％）【室】'!I9-'⑦-2Aのうち道分【室】'!I9<0, 0, '⑥-2A申告納付税額（3％）【室】'!I9-'⑦-2Aのうち道分【室】'!I9), 0) -> 0 | J9: =IFERROR(IF('⑥-2A申告納付税額（3％）【室】'!J9-'⑦-2Aのうち道分【室】'!J9<0, 0, '⑥-2A申告納付税額（3％）【室】'!J9-'⑦-2Aのうち道分【室】'!J9), 0) -> 0 | ... CX9: =IFERROR(IF('⑥-2A申告納付税額（3％）【室】'!CX9-'⑦-2Aのうち道分【室】'!CX9<0, 0, '⑥-2A申告納付税額（3％）【室】'!CX9-'⑦-2Aのうち道分【室】'!CX9), 0) -> 0 | CY9: =SUM(C9:CX9) -> 0 | DA9: =CY9 -> 0
B10: 2 | C10: =IFERROR(IF('⑥-2A申告納付税額（3％）【室】'!C10-'⑦-2Aのうち道分【室】'!C10<0, 0, '⑥-2A申告納付税額（3％）【室】'!C10-'⑦-2Aのうち道分【室】'!C10), 0) -> 0 | D10: =IFERROR(IF('⑥-2A申告納付税額（3％）【室】'!D10-'⑦-2Aのうち道分【室】'!D10<0, 0, '⑥-2A申告納付税額（3％）【室】'!D10-'⑦-2Aのうち道分【室】'!D10), 0) -> 0 | E10: =IFERROR(IF('⑥-2A申告納付税額（3％）【室】'!E10-'⑦-2Aのうち道分【室】'!E10<0, 0, '⑥-2A申告納付税額（3％）【室】'!E10-'⑦-2Aのうち道分【室】'!E10), 0) -> 0 | F10: =IFERROR(IF('⑥-2A申告納付税額（3％）【室】'!F10-'⑦-2Aのうち道分【室】'!F10<0, 0, '⑥-2A申告納付税額（3％）【室】'!F10-'⑦-2Aのうち道分【室】'!F10), 0) -> 0 | G10: =IFERROR(IF('⑥-2A申告納付税額（3％）【室】'!G10-'⑦-2Aのうち道分【室】'!G10<0, 0, '⑥-2A申告納付税額（3％）【室】'!G10-'⑦-2Aのうち道分【室】'!G10), 0) -> 0 | H10: =IFERROR(IF('⑥-2A申告納付税額（3％）【室】'!H10-'⑦-2Aのうち道分【室】'!H10<0, 0, '⑥-2A申告納付税額（3％）【室】'!H10-'⑦-2Aのうち道分【室】'!H10), 0) -> 0 | I10: =IFERROR(IF('⑥-2A申告納付税額（3％）【室】'!I10-'⑦-2Aのうち道分【室】'!I10<0, 0, '⑥-2A申告納付税額（3％）【室】'!I10-'⑦-2Aのうち道分【室】'!I10), 0) -> 0 | J10: =IFERROR(IF('⑥-2A申告納付税額（3％）【室】'!J10-'⑦-2Aのうち道分【室】'!J10<0, 0, '⑥-2A申告納付税額（3％）【室】'!J10-'⑦-2Aのうち道分【室】'!J10), 0) -> 0 | ... CX10: =IFERROR(IF('⑥-2A申告納付税額（3％）【室】'!CX10-'⑦-2Aのうち道分【室】'!CX10<0, 0, '⑥-2A申告納付税額（3％）【室】'!CX10-'⑦-2Aのうち道分【室】'!CX10), 0) -> 0 | CY10: =SUM(C10:CX10) -> 0 | DA10: =CY10 -> 0
B11: 3 | C11: =IFERROR(IF('⑥-2A申告納付税額（3％）【室】'!C11-'⑦-2Aのうち道分【室】'!C11<0, 0, '⑥-2A申告納付税額（3％）【室】'!C11-'⑦-2Aのうち道分【室】'!C11), 0) -> 0 | D11: =IFERROR(IF('⑥-2A申告納付税額（3％）【室】'!D11-'⑦-2Aのうち道分【室】'!D11<0, 0, '⑥-2A申告納付税額（3％）【室】'!D11-'⑦-2Aのうち道分【室】'!D11), 0) -> 0 | E11: =IFERROR(IF('⑥-2A申告納付税額（3％）【室】'!E11-'⑦-2Aのうち道分【室】'!E11<0, 0, '⑥-2A申告納付税額（3％）【室】'!E11-'⑦-2Aのうち道分【室】'!E11), 0) -> 0 | F11: =IFERROR(IF('⑥-2A申告納付税額（3％）【室】'!F11-'⑦-2Aのうち道分【室】'!F11<0, 0, '⑥-2A申告納付税額（3％）【室】'!F11-'⑦-2Aのうち道分【室】'!F11), 0) -> 0 | G11: =IFERROR(IF('⑥-2A申告納付税額（3％）【室】'!G11-'⑦-2Aのうち道分【室】'!G11<0, 0, '⑥-2A申告納付税額（3％）【室】'!G11-'⑦-2Aのうち道分【室】'!G11), 0) -> 0 | H11: =IFERROR(IF('⑥-2A申告納付税額（3％）【室】'!H11-'⑦-2Aのうち道分【室】'!H11<0, 0, '⑥-2A申告納付税額（3％）【室】'!H11-'⑦-2Aのうち道分【室】'!H11), 0) -> 0 | I11: =IFERROR(IF('⑥-2A申告納付税額（3％）【室】'!I11-'⑦-2Aのうち道分【室】'!I11<0, 0, '⑥-2A申告納付税額（3％）【室】'!I11-'⑦-2Aのうち道分【室】'!I11), 0) -> 0 | J11: =IFERROR(IF('⑥-2A申告納付税額（3％）【室】'!J11-'⑦-2Aのうち道分【室】'!J11<0, 0, '⑥-2A申告納付税額（3％）【室】'!J11-'⑦-2Aのうち道分【室】'!J11), 0) -> 0 | ... CX11: =IFERROR(IF('⑥-2A申告納付税額（3％）【室】'!CX11-'⑦-2Aのうち道分【室】'!CX11<0, 0, '⑥-2A申告納付税額（3％）【室】'!CX11-'⑦-2Aのうち道分【室】'!CX11), 0) -> 0 | CY11: =SUM(C11:CX11) -> 0 | DA11: =CY11 -> 0
B12: 4 | C12: =IFERROR(IF('⑥-2A申告納付税額（3％）【室】'!C12-'⑦-2Aのうち道分【室】'!C12<0, 0, '⑥-2A申告納付税額（3％）【室】'!C12-'⑦-2Aのうち道分【室】'!C12), 0) -> 0 | D12: =IFERROR(IF('⑥-2A申告納付税額（3％）【室】'!D12-'⑦-2Aのうち道分【室】'!D12<0, 0, '⑥-2A申告納付税額（3％）【室】'!D12-'⑦-2Aのうち道分【室】'!D12), 0) -> 0 | E12: =IFERROR(IF('⑥-2A申告納付税額（3％）【室】'!E12-'⑦-2Aのうち道分【室】'!E12<0, 0, '⑥-2A申告納付税額（3％）【室】'!E12-'⑦-2Aのうち道分【室】'!E12), 0) -> 0 | F12: =IFERROR(IF('⑥-2A申告納付税額（3％）【室】'!F12-'⑦-2Aのうち道分【室】'!F12<0, 0, '⑥-2A申告納付税額（3％）【室】'!F12-'⑦-2Aのうち道分【室】'!F12), 0) -> 0 | G12: =IFERROR(IF('⑥-2A申告納付税額（3％）【室】'!G12-'⑦-2Aのうち道分【室】'!G12<0, 0, '⑥-2A申告納付税額（3％）【室】'!G12-'⑦-2Aのうち道分【室】'!G12), 0) -> 0 | H12: =IFERROR(IF('⑥-2A申告納付税額（3％）【室】'!H12-'⑦-2Aのうち道分【室】'!H12<0, 0, '⑥-2A申告納付税額（3％）【室】'!H12-'⑦-2Aのうち道分【室】'!H12), 0) -> 0 | I12: =IFERROR(IF('⑥-2A申告納付税額（3％）【室】'!I12-'⑦-2Aのうち道分【室】'!I12<0, 0, '⑥-2A申告納付税額（3％）【室】'!I12-'⑦-2Aのうち道分【室】'!I12), 0) -> 0 | J12: =IFERROR(IF('⑥-2A申告納付税額（3％）【室】'!J12-'⑦-2Aのうち道分【室】'!J12<0, 0, '⑥-2A申告納付税額（3％）【室】'!J12-'⑦-2Aのうち道分【室】'!J12), 0) -> 0 | ... CX12: =IFERROR(IF('⑥-2A申告納付税額（3％）【室】'!CX12-'⑦-2Aのうち道分【室】'!CX12<0, 0, '⑥-2A申告納付税額（3％）【室】'!CX12-'⑦-2Aのうち道分【室】'!CX12), 0) -> 0 | CY12: =SUM(C12:CX12) -> 0 | DA12: =CY12 -> 0
B13: 5 | C13: =IFERROR(IF('⑥-2A申告納付税額（3％）【室】'!C13-'⑦-2Aのうち道分【室】'!C13<0, 0, '⑥-2A申告納付税額（3％）【室】'!C13-'⑦-2Aのうち道分【室】'!C13), 0) -> 0 | D13: =IFERROR(IF('⑥-2A申告納付税額（3％）【室】'!D13-'⑦-2Aのうち道分【室】'!D13<0, 0, '⑥-2A申告納付税額（3％）【室】'!D13-'⑦-2Aのうち道分【室】'!D13), 0) -> 0 | E13: =IFERROR(IF('⑥-2A申告納付税額（3％）【室】'!E13-'⑦-2Aのうち道分【室】'!E13<0, 0, '⑥-2A申告納付税額（3％）【室】'!E13-'⑦-2Aのうち道分【室】'!E13), 0) -> 0 | F13: =IFERROR(IF('⑥-2A申告納付税額（3％）【室】'!F13-'⑦-2Aのうち道分【室】'!F13<0, 0, '⑥-2A申告納付税額（3％）【室】'!F13-'⑦-2Aのうち道分【室】'!F13), 0) -> 0 | G13: =IFERROR(IF('⑥-2A申告納付税額（3％）【室】'!G13-'⑦-2Aのうち道分【室】'!G13<0, 0, '⑥-2A申告納付税額（3％）【室】'!G13-'⑦-2Aのうち道分【室】'!G13), 0) -> 0 | H13: =IFERROR(IF('⑥-2A申告納付税額（3％）【室】'!H13-'⑦-2Aのうち道分【室】'!H13<0, 0, '⑥-2A申告納付税額（3％）【室】'!H13-'⑦-2Aのうち道分【室】'!H13), 0) -> 0 | I13: =IFERROR(IF('⑥-2A申告納付税額（3％）【室】'!I13-'⑦-2Aのうち道分【室】'!I13<0, 0, '⑥-2A申告納付税額（3％）【室】'!I13-'⑦-2Aのうち道分【室】'!I13), 0) -> 0 | J13: =IFERROR(IF('⑥-2A申告納付税額（3％）【室】'!J13-'⑦-2Aのうち道分【室】'!J13<0, 0, '⑥-2A申告納付税額（3％）【室】'!J13-'⑦-2Aのうち道分【室】'!J13), 0) -> 0 | ... CX13: =IFERROR(IF('⑥-2A申告納付税額（3％）【室】'!CX13-'⑦-2Aのうち道分【室】'!CX13<0, 0, '⑥-2A申告納付税額（3％）【室】'!CX13-'⑦-2Aのうち道分【室】'!CX13), 0) -> 0 | CY13: =SUM(C13:CX13) -> 0 | DA13: =CY13 -> 0
B14: 6 | C14: =IFERROR(IF('⑥-2A申告納付税額（3％）【室】'!C14-'⑦-2Aのうち道分【室】'!C14<0, 0, '⑥-2A申告納付税額（3％）【室】'!C14-'⑦-2Aのうち道分【室】'!C14), 0) -> 0 | D14: =IFERROR(IF('⑥-2A申告納付税額（3％）【室】'!D14-'⑦-2Aのうち道分【室】'!D14<0, 0, '⑥-2A申告納付税額（3％）【室】'!D14-'⑦-2Aのうち道分【室】'!D14), 0) -> 0 | E14: =IFERROR(IF('⑥-2A申告納付税額（3％）【室】'!E14-'⑦-2Aのうち道分【室】'!E14<0, 0, '⑥-2A申告納付税額（3％）【室】'!E14-'⑦-2Aのうち道分【室】'!E14), 0) -> 0 | F14: =IFERROR(IF('⑥-2A申告納付税額（3％）【室】'!F14-'⑦-2Aのうち道分【室】'!F14<0, 0, '⑥-2A申告納付税額（3％）【室】'!F14-'⑦-2Aのうち道分【室】'!F14), 0) -> 0 | G14: =IFERROR(IF('⑥-2A申告納付税額（3％）【室】'!G14-'⑦-2Aのうち道分【室】'!G14<0, 0, '⑥-2A申告納付税額（3％）【室】'!G14-'⑦-2Aのうち道分【室】'!G14), 0) -> 0 | H14: =IFERROR(IF('⑥-2A申告納付税額（3％）【室】'!H14-'⑦-2Aのうち道分【室】'!H14<0, 0, '⑥-2A申告納付税額（3％）【室】'!H14-'⑦-2Aのうち道分【室】'!H14), 0) -> 0 | I14: =IFERROR(IF('⑥-2A申告納付税額（3％）【室】'!I14-'⑦-2Aのうち道分【室】'!I14<0, 0, '⑥-2A申告納付税額（3％）【室】'!I14-'⑦-2Aのうち道分【室】'!I14), 0) -> 0 | J14: =IFERROR(IF('⑥-2A申告納付税額（3％）【室】'!J14-'⑦-2Aのうち道分【室】'!J14<0, 0, '⑥-2A申告納付税額（3％）【室】'!J14-'⑦-2Aのうち道分【室】'!J14), 0) -> 0 | ... CX14: =IFERROR(IF('⑥-2A申告納付税額（3％）【室】'!CX14-'⑦-2Aのうち道分【室】'!CX14<0, 0, '⑥-2A申告納付税額（3％）【室】'!CX14-'⑦-2Aのうち道分【室】'!CX14), 0) -> 0 | CY14: =SUM(C14:CX14) -> 0 | DA14: =CY14 -> 0
B15: 7 | C15: =IFERROR(IF('⑥-2A申告納付税額（3％）【室】'!C15-'⑦-2Aのうち道分【室】'!C15<0, 0, '⑥-2A申告納付税額（3％）【室】'!C15-'⑦-2Aのうち道分【室】'!C15), 0) -> 0 | D15: =IFERROR(IF('⑥-2A申告納付税額（3％）【室】'!D15-'⑦-2Aのうち道分【室】'!D15<0, 0, '⑥-2A申告納付税額（3％）【室】'!D15-'⑦-2Aのうち道分【室】'!D15), 0) -> 0 | E15: =IFERROR(IF('⑥-2A申告納付税額（3％）【室】'!E15-'⑦-2Aのうち道分【室】'!E15<0, 0, '⑥-2A申告納付税額（3％）【室】'!E15-'⑦-2Aのうち道分【室】'!E15), 0) -> 0 | F15: =IFERROR(IF('⑥-2A申告納付税額（3％）【室】'!F15-'⑦-2Aのうち道分【室】'!F15<0, 0, '⑥-2A申告納付税額（3％）【室】'!F15-'⑦-2Aのうち道分【室】'!F15), 0) -> 0 | G15: =IFERROR(IF('⑥-2A申告納付税額（3％）【室】'!G15-'⑦-2Aのうち道分【室】'!G15<0, 0, '⑥-2A申告納付税額（3％）【室】'!G15-'⑦-2Aのうち道分【室】'!G15), 0) -> 0 | H15: =IFERROR(IF('⑥-2A申告納付税額（3％）【室】'!H15-'⑦-2Aのうち道分【室】'!H15<0, 0, '⑥-2A申告納付税額（3％）【室】'!H15-'⑦-2Aのうち道分【室】'!H15), 0) -> 0 | I15: =IFERROR(IF('⑥-2A申告納付税額（3％）【室】'!I15-'⑦-2Aのうち道分【室】'!I15<0, 0, '⑥-2A申告納付税額（3％）【室】'!I15-'⑦-2Aのうち道分【室】'!I15), 0) -> 0 | J15: =IFERROR(IF('⑥-2A申告納付税額（3％）【室】'!J15-'⑦-2Aのうち道分【室】'!J15<0, 0, '⑥-2A申告納付税額（3％）【室】'!J15-'⑦-2Aのうち道分【室】'!J15), 0) -> 0 | ... CX15: =IFERROR(IF('⑥-2A申告納付税額（3％）【室】'!CX15-'⑦-2Aのうち道分【室】'!CX15<0, 0, '⑥-2A申告納付税額（3％）【室】'!CX15-'⑦-2Aのうち道分【室】'!CX15), 0) -> 0 | CY15: =SUM(C15:CX15) -> 0 | DA15: =CY15 -> 0
B16: 8 | C16: =IFERROR(IF('⑥-2A申告納付税額（3％）【室】'!C16-'⑦-2Aのうち道分【室】'!C16<0, 0, '⑥-2A申告納付税額（3％）【室】'!C16-'⑦-2Aのうち道分【室】'!C16), 0) -> 0 | D16: =IFERROR(IF('⑥-2A申告納付税額（3％）【室】'!D16-'⑦-2Aのうち道分【室】'!D16<0, 0, '⑥-2A申告納付税額（3％）【室】'!D16-'⑦-2Aのうち道分【室】'!D16), 0) -> 0 | E16: =IFERROR(IF('⑥-2A申告納付税額（3％）【室】'!E16-'⑦-2Aのうち道分【室】'!E16<0, 0, '⑥-2A申告納付税額（3％）【室】'!E16-'⑦-2Aのうち道分【室】'!E16), 0) -> 0 | F16: =IFERROR(IF('⑥-2A申告納付税額（3％）【室】'!F16-'⑦-2Aのうち道分【室】'!F16<0, 0, '⑥-2A申告納付税額（3％）【室】'!F16-'⑦-2Aのうち道分【室】'!F16), 0) -> 0 | G16: =IFERROR(IF('⑥-2A申告納付税額（3％）【室】'!G16-'⑦-2Aのうち道分【室】'!G16<0, 0, '⑥-2A申告納付税額（3％）【室】'!G16-'⑦-2Aのうち道分【室】'!G16), 0) -> 0 | H16: =IFERROR(IF('⑥-2A申告納付税額（3％）【室】'!H16-'⑦-2Aのうち道分【室】'!H16<0, 0, '⑥-2A申告納付税額（3％）【室】'!H16-'⑦-2Aのうち道分【室】'!H16), 0) -> 0 | I16: =IFERROR(IF('⑥-2A申告納付税額（3％）【室】'!I16-'⑦-2Aのうち道分【室】'!I16<0, 0, '⑥-2A申告納付税額（3％）【室】'!I16-'⑦-2Aのうち道分【室】'!I16), 0) -> 0 | J16: =IFERROR(IF('⑥-2A申告納付税額（3％）【室】'!J16-'⑦-2Aのうち道分【室】'!J16<0, 0, '⑥-2A申告納付税額（3％）【室】'!J16-'⑦-2Aのうち道分【室】'!J16), 0) -> 0 | ... CX16: =IFERROR(IF('⑥-2A申告納付税額（3％）【室】'!CX16-'⑦-2Aのうち道分【室】'!CX16<0, 0, '⑥-2A申告納付税額（3％）【室】'!CX16-'⑦-2Aのうち道分【室】'!CX16), 0) -> 0 | CY16: =SUM(C16:CX16) -> 0 | DA16: =CY16 -> 0
B17: 9 | C17: =IFERROR(IF('⑥-2A申告納付税額（3％）【室】'!C17-'⑦-2Aのうち道分【室】'!C17<0, 0, '⑥-2A申告納付税額（3％）【室】'!C17-'⑦-2Aのうち道分【室】'!C17), 0) -> 0 | D17: =IFERROR(IF('⑥-2A申告納付税額（3％）【室】'!D17-'⑦-2Aのうち道分【室】'!D17<0, 0, '⑥-2A申告納付税額（3％）【室】'!D17-'⑦-2Aのうち道分【室】'!D17), 0) -> 0 | E17: =IFERROR(IF('⑥-2A申告納付税額（3％）【室】'!E17-'⑦-2Aのうち道分【室】'!E17<0, 0, '⑥-2A申告納付税額（3％）【室】'!E17-'⑦-2Aのうち道分【室】'!E17), 0) -> 0 | F17: =IFERROR(IF('⑥-2A申告納付税額（3％）【室】'!F17-'⑦-2Aのうち道分【室】'!F17<0, 0, '⑥-2A申告納付税額（3％）【室】'!F17-'⑦-2Aのうち道分【室】'!F17), 0) -> 0 | G17: =IFERROR(IF('⑥-2A申告納付税額（3％）【室】'!G17-'⑦-2Aのうち道分【室】'!G17<0, 0, '⑥-2A申告納付税額（3％）【室】'!G17-'⑦-2Aのうち道分【室】'!G17), 0) -> 0 | H17: =IFERROR(IF('⑥-2A申告納付税額（3％）【室】'!H17-'⑦-2Aのうち道分【室】'!H17<0, 0, '⑥-2A申告納付税額（3％）【室】'!H17-'⑦-2Aのうち道分【室】'!H17), 0) -> 0 | I17: =IFERROR(IF('⑥-2A申告納付税額（3％）【室】'!I17-'⑦-2Aのうち道分【室】'!I17<0, 0, '⑥-2A申告納付税額（3％）【室】'!I17-'⑦-2Aのうち道分【室】'!I17), 0) -> 0 | J17: =IFERROR(IF('⑥-2A申告納付税額（3％）【室】'!J17-'⑦-2Aのうち道分【室】'!J17<0, 0, '⑥-2A申告納付税額（3％）【室】'!J17-'⑦-2Aのうち道分【室】'!J17), 0) -> 0 | ... CX17: =IFERROR(IF('⑥-2A申告納付税額（3％）【室】'!CX17-'⑦-2Aのうち道分【室】'!CX17<0, 0, '⑥-2A申告納付税額（3％）【室】'!CX17-'⑦-2Aのうち道分【室】'!CX17), 0) -> 0 | CY17: =SUM(C17:CX17) -> 0 | DA17: =CY17 -> 0
B18: 10 | C18: =IFERROR(IF('⑥-2A申告納付税額（3％）【室】'!C18-'⑦-2Aのうち道分【室】'!C18<0, 0, '⑥-2A申告納付税額（3％）【室】'!C18-'⑦-2Aのうち道分【室】'!C18), 0) -> 0 | D18: =IFERROR(IF('⑥-2A申告納付税額（3％）【室】'!D18-'⑦-2Aのうち道分【室】'!D18<0, 0, '⑥-2A申告納付税額（3％）【室】'!D18-'⑦-2Aのうち道分【室】'!D18), 0) -> 0 | E18: =IFERROR(IF('⑥-2A申告納付税額（3％）【室】'!E18-'⑦-2Aのうち道分【室】'!E18<0, 0, '⑥-2A申告納付税額（3％）【室】'!E18-'⑦-2Aのうち道分【室】'!E18), 0) -> 0 | F18: =IFERROR(IF('⑥-2A申告納付税額（3％）【室】'!F18-'⑦-2Aのうち道分【室】'!F18<0, 0, '⑥-2A申告納付税額（3％）【室】'!F18-'⑦-2Aのうち道分【室】'!F18), 0) -> 0 | G18: =IFERROR(IF('⑥-2A申告納付税額（3％）【室】'!G18-'⑦-2Aのうち道分【室】'!G18<0, 0, '⑥-2A申告納付税額（3％）【室】'!G18-'⑦-2Aのうち道分【室】'!G18), 0) -> 0 | H18: =IFERROR(IF('⑥-2A申告納付税額（3％）【室】'!H18-'⑦-2Aのうち道分【室】'!H18<0, 0, '⑥-2A申告納付税額（3％）【室】'!H18-'⑦-2Aのうち道分【室】'!H18), 0) -> 0 | I18: =IFERROR(IF('⑥-2A申告納付税額（3％）【室】'!I18-'⑦-2Aのうち道分【室】'!I18<0, 0, '⑥-2A申告納付税額（3％）【室】'!I18-'⑦-2Aのうち道分【室】'!I18), 0) -> 0 | J18: =IFERROR(IF('⑥-2A申告納付税額（3％）【室】'!J18-'⑦-2Aのうち道分【室】'!J18<0, 0, '⑥-2A申告納付税額（3％）【室】'!J18-'⑦-2Aのうち道分【室】'!J18), 0) -> 0 | ... CX18: =IFERROR(IF('⑥-2A申告納付税額（3％）【室】'!CX18-'⑦-2Aのうち道分【室】'!CX18<0, 0, '⑥-2A申告納付税額（3％）【室】'!CX18-'⑦-2Aのうち道分【室】'!CX18), 0) -> 0 | CY18: =SUM(C18:CX18) -> 0 | DA18: =CY18 -> 0
B19: 11 | C19: =IFERROR(IF('⑥-2A申告納付税額（3％）【室】'!C19-'⑦-2Aのうち道分【室】'!C19<0, 0, '⑥-2A申告納付税額（3％）【室】'!C19-'⑦-2Aのうち道分【室】'!C19), 0) -> 0 | D19: =IFERROR(IF('⑥-2A申告納付税額（3％）【室】'!D19-'⑦-2Aのうち道分【室】'!D19<0, 0, '⑥-2A申告納付税額（3％）【室】'!D19-'⑦-2Aのうち道分【室】'!D19), 0) -> 0 | E19: =IFERROR(IF('⑥-2A申告納付税額（3％）【室】'!E19-'⑦-2Aのうち道分【室】'!E19<0, 0, '⑥-2A申告納付税額（3％）【室】'!E19-'⑦-2Aのうち道分【室】'!E19), 0) -> 0 | F19: =IFERROR(IF('⑥-2A申告納付税額（3％）【室】'!F19-'⑦-2Aのうち道分【室】'!F19<0, 0, '⑥-2A申告納付税額（3％）【室】'!F19-'⑦-2Aのうち道分【室】'!F19), 0) -> 0 | G19: =IFERROR(IF('⑥-2A申告納付税額（3％）【室】'!G19-'⑦-2Aのうち道分【室】'!G19<0, 0, '⑥-2A申告納付税額（3％）【室】'!G19-'⑦-2Aのうち道分【室】'!G19), 0) -> 0 | H19: =IFERROR(IF('⑥-2A申告納付税額（3％）【室】'!H19-'⑦-2Aのうち道分【室】'!H19<0, 0, '⑥-2A申告納付税額（3％）【室】'!H19-'⑦-2Aのうち道分【室】'!H19), 0) -> 0 | I19: =IFERROR(IF('⑥-2A申告納付税額（3％）【室】'!I19-'⑦-2Aのうち道分【室】'!I19<0, 0, '⑥-2A申告納付税額（3％）【室】'!I19-'⑦-2Aのうち道分【室】'!I19), 0) -> 0 | J19: =IFERROR(IF('⑥-2A申告納付税額（3％）【室】'!J19-'⑦-2Aのうち道分【室】'!J19<0, 0, '⑥-2A申告納付税額（3％）【室】'!J19-'⑦-2Aのうち道分【室】'!J19), 0) -> 0 | ... CX19: =IFERROR(IF('⑥-2A申告納付税額（3％）【室】'!CX19-'⑦-2Aのうち道分【室】'!CX19<0, 0, '⑥-2A申告納付税額（3％）【室】'!CX19-'⑦-2Aのうち道分【室】'!CX19), 0) -> 0 | CY19: =SUM(C19:CX19) -> 0 | DA19: =CY19 -> 0
B20: 12 | C20: =IFERROR(IF('⑥-2A申告納付税額（3％）【室】'!C20-'⑦-2Aのうち道分【室】'!C20<0, 0, '⑥-2A申告納付税額（3％）【室】'!C20-'⑦-2Aのうち道分【室】'!C20), 0) -> 0 | D20: =IFERROR(IF('⑥-2A申告納付税額（3％）【室】'!D20-'⑦-2Aのうち道分【室】'!D20<0, 0, '⑥-2A申告納付税額（3％）【室】'!D20-'⑦-2Aのうち道分【室】'!D20), 0) -> 0 | E20: =IFERROR(IF('⑥-2A申告納付税額（3％）【室】'!E20-'⑦-2Aのうち道分【室】'!E20<0, 0, '⑥-2A申告納付税額（3％）【室】'!E20-'⑦-2Aのうち道分【室】'!E20), 0) -> 0 | F20: =IFERROR(IF('⑥-2A申告納付税額（3％）【室】'!F20-'⑦-2Aのうち道分【室】'!F20<0, 0, '⑥-2A申告納付税額（3％）【室】'!F20-'⑦-2Aのうち道分【室】'!F20), 0) -> 0 | G20: =IFERROR(IF('⑥-2A申告納付税額（3％）【室】'!G20-'⑦-2Aのうち道分【室】'!G20<0, 0, '⑥-2A申告納付税額（3％）【室】'!G20-'⑦-2Aのうち道分【室】'!G20), 0) -> 0 | H20: =IFERROR(IF('⑥-2A申告納付税額（3％）【室】'!H20-'⑦-2Aのうち道分【室】'!H20<0, 0, '⑥-2A申告納付税額（3％）【室】'!H20-'⑦-2Aのうち道分【室】'!H20), 0) -> 0 | I20: =IFERROR(IF('⑥-2A申告納付税額（3％）【室】'!I20-'⑦-2Aのうち道分【室】'!I20<0, 0, '⑥-2A申告納付税額（3％）【室】'!I20-'⑦-2Aのうち道分【室】'!I20), 0) -> 0 | J20: =IFERROR(IF('⑥-2A申告納付税額（3％）【室】'!J20-'⑦-2Aのうち道分【室】'!J20<0, 0, '⑥-2A申告納付税額（3％）【室】'!J20-'⑦-2Aのうち道分【室】'!J20), 0) -> 0 | ... CX20: =IFERROR(IF('⑥-2A申告納付税額（3％）【室】'!CX20-'⑦-2Aのうち道分【室】'!CX20<0, 0, '⑥-2A申告納付税額（3％）【室】'!CX20-'⑦-2Aのうち道分【室】'!CX20), 0) -> 0 | CY20: =SUM(C20:CX20) -> 0 | DA20: =CY20 -> 0
B21: 13 | C21: =IFERROR(IF('⑥-2A申告納付税額（3％）【室】'!C21-'⑦-2Aのうち道分【室】'!C21<0, 0, '⑥-2A申告納付税額（3％）【室】'!C21-'⑦-2Aのうち道分【室】'!C21), 0) -> 0 | D21: =IFERROR(IF('⑥-2A申告納付税額（3％）【室】'!D21-'⑦-2Aのうち道分【室】'!D21<0, 0, '⑥-2A申告納付税額（3％）【室】'!D21-'⑦-2Aのうち道分【室】'!D21), 0) -> 0 | E21: =IFERROR(IF('⑥-2A申告納付税額（3％）【室】'!E21-'⑦-2Aのうち道分【室】'!E21<0, 0, '⑥-2A申告納付税額（3％）【室】'!E21-'⑦-2Aのうち道分【室】'!E21), 0) -> 0 | F21: =IFERROR(IF('⑥-2A申告納付税額（3％）【室】'!F21-'⑦-2Aのうち道分【室】'!F21<0, 0, '⑥-2A申告納付税額（3％）【室】'!F21-'⑦-2Aのうち道分【室】'!F21), 0) -> 0 | G21: =IFERROR(IF('⑥-2A申告納付税額（3％）【室】'!G21-'⑦-2Aのうち道分【室】'!G21<0, 0, '⑥-2A申告納付税額（3％）【室】'!G21-'⑦-2Aのうち道分【室】'!G21), 0) -> 0 | H21: =IFERROR(IF('⑥-2A申告納付税額（3％）【室】'!H21-'⑦-2Aのうち道分【室】'!H21<0, 0, '⑥-2A申告納付税額（3％）【室】'!H21-'⑦-2Aのうち道分【室】'!H21), 0) -> 0 | I21: =IFERROR(IF('⑥-2A申告納付税額（3％）【室】'!I21-'⑦-2Aのうち道分【室】'!I21<0, 0, '⑥-2A申告納付税額（3％）【室】'!I21-'⑦-2Aのうち道分【室】'!I21), 0) -> 0 | J21: =IFERROR(IF('⑥-2A申告納付税額（3％）【室】'!J21-'⑦-2Aのうち道分【室】'!J21<0, 0, '⑥-2A申告納付税額（3％）【室】'!J21-'⑦-2Aのうち道分【室】'!J21), 0) -> 0 | ... CX21: =IFERROR(IF('⑥-2A申告納付税額（3％）【室】'!CX21-'⑦-2Aのうち道分【室】'!CX21<0, 0, '⑥-2A申告納付税額（3％）【室】'!CX21-'⑦-2Aのうち道分【室】'!CX21), 0) -> 0 | CY21: =SUM(C21:CX21) -> 0 | DA21: =CY21 -> 0
... B39: 31 | C39: =IFERROR(IF('⑥-2A申告納付税額（3％）【室】'!C39-'⑦-2Aのうち道分【室】'!C39<0, 0, '⑥-2A申告納付税額（3％）【室】'!C39-'⑦-2Aのうち道分【室】'!C39), 0) -> 0 | D39: =IFERROR(IF('⑥-2A申告納付税額（3％）【室】'!D39-'⑦-2Aのうち道分【室】'!D39<0, 0, '⑥-2A申告納付税額（3％）【室】'!D39-'⑦-2Aのうち道分【室】'!D39), 0) -> 0 | E39: =IFERROR(IF('⑥-2A申告納付税額（3％）【室】'!E39-'⑦-2Aのうち道分【室】'!E39<0, 0, '⑥-2A申告納付税額（3％）【室】'!E39-'⑦-2Aのうち道分【室】'!E39), 0) -> 0 | F39: =IFERROR(IF('⑥-2A申告納付税額（3％）【室】'!F39-'⑦-2Aのうち道分【室】'!F39<0, 0, '⑥-2A申告納付税額（3％）【室】'!F39-'⑦-2Aのうち道分【室】'!F39), 0) -> 0 | G39: =IFERROR(IF('⑥-2A申告納付税額（3％）【室】'!G39-'⑦-2Aのうち道分【室】'!G39<0, 0, '⑥-2A申告納付税額（3％）【室】'!G39-'⑦-2Aのうち道分【室】'!G39), 0) -> 0 | H39: =IFERROR(IF('⑥-2A申告納付税額（3％）【室】'!H39-'⑦-2Aのうち道分【室】'!H39<0, 0, '⑥-2A申告納付税額（3％）【室】'!H39-'⑦-2Aのうち道分【室】'!H39), 0) -> 0 | I39: =IFERROR(IF('⑥-2A申告納付税額（3％）【室】'!I39-'⑦-2Aのうち道分【室】'!I39<0, 0, '⑥-2A申告納付税額（3％）【室】'!I39-'⑦-2Aのうち道分【室】'!I39), 0) -> 0 | J39: =IFERROR(IF('⑥-2A申告納付税額（3％）【室】'!J39-'⑦-2Aのうち道分【室】'!J39<0, 0, '⑥-2A申告納付税額（3％）【室】'!J39-'⑦-2Aのうち道分【室】'!J39), 0) -> 0 | ... CX39: =IFERROR(IF('⑥-2A申告納付税額（3％）【室】'!CX39-'⑦-2Aのうち道分【室】'!CX39<0, 0, '⑥-2A申告納付税額（3％）【室】'!CX39-'⑦-2Aのうち道分【室】'!CX39), 0) -> 0 | CY39: =SUM(C39:CX39) -> 0 | DA39: =CY39 -> 0
A40: 計 | C40: =SUM(C9:C39) -> 0 | D40: =SUM(D9:D39) -> 0 | E40: =SUM(E9:E39) -> 0 | F40: =SUM(F9:F39) -> 0 | G40: =SUM(G9:G39) -> 0 | H40: =SUM(H9:H39) -> 0 | I40: =SUM(I9:I39) -> 0 | J40: =SUM(J9:J39) -> 0 | ... CY40: =SUM(CY9:CY39) -> 0 | DA40: =SUM(DA9:DA39) -> 0

Sheet ⑨-1道不足分【1人当】
B1: 年 | D1: 月分 | E1: 宿泊施設番号 | J1: 宿泊施設名
C2: 1 | D2: 2 | E2: 3 | F2: 4 | G2: 5 | H2: 6 | I2: 7 | J2: 8 | K2: 9 | L2: 10 | M2: 11 | N2: 12 | O2: 13 | P2: 14 | Q2: 15 | R2: 16 | S2: 17 | T2: 18 | U2: 19 | V2: 20 | W2: 21 | X2: 22 | Y2: 23 | Z2: 24 | AA2: 25 | AB2: 26 | AC2: 27 | AD2: 28 | AE2: 29 | AF2: 30 | AG2: 31 | AH2: 32 | AI2: 33 | AJ2: 34 | AK2: 35 | AL2: 36 | AM2: 37 | AN2: 38 | AO2: 39 | AP2: 40 | AQ2: 41 | AR2: 42 | AS2: 43 | AT2: 44 | AU2: 45 | AV2: 46 | AW2: 47 | AX2: 48 | AY2: 49 | AZ2: 50 | BA2: 51 | BB2: 52 | BC2: 53 | BD2: 54 | BE2: 55 | BF2: 56 | BG2: 57 | BH2: 58 | BI2: 59 | BJ2: 60 | BK2: 61 | BL2: 62 | BM2: 63 | BN2: 64 | BO2: 65 | BP2: 66 | BQ2: 67 | BR2: 68 | BS2: 69 | BT2: 70 | BU2: 71 | BV2: 72 | BW2: 73 | BX2: 74 | BY2: 75 | BZ2: 76 | CA2: 77 | CB2: 78 | CC2: 79 | CD2: 80 | CE2: 81 | CF2: 82 | CG2: 83 | CH2: 84 | CI2: 85 | CJ2: 86 | CK2: 87 | CL2: 88 | CM2: 89 | CN2: 90 | CO2: 91 | CP2: 92 | CQ2: 93 | CR2: 94 | CS2: 95 | CT2: 96 | CU2: 97 | CV2: 98 | CW2: 99 | CX2: 100
A3: 種類
A4: 宿泊料金（税込） | C4: ='①-1入力シート（宿泊人数）【1人当】'!C4 -> 0 | D4: ='①-1入力シート（宿泊人数）【1人当】'!D4 -> 0 | E4: ='①-1入力シート（宿泊人数）【1人当】'!E4 -> 0 | F4: ='①-1入力シート（宿泊人数）【1人当】'!F4 -> 0 | G4: ='①-1入力シート（宿泊人数）【1人当】'!G4 -> 0 | H4: ='①-1入力シート（宿泊人数）【1人当】'!H4 -> 0 | I4: ='①-1入力シート（宿泊人数）【1人当】'!I4 -> 0 | J4: ='①-1入力シート（宿泊人数）【1人当】'!J4 -> 0 | ... CX4: ='①-1入力シート（宿泊人数）【1人当】'!CX4 -> 0
A5: 宿泊料金（税抜額） | C5: =C4/1.1 -> 0 | D5: =D4/1.1 -> 0 | E5: =E4/1.1 -> 0 | F5: =F4/1.1 -> 0 | G5: =G4/1.1 -> 0 | H5: =H4/1.1 -> 0 | I5: =I4/1.1 -> 0 | J5: =J4/1.1 -> 0 | ... CX5: =CX4/1.1 -> 0 | DA5: 不足額 対象人数 | DB5: 不足額 対象税額
A6: 課税標準額 | C6: =ROUNDDOWN(C5,-2) -> 0 | D6: =ROUNDDOWN(D5,-2) -> 0 | E6: =ROUNDDOWN(E5,-2) -> 0 | F6: =ROUNDDOWN(F5,-2) -> 0 | G6: =ROUNDDOWN(G5,-2) -> 0 | H6: =ROUNDDOWN(H5,-2) -> 0 | I6: =ROUNDDOWN(I5,-2) -> 0 | J6: =ROUNDDOWN(J5,-2) -> 0 | ... CX6: =ROUNDDOWN(CX5,-2) -> 0
A7: 宿泊者数 | B7: 1 | C7: =IFERROR(IF('⑥-1A申告納付税額（3%）【1人当】'!C7-'⑦-1Aのうち道分【1人当】'!C7<0, '⑥-1A申告納付税額（3%）【1人当】'!C7-'⑦-1Aのうち道分【1人当】'!C7, 0), 0) -> 0 | D7: =IFERROR(IF('⑥-1A申告納付税額（3%）【1人当】'!D7-'⑦-1Aのうち道分【1人当】'!D7<0, '⑥-1A申告納付税額（3%）【1人当】'!D7-'⑦-1Aのうち道分【1人当】'!D7, 0), 0) -> 0 | E7: =IFERROR(IF('⑥-1A申告納付税額（3%）【1人当】'!E7-'⑦-1Aのうち道分【1人当】'!E7<0, '⑥-1A申告納付税額（3%）【1人当】'!E7-'⑦-1Aのうち道分【1人当】'!E7, 0), 0) -> 0 | F7: =IFERROR(IF('⑥-1A申告納付税額（3%）【1人当】'!F7-'⑦-1Aのうち道分【1人当】'!F7<0, '⑥-1A申告納付税額（3%）【1人当】'!F7-'⑦-1Aのうち道分【1人当】'!F7, 0), 0) -> 0 | G7: =IFERROR(IF('⑥-1A申告納付税額（3%）【1人当】'!G7-'⑦-1Aのうち道分【1人当】'!G7<0, '⑥-1A申告納付税額（3%）【1人当】'!G7-'⑦-1Aのうち道分【1人当】'!G7, 0), 0) -> 0 | H7: =IFERROR(IF('⑥-1A申告納付税額（3%）【1人当】'!H7-'⑦-1Aのうち道分【1人当】'!H7<0, '⑥-1A申告納付税額（3%）【1人当】'!H7-'⑦-1Aのうち道分【1人当】'!H7, 0), 0) -> 0 | I7: =IFERROR(IF('⑥-1A申告納付税額（3%）【1人当】'!I7-'⑦-1Aのうち道分【1人当】'!I7<0, '⑥-1A申告納付税額（3%）【1人当】'!I7-'⑦-1Aのうち道分【1人当】'!I7, 0), 0) -> 0 | J7: =IFERROR(IF('⑥-1A申告納付税額（3%）【1人当】'!J7-'⑦-1Aのうち道分【1人当】'!J7<0, '⑥-1A申告納付税額（3%）【1人当】'!J7-'⑦-1Aのうち道分【1人当】'!J7, 0), 0) -> 0 | ... CX7: =IFERROR(IF('⑥-1A申告納付税額（3%）【1人当】'!CX7-'⑦-1Aのうち道分【1人当】'!CX7<0, '⑥-1A申告納付税額（3%）【1人当】'!CX7-'⑦-1Aのうち道分【1人当】'!CX7, 0), 0) -> 0 | CZ7: 1 | DA7: =SUMIF(C7:CX7,"<0",'①-1入力シート（宿泊人数）【1人当】'!C7:CX7) -> 0 | DB7: =SUMIF(C7:CX7,"<0",'⑥-1A申告納付税額（3%）【1人当】'!C7:CX7) -> 0
B8: 2 | C8: =IFERROR(IF('⑥-1A申告納付税額（3%）【1人当】'!C8-'⑦-1Aのうち道分【1人当】'!C8<0, '⑥-1A申告納付税額（3%）【1人当】'!C8-'⑦-1Aのうち道分【1人当】'!C8, 0), 0) -> 0 | D8: =IFERROR(IF('⑥-1A申告納付税額（3%）【1人当】'!D8-'⑦-1Aのうち道分【1人当】'!D8<0, '⑥-1A申告納付税額（3%）【1人当】'!D8-'⑦-1Aのうち道分【1人当】'!D8, 0), 0) -> 0 | E8: =IFERROR(IF('⑥-1A申告納付税額（3%）【1人当】'!E8-'⑦-1Aのうち道分【1人当】'!E8<0, '⑥-1A申告納付税額（3%）【1人当】'!E8-'⑦-1Aのうち道分【1人当】'!E8, 0), 0) -> 0 | F8: =IFERROR(IF('⑥-1A申告納付税額（3%）【1人当】'!F8-'⑦-1Aのうち道分【1人当】'!F8<0, '⑥-1A申告納付税額（3%）【1人当】'!F8-'⑦-1Aのうち道分【1人当】'!F8, 0), 0) -> 0 | G8: =IFERROR(IF('⑥-1A申告納付税額（3%）【1人当】'!G8-'⑦-1Aのうち道分【1人当】'!G8<0, '⑥-1A申告納付税額（3%）【1人当】'!G8-'⑦-1Aのうち道分【1人当】'!G8, 0), 0) -> 0 | H8: =IFERROR(IF('⑥-1A申告納付税額（3%）【1人当】'!H8-'⑦-1Aのうち道分【1人当】'!H8<0, '⑥-1A申告納付税額（3%）【1人当】'!H8-'⑦-1Aのうち道分【1人当】'!H8, 0), 0) -> 0 | I8: =IFERROR(IF('⑥-1A申告納付税額（3%）【1人当】'!I8-'⑦-1Aのうち道分【1人当】'!I8<0, '⑥-1A申告納付税額（3%）【1人当】'!I8-'⑦-1Aのうち道分【1人当】'!I8, 0), 0) -> 0 | J8: =IFERROR(IF('⑥-1A申告納付税額（3%）【1人当】'!J8-'⑦-1Aのうち道分【1人当】'!J8<0, '⑥-1A申告納付税額（3%）【1人当】'!J8-'⑦-1Aのうち道分【1人当】'!J8, 0), 0) -> 0 | ... CX8: =IFERROR(IF('⑥-1A申告納付税額（3%）【1人当】'!CX8-'⑦-1Aのうち道分【1人当】'!CX8<0, '⑥-1A申告納付税額（3%）【1人当】'!CX8-'⑦-1Aのうち道分【1人当】'!CX8, 0), 0) -> 0 | CZ8: 2 | DA8: =SUMIF(C8:CX8,"<0",'①-1入力シート（宿泊人数）【1人当】'!C8:CX8) -> 0 | DB8: =SUMIF(C8:CX8,"<0",'⑥-1A申告納付税額（3%）【1人当】'!C8:CX8) -> 0
B9: 3 | C9: =IFERROR(IF('⑥-1A申告納付税額（3%）【1人当】'!C9-'⑦-1Aのうち道分【1人当】'!C9<0, '⑥-1A申告納付税額（3%）【1人当】'!C9-'⑦-1Aのうち道分【1人当】'!C9, 0), 0) -> 0 | D9: =IFERROR(IF('⑥-1A申告納付税額（3%）【1人当】'!D9-'⑦-1Aのうち道分【1人当】'!D9<0, '⑥-1A申告納付税額（3%）【1人当】'!D9-'⑦-1Aのうち道分【1人当】'!D9, 0), 0) -> 0 | E9: =IFERROR(IF('⑥-1A申告納付税額（3%）【1人当】'!E9-'⑦-1Aのうち道分【1人当】'!E9<0, '⑥-1A申告納付税額（3%）【1人当】'!E9-'⑦-1Aのうち道分【1人当】'!E9, 0), 0) -> 0 | F9: =IFERROR(IF('⑥-1A申告納付税額（3%）【1人当】'!F9-'⑦-1Aのうち道分【1人当】'!F9<0, '⑥-1A申告納付税額（3%）【1人当】'!F9-'⑦-1Aのうち道分【1人当】'!F9, 0), 0) -> 0 | G9: =IFERROR(IF('⑥-1A申告納付税額（3%）【1人当】'!G9-'⑦-1Aのうち道分【1人当】'!G9<0, '⑥-1A申告納付税額（3%）【1人当】'!G9-'⑦-1Aのうち道分【1人当】'!G9, 0), 0) -> 0 | H9: =IFERROR(IF('⑥-1A申告納付税額（3%）【1人当】'!H9-'⑦-1Aのうち道分【1人当】'!H9<0, '⑥-1A申告納付税額（3%）【1人当】'!H9-'⑦-1Aのうち道分【1人当】'!H9, 0), 0) -> 0 | I9: =IFERROR(IF('⑥-1A申告納付税額（3%）【1人当】'!I9-'⑦-1Aのうち道分【1人当】'!I9<0, '⑥-1A申告納付税額（3%）【1人当】'!I9-'⑦-1Aのうち道分【1人当】'!I9, 0), 0) -> 0 | J9: =IFERROR(IF('⑥-1A申告納付税額（3%）【1人当】'!J9-'⑦-1Aのうち道分【1人当】'!J9<0, '⑥-1A申告納付税額（3%）【1人当】'!J9-'⑦-1Aのうち道分【1人当】'!J9, 0), 0) -> 0 | ... CX9: =IFERROR(IF('⑥-1A申告納付税額（3%）【1人当】'!CX9-'⑦-1Aのうち道分【1人当】'!CX9<0, '⑥-1A申告納付税額（3%）【1人当】'!CX9-'⑦-1Aのうち道分【1人当】'!CX9, 0), 0) -> 0 | CZ9: 3 | DA9: =SUMIF(C9:CX9,"<0",'①-1入力シート（宿泊人数）【1人当】'!C9:CX9) -> 0 | DB9: =SUMIF(C9:CX9,"<0",'⑥-1A申告納付税額（3%）【1人当】'!C9:CX9) -> 0
B10: 4 | C10: =IFERROR(IF('⑥-1A申告納付税額（3%）【1人当】'!C10-'⑦-1Aのうち道分【1人当】'!C10<0, '⑥-1A申告納付税額（3%）【1人当】'!C10-'⑦-1Aのうち道分【1人当】'!C10, 0), 0) -> 0 | D10: =IFERROR(IF('⑥-1A申告納付税額（3%）【1人当】'!D10-'⑦-1Aのうち道分【1人当】'!D10<0, '⑥-1A申告納付税額（3%）【1人当】'!D10-'⑦-1Aのうち道分【1人当】'!D10, 0), 0) -> 0 | E10: =IFERROR(IF('⑥-1A申告納付税額（3%）【1人当】'!E10-'⑦-1Aのうち道分【1人当】'!E10<0, '⑥-1A申告納付税額（3%）【1人当】'!E10-'⑦-1Aのうち道分【1人当】'!E10, 0), 0) -> 0 | F10: =IFERROR(IF('⑥-1A申告納付税額（3%）【1人当】'!F10-'⑦-1Aのうち道分【1人当】'!F10<0, '⑥-1A申告納付税額（3%）【1人当】'!F10-'⑦-1Aのうち道分【1人当】'!F10, 0), 0) -> 0 | G10: =IFERROR(IF('⑥-1A申告納付税額（3%）【1人当】'!G10-'⑦-1Aのうち道分【1人当】'!G10<0, '⑥-1A申告納付税額（3%）【1人当】'!G10-'⑦-1Aのうち道分【1人当】'!G10, 0), 0) -> 0 | H10: =IFERROR(IF('⑥-1A申告納付税額（3%）【1人当】'!H10-'⑦-1Aのうち道分【1人当】'!H10<0, '⑥-1A申告納付税額（3%）【1人当】'!H10-'⑦-1Aのうち道分【1人当】'!H10, 0), 0) -> 0 | I10: =IFERROR(IF('⑥-1A申告納付税額（3%）【1人当】'!I10-'⑦-1Aのうち道分【1人当】'!I10<0, '⑥-1A申告納付税額（3%）【1人当】'!I10-'⑦-1Aのうち道分【1人当】'!I10, 0), 0) -> 0 | J10: =IFERROR(IF('⑥-1A申告納付税額（3%）【1人当】'!J10-'⑦-1Aのうち道分【1人当】'!J10<0, '⑥-1A申告納付税額（3%）【1人当】'!J10-'⑦-1Aのうち道分【1人当】'!J10, 0), 0) -> 0 | ... CX10: =IFERROR(IF('⑥-1A申告納付税額（3%）【1人当】'!CX10-'⑦-1Aのうち道分【1人当】'!CX10<0, '⑥-1A申告納付税額（3%）【1人当】'!CX10-'⑦-1Aのうち道分【1人当】'!CX10, 0), 0) -> 0 | CZ10: 4 | DA10: =SUMIF(C10:CX10,"<0",'①-1入力シート（宿泊人数）【1人当】'!C10:CX10) -> 0 | DB10: =SUMIF(C10:CX10,"<0",'⑥-1A申告納付税額（3%）【1人当】'!C10:CX10) -> 0
B11: 5 | C11: =IFERROR(IF('⑥-1A申告納付税額（3%）【1人当】'!C11-'⑦-1Aのうち道分【1人当】'!C11<0, '⑥-1A申告納付税額（3%）【1人当】'!C11-'⑦-1Aのうち道分【1人当】'!C11, 0), 0) -> 0 | D11: =IFERROR(IF('⑥-1A申告納付税額（3%）【1人当】'!D11-'⑦-1Aのうち道分【1人当】'!D11<0, '⑥-1A申告納付税額（3%）【1人当】'!D11-'⑦-1Aのうち道分【1人当】'!D11, 0), 0) -> 0 | E11: =IFERROR(IF('⑥-1A申告納付税額（3%）【1人当】'!E11-'⑦-1Aのうち道分【1人当】'!E11<0, '⑥-1A申告納付税額（3%）【1人当】'!E11-'⑦-1Aのうち道分【1人当】'!E11, 0), 0) -> 0 | F11: =IFERROR(IF('⑥-1A申告納付税額（3%）【1人当】'!F11-'⑦-1Aのうち道分【1人当】'!F11<0, '⑥-1A申告納付税額（3%）【1人当】'!F11-'⑦-1Aのうち道分【1人当】'!F11, 0), 0) -> 0 | G11: =IFERROR(IF('⑥-1A申告納付税額（3%）【1人当】'!G11-'⑦-1Aのうち道分【1人当】'!G11<0, '⑥-1A申告納付税額（3%）【1人当】'!G11-'⑦-1Aのうち道分【1人当】'!G11, 0), 0) -> 0 | H11: =IFERROR(IF('⑥-1A申告納付税額（3%）【1人当】'!H11-'⑦-1Aのうち道分【1人当】'!H11<0, '⑥-1A申告納付税額（3%）【1人当】'!H11-'⑦-1Aのうち道分【1人当】'!H11, 0), 0) -> 0 | I11: =IFERROR(IF('⑥-1A申告納付税額（3%）【1人当】'!I11-'⑦-1Aのうち道分【1人当】'!I11<0, '⑥-1A申告納付税額（3%）【1人当】'!I11-'⑦-1Aのうち道分【1人当】'!I11, 0), 0) -> 0 | J11: =IFERROR(IF('⑥-1A申告納付税額（3%）【1人当】'!J11-'⑦-1Aのうち道分【1人当】'!J11<0, '⑥-1A申告納付税額（3%）【1人当】'!J11-'⑦-1Aのうち道分【1人当】'!J11, 0), 0) -> 0 | ... CX11: =IFERROR(IF('⑥-1A申告納付税額（3%）【1人当】'!CX11-'⑦-1Aのうち道分【1人当】'!CX11<0, '⑥-1A申告納付税額（3%）【1人当】'!CX11-'⑦-1Aのうち道分【1人当】'!CX11, 0), 0) -> 0 | CZ11: 5 | DA11: =SUMIF(C11:CX11,"<0",'①-1入力シート（宿泊人数）【1人当】'!C11:CX11) -> 0 | DB11: =SUMIF(C11:CX11,"<0",'⑥-1A申告納付税額（3%）【1人当】'!C11:CX11) -> 0
B12: 6 | C12: =IFERROR(IF('⑥-1A申告納付税額（3%）【1人当】'!C12-'⑦-1Aのうち道分【1人当】'!C12<0, '⑥-1A申告納付税額（3%）【1人当】'!C12-'⑦-1Aのうち道分【1人当】'!C12, 0), 0) -> 0 | D12: =IFERROR(IF('⑥-1A申告納付税額（3%）【1人当】'!D12-'⑦-1Aのうち道分【1人当】'!D12<0, '⑥-1A申告納付税額（3%）【1人当】'!D12-'⑦-1Aのうち道分【1人当】'!D12, 0), 0) -> 0 | E12: =IFERROR(IF('⑥-1A申告納付税額（3%）【1人当】'!E12-'⑦-1Aのうち道分【1人当】'!E12<0, '⑥-1A申告納付税額（3%）【1人当】'!E12-'⑦-1Aのうち道分【1人当】'!E12, 0), 0) -> 0 | F12: =IFERROR(IF('⑥-1A申告納付税額（3%）【1人当】'!F12-'⑦-1Aのうち道分【1人当】'!F12<0, '⑥-1A申告納付税額（3%）【1人当】'!F12-'⑦-1Aのうち道分【1人当】'!F12, 0), 0) -> 0 | G12: =IFERROR(IF('⑥-1A申告納付税額（3%）【1人当】'!G12-'⑦-1Aのうち道分【1人当】'!G12<0, '⑥-1A申告納付税額（3%）【1人当】'!G12-'⑦-1Aのうち道分【1人当】'!G12, 0), 0) -> 0 | H12: =IFERROR(IF('⑥-1A申告納付税額（3%）【1人当】'!H12-'⑦-1Aのうち道分【1人当】'!H12<0, '⑥-1A申告納付税額（3%）【1人当】'!H12-'⑦-1Aのうち道分【1人当】'!H12, 0), 0) -> 0 | I12: =IFERROR(IF('⑥-1A申告納付税額（3%）【1人当】'!I12-'⑦-1Aのうち道分【1人当】'!I12<0, '⑥-1A申告納付税額（3%）【1人当】'!I12-'⑦-1Aのうち道分【1人当】'!I12, 0), 0) -> 0 | J12: =IFERROR(IF('⑥-1A申告納付税額（3%）【1人当】'!J12-'⑦-1Aのうち道分【1人当】'!J12<0, '⑥-1A申告納付税額（3%）【1人当】'!J12-'⑦-1Aのうち道分【1人当】'!J12, 0), 0) -> 0 | ... CX12: =IFERROR(IF('⑥-1A申告納付税額（3%）【1人当】'!CX12-'⑦-1Aのうち道分【1人当】'!CX12<0, '⑥-1A申告納付税額（3%）【1人当】'!CX12-'⑦-1Aのうち道分【1人当】'!CX12, 0), 0) -> 0 | CZ12: 6 | DA12: =SUMIF(C12:CX12,"<0",'①-1入力シート（宿泊人数）【1人当】'!C12:CX12) -> 0 | DB12: =SUMIF(C12:CX12,"<0",'⑥-1A申告納付税額（3%）【1人当】'!C12:CX12) -> 0
B13: 7 | C13: =IFERROR(IF('⑥-1A申告納付税額（3%）【1人当】'!C13-'⑦-1Aのうち道分【1人当】'!C13<0, '⑥-1A申告納付税額（3%）【1人当】'!C13-'⑦-1Aのうち道分【1人当】'!C13, 0), 0) -> 0 | D13: =IFERROR(IF('⑥-1A申告納付税額（3%）【1人当】'!D13-'⑦-1Aのうち道分【1人当】'!D13<0, '⑥-1A申告納付税額（3%）【1人当】'!D13-'⑦-1Aのうち道分【1人当】'!D13, 0), 0) -> 0 | E13: =IFERROR(IF('⑥-1A申告納付税額（3%）【1人当】'!E13-'⑦-1Aのうち道分【1人当】'!E13<0, '⑥-1A申告納付税額（3%）【1人当】'!E13-'⑦-1Aのうち道分【1人当】'!E13, 0), 0) -> 0 | F13: =IFERROR(IF('⑥-1A申告納付税額（3%）【1人当】'!F13-'⑦-1Aのうち道分【1人当】'!F13<0, '⑥-1A申告納付税額（3%）【1人当】'!F13-'⑦-1Aのうち道分【1人当】'!F13, 0), 0) -> 0 | G13: =IFERROR(IF('⑥-1A申告納付税額（3%）【1人当】'!G13-'⑦-1Aのうち道分【1人当】'!G13<0, '⑥-1A申告納付税額（3%）【1人当】'!G13-'⑦-1Aのうち道分【1人当】'!G13, 0), 0) -> 0 | H13: =IFERROR(IF('⑥-1A申告納付税額（3%）【1人当】'!H13-'⑦-1Aのうち道分【1人当】'!H13<0, '⑥-1A申告納付税額（3%）【1人当】'!H13-'⑦-1Aのうち道分【1人当】'!H13, 0), 0) -> 0 | I13: =IFERROR(IF('⑥-1A申告納付税額（3%）【1人当】'!I13-'⑦-1Aのうち道分【1人当】'!I13<0, '⑥-1A申告納付税額（3%）【1人当】'!I13-'⑦-1Aのうち道分【1人当】'!I13, 0), 0) -> 0 | J13: =IFERROR(IF('⑥-1A申告納付税額（3%）【1人当】'!J13-'⑦-1Aのうち道分【1人当】'!J13<0, '⑥-1A申告納付税額（3%）【1人当】'!J13-'⑦-1Aのうち道分【1人当】'!J13, 0), 0) -> 0 | ... CX13: =IFERROR(IF('⑥-1A申告納付税額（3%）【1人当】'!CX13-'⑦-1Aのうち道分【1人当】'!CX13<0, '⑥-1A申告納付税額（3%）【1人当】'!CX13-'⑦-1Aのうち道分【1人当】'!CX13, 0), 0) -> 0 | CZ13: 7 | DA13: =SUMIF(C13:CX13,"<0",'①-1入力シート（宿泊人数）【1人当】'!C13:CX13) -> 0 | DB13: =SUMIF(C13:CX13,"<0",'⑥-1A申告納付税額（3%）【1人当】'!C13:CX13) -> 0
B14: 8 | C14: =IFERROR(IF('⑥-1A申告納付税額（3%）【1人当】'!C14-'⑦-1Aのうち道分【1人当】'!C14<0, '⑥-1A申告納付税額（3%）【1人当】'!C14-'⑦-1Aのうち道分【1人当】'!C14, 0), 0) -> 0 | D14: =IFERROR(IF('⑥-1A申告納付税額（3%）【1人当】'!D14-'⑦-1Aのうち道分【1人当】'!D14<0, '⑥-1A申告納付税額（3%）【1人当】'!D14-'⑦-1Aのうち道分【1人当】'!D14, 0), 0) -> 0 | E14: =IFERROR(IF('⑥-1A申告納付税額（3%）【1人当】'!E14-'⑦-1Aのうち道分【1人当】'!E14<0, '⑥-1A申告納付税額（3%）【1人当】'!E14-'⑦-1Aのうち道分【1人当】'!E14, 0), 0) -> 0 | F14: =IFERROR(IF('⑥-1A申告納付税額（3%）【1人当】'!F14-'⑦-1Aのうち道分【1人当】'!F14<0, '⑥-1A申告納付税額（3%）【1人当】'!F14-'⑦-1Aのうち道分【1人当】'!F14, 0), 0) -> 0 | G14: =IFERROR(IF('⑥-1A申告納付税額（3%）【1人当】'!G14-'⑦-1Aのうち道分【1人当】'!G14<0, '⑥-1A申告納付税額（3%）【1人当】'!G14-'⑦-1Aのうち道分【1人当】'!G14, 0), 0) -> 0 | H14: =IFERROR(IF('⑥-1A申告納付税額（3%）【1人当】'!H14-'⑦-1Aのうち道分【1人当】'!H14<0, '⑥-1A申告納付税額（3%）【1人当】'!H14-'⑦-1Aのうち道分【1人当】'!H14, 0), 0) -> 0 | I14: =IFERROR(IF('⑥-1A申告納付税額（3%）【1人当】'!I14-'⑦-1Aのうち道分【1人当】'!I14<0, '⑥-1A申告納付税額（3%）【1人当】'!I14-'⑦-1Aのうち道分【1人当】'!I14, 0), 0) -> 0 | J14: =IFERROR(IF('⑥-1A申告納付税額（3%）【1人当】'!J14-'⑦-1Aのうち道分【1人当】'!J14<0, '⑥-1A申告納付税額（3%）【1人当】'!J14-'⑦-1Aのうち道分【1人当】'!J14, 0), 0) -> 0 | ... CX14: =IFERROR(IF('⑥-1A申告納付税額（3%）【1人当】'!CX14-'⑦-1Aのうち道分【1人当】'!CX14<0, '⑥-1A申告納付税額（3%）【1人当】'!CX14-'⑦-1Aのうち道分【1人当】'!CX14, 0), 0) -> 0 | CZ14: 8 | DA14: =SUMIF(C14:CX14,"<0",'①-1入力シート（宿泊人数）【1人当】'!C14:CX14) -> 0 | DB14: =SUMIF(C14:CX14,"<0",'⑥-1A申告納付税額（3%）【1人当】'!C14:CX14) -> 0
B15: 9 | C15: =IFERROR(IF('⑥-1A申告納付税額（3%）【1人当】'!C15-'⑦-1Aのうち道分【1人当】'!C15<0, '⑥-1A申告納付税額（3%）【1人当】'!C15-'⑦-1Aのうち道分【1人当】'!C15, 0), 0) -> 0 | D15: =IFERROR(IF('⑥-1A申告納付税額（3%）【1人当】'!D15-'⑦-1Aのうち道分【1人当】'!D15<0, '⑥-1A申告納付税額（3%）【1人当】'!D15-'⑦-1Aのうち道分【1人当】'!D15, 0), 0) -> 0 | E15: =IFERROR(IF('⑥-1A申告納付税額（3%）【1人当】'!E15-'⑦-1Aのうち道分【1人当】'!E15<0, '⑥-1A申告納付税額（3%）【1人当】'!E15-'⑦-1Aのうち道分【1人当】'!E15, 0), 0) -> 0 | F15: =IFERROR(IF('⑥-1A申告納付税額（3%）【1人当】'!F15-'⑦-1Aのうち道分【1人当】'!F15<0, '⑥-1A申告納付税額（3%）【1人当】'!F15-'⑦-1Aのうち道分【1人当】'!F15, 0), 0) -> 0 | G15: =IFERROR(IF('⑥-1A申告納付税額（3%）【1人当】'!G15-'⑦-1Aのうち道分【1人当】'!G15<0, '⑥-1A申告納付税額（3%）【1人当】'!G15-'⑦-1Aのうち道分【1人当】'!G15, 0), 0) -> 0 | H15: =IFERROR(IF('⑥-1A申告納付税額（3%）【1人当】'!H15-'⑦-1Aのうち道分【1人当】'!H15<0, '⑥-1A申告納付税額（3%）【1人当】'!H15-'⑦-1Aのうち道分【1人当】'!H15, 0), 0) -> 0 | I15: =IFERROR(IF('⑥-1A申告納付税額（3%）【1人当】'!I15-'⑦-1Aのうち道分【1人当】'!I15<0, '⑥-1A申告納付税額（3%）【1人当】'!I15-'⑦-1Aのうち道分【1人当】'!I15, 0), 0) -> 0 | J15: =IFERROR(IF('⑥-1A申告納付税額（3%）【1人当】'!J15-'⑦-1Aのうち道分【1人当】'!J15<0, '⑥-1A申告納付税額（3%）【1人当】'!J15-'⑦-1Aのうち道分【1人当】'!J15, 0), 0) -> 0 | ... CX15: =IFERROR(IF('⑥-1A申告納付税額（3%）【1人当】'!CX15-'⑦-1Aのうち道分【1人当】'!CX15<0, '⑥-1A申告納付税額（3%）【1人当】'!CX15-'⑦-1Aのうち道分【1人当】'!CX15, 0), 0) -> 0 | CZ15: 9 | DA15: =SUMIF(C15:CX15,"<0",'①-1入力シート（宿泊人数）【1人当】'!C15:CX15) -> 0 | DB15: =SUMIF(C15:CX15,"<0",'⑥-1A申告納付税額（3%）【1人当】'!C15:CX15) -> 0
B16: 10 | C16: =IFERROR(IF('⑥-1A申告納付税額（3%）【1人当】'!C16-'⑦-1Aのうち道分【1人当】'!C16<0, '⑥-1A申告納付税額（3%）【1人当】'!C16-'⑦-1Aのうち道分【1人当】'!C16, 0), 0) -> 0 | D16: =IFERROR(IF('⑥-1A申告納付税額（3%）【1人当】'!D16-'⑦-1Aのうち道分【1人当】'!D16<0, '⑥-1A申告納付税額（3%）【1人当】'!D16-'⑦-1Aのうち道分【1人当】'!D16, 0), 0) -> 0 | E16: =IFERROR(IF('⑥-1A申告納付税額（3%）【1人当】'!E16-'⑦-1Aのうち道分【1人当】'!E16<0, '⑥-1A申告納付税額（3%）【1人当】'!E16-'⑦-1Aのうち道分【1人当】'!E16, 0), 0) -> 0 | F16: =IFERROR(IF('⑥-1A申告納付税額（3%）【1人当】'!F16-'⑦-1Aのうち道分【1人当】'!F16<0, '⑥-1A申告納付税額（3%）【1人当】'!F16-'⑦-1Aのうち道分【1人当】'!F16, 0), 0) -> 0 | G16: =IFERROR(IF('⑥-1A申告納付税額（3%）【1人当】'!G16-'⑦-1Aのうち道分【1人当】'!G16<0, '⑥-1A申告納付税額（3%）【1人当】'!G16-'⑦-1Aのうち道分【1人当】'!G16, 0), 0) -> 0 | H16: =IFERROR(IF('⑥-1A申告納付税額（3%）【1人当】'!H16-'⑦-1Aのうち道分【1人当】'!H16<0, '⑥-1A申告納付税額（3%）【1人当】'!H16-'⑦-1Aのうち道分【1人当】'!H16, 0), 0) -> 0 | I16: =IFERROR(IF('⑥-1A申告納付税額（3%）【1人当】'!I16-'⑦-1Aのうち道分【1人当】'!I16<0, '⑥-1A申告納付税額（3%）【1人当】'!I16-'⑦-1Aのうち道分【1人当】'!I16, 0), 0) -> 0 | J16: =IFERROR(IF('⑥-1A申告納付税額（3%）【1人当】'!J16-'⑦-1Aのうち道分【1人当】'!J16<0, '⑥-1A申告納付税額（3%）【1人当】'!J16-'⑦-1Aのうち道分【1人当】'!J16, 0), 0) -> 0 | ... CX16: =IFERROR(IF('⑥-1A申告納付税額（3%）【1人当】'!CX16-'⑦-1Aのうち道分【1人当】'!CX16<0, '⑥-1A申告納付税額（3%）【1人当】'!CX16-'⑦-1Aのうち道分【1人当】'!CX16, 0), 0) -> 0 | CZ16: 10 | DA16: =SUMIF(C16:CX16,"<0",'①-1入力シート（宿泊人数）【1人当】'!C16:CX16) -> 0 | DB16: =SUMIF(C16:CX16,"<0",'⑥-1A申告納付税額（3%）【1人当】'!C16:CX16) -> 0
B17: 11 | C17: =IFERROR(IF('⑥-1A申告納付税額（3%）【1人当】'!C17-'⑦-1Aのうち道分【1人当】'!C17<0, '⑥-1A申告納付税額（3%）【1人当】'!C17-'⑦-1Aのうち道分【1人当】'!C17, 0), 0) -> 0 | D17: =IFERROR(IF('⑥-1A申告納付税額（3%）【1人当】'!D17-'⑦-1Aのうち道分【1人当】'!D17<0, '⑥-1A申告納付税額（3%）【1人当】'!D17-'⑦-1Aのうち道分【1人当】'!D17, 0), 0) -> 0 | E17: =IFERROR(IF('⑥-1A申告納付税額（3%）【1人当】'!E17-'⑦-1Aのうち道分【1人当】'!E17<0, '⑥-1A申告納付税額（3%）【1人当】'!E17-'⑦-1Aのうち道分【1人当】'!E17, 0), 0) -> 0 | F17: =IFERROR(IF('⑥-1A申告納付税額（3%）【1人当】'!F17-'⑦-1Aのうち道分【1人当】'!F17<0, '⑥-1A申告納付税額（3%）【1人当】'!F17-'⑦-1Aのうち道分【1人当】'!F17, 0), 0) -> 0 | G17: =IFERROR(IF('⑥-1A申告納付税額（3%）【1人当】'!G17-'⑦-1Aのうち道分【1人当】'!G17<0, '⑥-1A申告納付税額（3%）【1人当】'!G17-'⑦-1Aのうち道分【1人当】'!G17, 0), 0) -> 0 | H17: =IFERROR(IF('⑥-1A申告納付税額（3%）【1人当】'!H17-'⑦-1Aのうち道分【1人当】'!H17<0, '⑥-1A申告納付税額（3%）【1人当】'!H17-'⑦-1Aのうち道分【1人当】'!H17, 0), 0) -> 0 | I17: =IFERROR(IF('⑥-1A申告納付税額（3%）【1人当】'!I17-'⑦-1Aのうち道分【1人当】'!I17<0, '⑥-1A申告納付税額（3%）【1人当】'!I17-'⑦-1Aのうち道分【1人当】'!I17, 0), 0) -> 0 | J17: =IFERROR(IF('⑥-1A申告納付税額（3%）【1人当】'!J17-'⑦-1Aのうち道分【1人当】'!J17<0, '⑥-1A申告納付税額（3%）【1人当】'!J17-'⑦-1Aのうち道分【1人当】'!J17, 0), 0) -> 0 | ... CX17: =IFERROR(IF('⑥-1A申告納付税額（3%）【1人当】'!CX17-'⑦-1Aのうち道分【1人当】'!CX17<0, '⑥-1A申告納付税額（3%）【1人当】'!CX17-'⑦-1Aのうち道分【1人当】'!CX17, 0), 0) -> 0 | CZ17: 11 | DA17: =SUMIF(C17:CX17,"<0",'①-1入力シート（宿泊人数）【1人当】'!C17:CX17) -> 0 | DB17: =SUMIF(C17:CX17,"<0",'⑥-1A申告納付税額（3%）【1人当】'!C17:CX17) -> 0
B18: 12 | C18: =IFERROR(IF('⑥-1A申告納付税額（3%）【1人当】'!C18-'⑦-1Aのうち道分【1人当】'!C18<0, '⑥-1A申告納付税額（3%）【1人当】'!C18-'⑦-1Aのうち道分【1人当】'!C18, 0), 0) -> 0 | D18: =IFERROR(IF('⑥-1A申告納付税額（3%）【1人当】'!D18-'⑦-1Aのうち道分【1人当】'!D18<0, '⑥-1A申告納付税額（3%）【1人当】'!D18-'⑦-1Aのうち道分【1人当】'!D18, 0), 0) -> 0 | E18: =IFERROR(IF('⑥-1A申告納付税額（3%）【1人当】'!E18-'⑦-1Aのうち道分【1人当】'!E18<0, '⑥-1A申告納付税額（3%）【1人当】'!E18-'⑦-1Aのうち道分【1人当】'!E18, 0), 0) -> 0 | F18: =IFERROR(IF('⑥-1A申告納付税額（3%）【1人当】'!F18-'⑦-1Aのうち道分【1人当】'!F18<0, '⑥-1A申告納付税額（3%）【1人当】'!F18-'⑦-1Aのうち道分【1人当】'!F18, 0), 0) -> 0 | G18: =IFERROR(IF('⑥-1A申告納付税額（3%）【1人当】'!G18-'⑦-1Aのうち道分【1人当】'!G18<0, '⑥-1A申告納付税額（3%）【1人当】'!G18-'⑦-1Aのうち道分【1人当】'!G18, 0), 0) -> 0 | H18: =IFERROR(IF('⑥-1A申告納付税額（3%）【1人当】'!H18-'⑦-1Aのうち道分【1人当】'!H18<0, '⑥-1A申告納付税額（3%）【1人当】'!H18-'⑦-1Aのうち道分【1人当】'!H18, 0), 0) -> 0 | I18: =IFERROR(IF('⑥-1A申告納付税額（3%）【1人当】'!I18-'⑦-1Aのうち道分【1人当】'!I18<0, '⑥-1A申告納付税額（3%）【1人当】'!I18-'⑦-1Aのうち道分【1人当】'!I18, 0), 0) -> 0 | J18: =IFERROR(IF('⑥-1A申告納付税額（3%）【1人当】'!J18-'⑦-1Aのうち道分【1人当】'!J18<0, '⑥-1A申告納付税額（3%）【1人当】'!J18-'⑦-1Aのうち道分【1人当】'!J18, 0), 0) -> 0 | ... CX18: =IFERROR(IF('⑥-1A申告納付税額（3%）【1人当】'!CX18-'⑦-1Aのうち道分【1人当】'!CX18<0, '⑥-1A申告納付税額（3%）【1人当】'!CX18-'⑦-1Aのうち道分【1人当】'!CX18, 0), 0) -> 0 | CZ18: 12 | DA18: =SUMIF(C18:CX18,"<0",'①-1入力シート（宿泊人数）【1人当】'!C18:CX18) -> 0 | DB18: =SUMIF(C18:CX18,"<0",'⑥-1A申告納付税額（3%）【1人当】'!C18:CX18) -> 0
B19: 13 | C19: =IFERROR(IF('⑥-1A申告納付税額（3%）【1人当】'!C19-'⑦-1Aのうち道分【1人当】'!C19<0, '⑥-1A申告納付税額（3%）【1人当】'!C19-'⑦-1Aのうち道分【1人当】'!C19, 0), 0) -> 0 | D19: =IFERROR(IF('⑥-1A申告納付税額（3%）【1人当】'!D19-'⑦-1Aのうち道分【1人当】'!D19<0, '⑥-1A申告納付税額（3%）【1人当】'!D19-'⑦-1Aのうち道分【1人当】'!D19, 0), 0) -> 0 | E19: =IFERROR(IF('⑥-1A申告納付税額（3%）【1人当】'!E19-'⑦-1Aのうち道分【1人当】'!E19<0, '⑥-1A申告納付税額（3%）【1人当】'!E19-'⑦-1Aのうち道分【1人当】'!E19, 0), 0) -> 0 | F19: =IFERROR(IF('⑥-1A申告納付税額（3%）【1人当】'!F19-'⑦-1Aのうち道分【1人当】'!F19<0, '⑥-1A申告納付税額（3%）【1人当】'!F19-'⑦-1Aのうち道分【1人当】'!F19, 0), 0) -> 0 | G19: =IFERROR(IF('⑥-1A申告納付税額（3%）【1人当】'!G19-'⑦-1Aのうち道分【1人当】'!G19<0, '⑥-1A申告納付税額（3%）【1人当】'!G19-'⑦-1Aのうち道分【1人当】'!G19, 0), 0) -> 0 | H19: =IFERROR(IF('⑥-1A申告納付税額（3%）【1人当】'!H19-'⑦-1Aのうち道分【1人当】'!H19<0, '⑥-1A申告納付税額（3%）【1人当】'!H19-'⑦-1Aのうち道分【1人当】'!H19, 0), 0) -> 0 | I19: =IFERROR(IF('⑥-1A申告納付税額（3%）【1人当】'!I19-'⑦-1Aのうち道分【1人当】'!I19<0, '⑥-1A申告納付税額（3%）【1人当】'!I19-'⑦-1Aのうち道分【1人当】'!I19, 0), 0) -> 0 | J19: =IFERROR(IF('⑥-1A申告納付税額（3%）【1人当】'!J19-'⑦-1Aのうち道分【1人当】'!J19<0, '⑥-1A申告納付税額（3%）【1人当】'!J19-'⑦-1Aのうち道分【1人当】'!J19, 0), 0) -> 0 | ... CX19: =IFERROR(IF('⑥-1A申告納付税額（3%）【1人当】'!CX19-'⑦-1Aのうち道分【1人当】'!CX19<0, '⑥-1A申告納付税額（3%）【1人当】'!CX19-'⑦-1Aのうち道分【1人当】'!CX19, 0), 0) -> 0 | CZ19: 13 | DA19: =SUMIF(C19:CX19,"<0",'①-1入力シート（宿泊人数）【1人当】'!C19:CX19) -> 0 | DB19: =SUMIF(C19:CX19,"<0",'⑥-1A申告納付税額（3%）【1人当】'!C19:CX19) -> 0
... B37: 31 | C37: =IFERROR(IF('⑥-1A申告納付税額（3%）【1人当】'!C37-'⑦-1Aのうち道分【1人当】'!C37<0, '⑥-1A申告納付税額（3%）【1人当】'!C37-'⑦-1Aのうち道分【1人当】'!C37, 0), 0) -> 0 | D37: =IFERROR(IF('⑥-1A申告納付税額（3%）【1人当】'!D37-'⑦-1Aのうち道分【1人当】'!D37<0, '⑥-1A申告納付税額（3%）【1人当】'!D37-'⑦-1Aのうち道分【1人当】'!D37, 0), 0) -> 0 | E37: =IFERROR(IF('⑥-1A申告納付税額（3%）【1人当】'!E37-'⑦-1Aのうち道分【1人当】'!E37<0, '⑥-1A申告納付税額（3%）【1人当】'!E37-'⑦-1Aのうち道分【1人当】'!E37, 0), 0) -> 0 | F37: =IFERROR(IF('⑥-1A申告納付税額（3%）【1人当】'!F37-'⑦-1Aのうち道分【1人当】'!F37<0, '⑥-1A申告納付税額（3%）【1人当】'!F37-'⑦-1Aのうち道分【1人当】'!F37, 0), 0) -> 0 | G37: =IFERROR(IF('⑥-1A申告納付税額（3%）【1人当】'!G37-'⑦-1Aのうち道分【1人当】'!G37<0, '⑥-1A申告納付税額（3%）【1人当】'!G37-'⑦-1Aのうち道分【1人当】'!G37, 0), 0) -> 0 | H37: =IFERROR(IF('⑥-1A申告納付税額（3%）【1人当】'!H37-'⑦-1Aのうち道分【1人当】'!H37<0, '⑥-1A申告納付税額（3%）【1人当】'!H37-'⑦-1Aのうち道分【1人当】'!H37, 0), 0) -> 0 | I37: =IFERROR(IF('⑥-1A申告納付税額（3%）【1人当】'!I37-'⑦-1Aのうち道分【1人当】'!I37<0, '⑥-1A申告納付税額（3%）【1人当】'!I37-'⑦-1Aのうち道分【1人当】'!I37, 0), 0) -> 0 | J37: =IFERROR(IF('⑥-1A申告納付税額（3%）【1人当】'!J37-'⑦-1Aのうち道分【1人当】'!J37<0, '⑥-1A申告納付税額（3%）【1人当】'!J37-'⑦-1Aのうち道分【1人当】'!J37, 0), 0) -> 0 | ... CX37: =IFERROR(IF('⑥-1A申告納付税額（3%）【1人当】'!CX37-'⑦-1Aのうち道分【1人当】'!CX37<0, '⑥-1A申告納付税額（3%）【1人当】'!CX37-'⑦-1Aのうち道分【1人当】'!CX37, 0), 0) -> 0 | CZ37: 31 | DA37: =SUMIF(C37:CX37,"<0",'①-1入力シート（宿泊人数）【1人当】'!C37:CX37) -> 0 | DB37: =SUMIF(C37:CX37,"<0",'⑥-1A申告納付税額（3%）【1人当】'!C37:CX37) -> 0
A38: 計 | C38: =SUM(C7:C37) -> 0 | D38: =SUM(D7:D37) -> 0 | E38: =SUM(E7:E37) -> 0 | F38: =SUM(F7:F37) -> 0 | G38: =SUM(G7:G37) -> 0 | H38: =SUM(H7:H37) -> 0 | I38: =SUM(I7:I37) -> 0 | J38: =SUM(J7:J37) -> 0 | ... CX38: =SUM(CX7:CX37) -> 0 | DA38: =SUM(DA7:DA37) -> 0 | DB38: =SUM(DB7:DB37) -> 0

Sheet ⑨-2道不足分【室】
A1: ='①-1入力シート（宿泊人数）【1人当】'!A1 -> 0 | B1: 年 | C1: ='①-1入力シート（宿泊人数）【1人当】'!C1 -> 0 | D1: 月分
A3: 建物名 | C3: ='①-2入力シート（宿泊人数）【室】'!C3 -> 0 | CY3: 合計 人数
A4: 個別名 | C4: ='①-2入力シート（宿泊人数）【室】'!C4 -> 0 | D4: ='①-2入力シート（宿泊人数）【室】'!D4 -> 0 | E4: ='①-2入力シート（宿泊人数）【室】'!E4 -> 0 | F4: ='①-2入力シート（宿泊人数）【室】'!F4 -> 0 | G4: ='①-2入力シート（宿泊人数）【室】'!G4 -> 0 | H4: ='①-2入力シート（宿泊人数）【室】'!H4 -> 0 | I4: ='①-2入力シート（宿泊人数）【室】'!I4 -> 0 | J4: ='①-2入力シート（宿泊人数）【室】'!J4 -> 0 | ... CX4: ='①-2入力シート（宿泊人数）【室】'!CX4 -> 0
A5: 宿泊料金（税込） | C5: ='①-2入力シート（宿泊人数）【室】'!C5 -> 0 | D5: ='①-2入力シート（宿泊人数）【室】'!D5 -> 0 | E5: ='①-2入力シート（宿泊人数）【室】'!E5 -> 0 | F5: ='①-2入力シート（宿泊人数）【室】'!F5 -> 0 | G5: ='①-2入力シート（宿泊人数）【室】'!G5 -> 0 | H5: ='①-2入力シート（宿泊人数）【室】'!H5 -> 0 | I5: ='①-2入力シート（宿泊人数）【室】'!I5 -> 0 | J5: ='①-2入力シート（宿泊人数）【室】'!J5 -> 0 | ... CX5: ='①-2入力シート（宿泊人数）【室】'!CX5 -> 0
A6: 宿泊料金（税抜額） | C6: =C5/1.1 -> 0 | D6: =D5/1.1 -> 0 | E6: =E5/1.1 -> 0 | F6: =F5/1.1 -> 0 | G6: =G5/1.1 -> 0 | H6: =H5/1.1 -> 0 | I6: =I5/1.1 -> 0 | J6: =J5/1.1 -> 0 | ... CX6: =CX5/1.1 -> 0
A7: 課税標準額 | C7: =ROUNDDOWN(C$6,-2) -> 0 | D7: =ROUNDDOWN(D$6,-2) -> 0 | E7: =ROUNDDOWN(E$6,-2) -> 0 | F7: =ROUNDDOWN(F$6,-2) -> 0 | G7: =ROUNDDOWN(G$6,-2) -> 0 | H7: =ROUNDDOWN(H$6,-2) -> 0 | I7: =ROUNDDOWN(I$6,-2) -> 0 | J7: =ROUNDDOWN(J$6,-2) -> 0 | ... CX7: =ROUNDDOWN(CX$6,-2) -> 0 | DD7: 不足額 対象人数 | DE7: 不足額 対象税額
A8: 室数 | C8: ='①-2入力シート（宿泊人数）【室】'!C8 -> 0
A9: 市が負担する不足額 | B9: 1 | C9: =IFERROR(IF('⑥-2A申告納付税額（3％）【室】'!C9-'⑦-2Aのうち道分【室】'!C9<0, '⑥-2A申告納付税額（3％）【室】'!C9-'⑦-2Aのうち道分【室】'!C9, 0), 0) -> 0 | D9: =IFERROR(IF('⑥-2A申告納付税額（3％）【室】'!D9-'⑦-2Aのうち道分【室】'!D9<0, '⑥-2A申告納付税額（3％）【室】'!D9-'⑦-2Aのうち道分【室】'!D9, 0), 0) -> 0 | E9: =IFERROR(IF('⑥-2A申告納付税額（3％）【室】'!E9-'⑦-2Aのうち道分【室】'!E9<0, '⑥-2A申告納付税額（3％）【室】'!E9-'⑦-2Aのうち道分【室】'!E9, 0), 0) -> 0 | F9: =IFERROR(IF('⑥-2A申告納付税額（3％）【室】'!F9-'⑦-2Aのうち道分【室】'!F9<0, '⑥-2A申告納付税額（3％）【室】'!F9-'⑦-2Aのうち道分【室】'!F9, 0), 0) -> 0 | G9: =IFERROR(IF('⑥-2A申告納付税額（3％）【室】'!G9-'⑦-2Aのうち道分【室】'!G9<0, '⑥-2A申告納付税額（3％）【室】'!G9-'⑦-2Aのうち道分【室】'!G9, 0), 0) -> 0 | H9: =IFERROR(IF('⑥-2A申告納付税額（3％）【室】'!H9-'⑦-2Aのうち道分【室】'!H9<0, '⑥-2A申告納付税額（3％）【室】'!H9-'⑦-2Aのうち道分【室】'!H9, 0), 0) -> 0 | I9: =IFERROR(IF('⑥-2A申告納付税額（3％）【室】'!I9-'⑦-2Aのうち道分【室】'!I9<0, '⑥-2A申告納付税額（3％）【室】'!I9-'⑦-2Aのうち道分【室】'!I9, 0), 0) -> 0 | J9: =IFERROR(IF('⑥-2A申告納付税額（3％）【室】'!J9-'⑦-2Aのうち道分【室】'!J9<0, '⑥-2A申告納付税額（3％）【室】'!J9-'⑦-2Aのうち道分【室】'!J9, 0), 0) -> 0 | ... CX9: =IFERROR(IF('⑥-2A申告納付税額（3％）【室】'!CX9-'⑦-2Aのうち道分【室】'!CX9<0, '⑥-2A申告納付税額（3％）【室】'!CX9-'⑦-2Aのうち道分【室】'!CX9, 0), 0) -> 0 | CY9: =SUM(C9:N9) -> 0 | DC9: 1 | DD9: =SUMIF(C9:CX9,"<0",'①-2入力シート（宿泊人数）【室】'!C9:CX9) -> 0 | DE9: =SUMIF(C9:CX9,"<0",'⑥-2A申告納付税額（3％）【室】'!C9:CX9) -> 0
