Workbook

Sheet ①入力シート（宿泊人数）【棟】
B1: 年 | D1: 月分 | E1: 宿泊施設番号 | J1: 宿泊施設名
C2: 1 | D2: 2 | E2: 3 | F2: 4 | G2: 5 | H2: 6 | I2: 7 | J2: 8 | K2: 9 | L2: 10 | M2: 11 | N2: 12 | O2: 13 | P2: 14 | Q2: 15 | R2: 16 | S2: 17 | T2: 18 | U2: 19 | V2: 20 | W2: 21 | X2: 22 | Y2: 23 | Z2: 24 | AA2: 25 | AB2: 26 | AC2: 27 | AD2: 28 | AE2: 29 | AF2: 30 | AG2: 31 | AH2: 32 | AI2: 33 | AJ2: 34 | AK2: 35 | AL2: 36 | AM2: 37 | AN2: 38 | AO2: 39 | AP2: 40 | AQ2: 41 | AR2: 42 | AS2: 43 | AT2: 44 | AU2: 45 | AV2: 46 | AW2: 47 | AX2: 48 | AY2: 49 | AZ2: 50 | BA2: 51 | BB2: 52 | BC2: 53 | BD2: 54 | BE2: 55 | BF2: 56 | BG2: 57 | BH2: 58 | BI2: 59 | BJ2: 60 | BK2: 61 | BL2: 62 | BM2: 63 | BN2: 64 | BO2: 65 | BP2: 66 | BQ2: 67 | BR2: 68 | BS2: 69 | BT2: 70 | BU2: 71 | BV2: 72 | BW2: 73 | BX2: 74 | BY2: 75 | BZ2: 76 | CA2: 77 | CB2: 78 | CC2: 79 | CD2: 80 | CE2: 81 | CF2: 82 | CG2: 83 | CH2: 84 | CI2: 85 | CJ2: 86 | CK2: 87 | CL2: 88 | CM2: 89 | CN2: 90 | CO2: 91 | CP2: 92 | CQ2: 93 | CR2: 94 | CS2: 95 | CT2: 96 | CU2: 97 | CV2: 98 | CW2: 99 | CX2: 100
A3: 建物名 | CY3: 合計 人数 | DA3: 課税免除
A4: 種類
A5: 宿泊料金（税込）
A6: 宿泊料金（税抜額） | C6: =C5/1.1 -> 0 | D6: =D5/1.1 -> 0 | E6: =E5/1.1 -> 0 | F6: =F5/1.1 -> 0 | G6: =G5/1.1 -> 0 | H6: =H5/1.1 -> 0 | I6: =I5/1.1 -> 0 | J6: =J5/1.1 -> 0 | ... CX6: =CX5/1.1 -> 0
A7: 課税標準額 | C7: =ROUNDDOWN(C$6,-2) -> 0 | D7: =ROUNDDOWN(D$6,-2) -> 0 | E7: =ROUNDDOWN(E$6,-2) -> 0 | F7: =ROUNDDOWN(F$6,-2) -> 0 | G7: =ROUNDDOWN(G$6,-2) -> 0 | H7: =ROUNDDOWN(H$6,-2) -> 0 | I7: =ROUNDDOWN(I$6,-2) -> 0 | J7: =ROUNDDOWN(J$6,-2) -> 0 | ... CX7: =ROUNDDOWN(CX$6,-2) -> 0
A8: 部屋数
A9: 宿泊者数 | B9: 1 | CY9: =SUM(C9:CX9) -> 0
B10: 2 | CY10: =SUM(C10:CX10) -> 0
B11: 3 | CY11: =SUM(C11:CX11) -> 0
B12: 4 | CY12: =SUM(C12:CX12) -> 0
B13: 5 | CY13: =SUM(C13:CX13) -> 0
B14: 6 | CY14: =SUM(C14:CX14) -> 0
B15: 7 | CY15: =SUM(C15:CX15) -> 0
B16: 8 | CY16: =SUM(C16:CX16) -> 0
B17: 9 | CY17: =SUM(C17:CX17) -> 0
B18: 10 | CY18: =SUM(C18:CX18) -> 0
B19: 11 | CY19: =SUM(C19:CX19) -> 0
B20: 12 | CY20: =SUM(C20:CX20) -> 0
B21: 13 | CY21: =SUM(C21:CX21) -> 0
... B39: 31 | CY39: =SUM(C39:CX39) -> 0
A40: 計 | C40: =SUM(C9:C39) -> 0 | D40: =SUM(D9:D39) -> 0 | E40: =SUM(E9:E39) -> 0 | F40: =SUM(F9:F39) -> 0 | G40: =SUM(G9:G39) -> 0 | H40: =SUM(H9:H39) -> 0 | I40: =SUM(I9:I39) -> 0 | J40: =SUM(J9:J39) -> 0 | ... CY40: =SUM(CY9:CY39) -> 0 | DA40: =SUM(DA9:DA39) -> 0

Sheet ここからは入力不要（自動計算）→

Sheet 提出様式→

Sheet ②市月計表
D1: 宿泊施設番号 | F1: ='①入力シート（宿泊人数）【棟】'!G1 -> 0
D2: 宿泊施設名 | F2: ='①入力シート（宿泊人数）【棟】'!L1 -> 0
E4: 令和 | F4: ='①入力シート（宿泊人数）【棟】'!A1 -> 0 | H4: 年 | K4: ='①入力シート（宿泊人数）【棟】'!C1 -> 0 | L4: 月分 宿泊税月計表
D5: 区分 | F5: 宿泊総数 | K5: 宿泊料金総額 （素泊まり相当額） | N5: 定額/税率 | P5: 税額
B6: 定額制 （道税） | D6: 1人1泊2万円未満 | F6: =④宿泊数管理【棟】!DB40 -> 0 | J6: 人 | N6: 100 | O6: 円 | P6: =F6*N6 -> 0 | Q6: 円
D7: 1人1泊2万円 以上5万円未満 | F7: =④宿泊数管理【棟】!DC40 -> 0 | J7: 人 | N7: 200 | O7: 円 | P7: =F7*N7 -> 0 | Q7: 円
D8: 1人1泊5万円以上 | F8: =④宿泊数管理【棟】!DD40 -> 0 | J8: 人 | N8: 500 | O8: 円 | P8: =F8*N8 -> 0 | Q8: 円
D9: 課税免除 | F9: =④宿泊数管理【棟】!DE40 -> 0 | J9: 人
D10: 計 | F10: =SUM(F6:F9) -> 0 | J10: 人 | P10: =SUM(P6:P9) -> 0 | Q10: 円
B11: 定率制 （市税＋道税） | D11: 1人
D12: 1部屋
D13: 1棟 | F13: =④宿泊数管理【棟】!DG40 -> 0 | G13: 組) | I13: =④宿泊数管理【棟】!CY40 -> 0 | J13: 人 | K13: ='⑤-2宿泊料金計算【棟】'!CY40 -> 0 | M13: 円 | N13: 0.03 | P13: =K13*N13 -> 0 | Q13: 円
D14: 課税免除 | F14: =F9 -> 0 | J14: 人
D15: 合計 | F15: =F13 -> 0 | G15: 組) | I15: =I13+F14 -> 0 | J15: 人 | K15: =SUM(K11:K13) -> 0 | M15: 円 | P15: =P11+P12+P13 -> 0 | Q15: 円
B17: 備考
B18: ※ 宿泊料金総額は、１人・１部屋・1棟の宿泊料金の額から100円未満の端数を切り捨てた金額の合計額を記載してください。
B24: ★以下は、苫小牧市宿泊税条例第11条において定める特別徴収義務者のための納入
B25: に必要とされるものであり、申告者が別途、宿泊税を負担するものではございません。
B27: 一定額に満たない額の宿泊が生じた場合（自動計算）
B28: 宿泊月 | D28: 対象 宿泊者数 | F28: 苫小牧市へ納める税 （3%） | K28: 北海道宿泊税 | N28: 不足額 （市が負担する額）
B29: =K4 -> 0 | C29: 月 | D29: =⑨道不足分【棟】!DD40 -> 0 | E29: 人 | F29: =⑨道不足分【棟】!DE40 -> 0 | J29: 円 | K29: =D29*100 -> 0 | M29: 円 | N29: =F29-K29 -> 0 | Q29: 円

Sheet ③道月計表
B1: 宿泊施設番号 | C1: ='①入力シート（宿泊人数）【棟】'!G1 -> 0
B2: 宿泊施設名 | C2: ='①入力シート（宿泊人数）【棟】'!L1 -> 0
B4: 令和 | C4: ='①入力シート（宿泊人数）【棟】'!A1 -> 0 | D4: 年 | E4: ='①入力シート（宿泊人数）【棟】'!C1 -> 0 | F4: 月分
A6: 日付 | B6: 宿泊数
B7: 宿泊料金 2万円未満 | C7: 宿泊料金 2～5万円未満 | D7: 宿泊料金 5万円以上 | F7: 課税免除 | G7: 合計
A8: 1 | B8: =④宿泊数管理【棟】!DB9 -> 0 | C8: =④宿泊数管理【棟】!DC9 -> 0 | D8: =④宿泊数管理【棟】!DD9 -> 0 | F8: =④宿泊数管理【棟】!DE9 -> 0 | G8: =SUM(B8:F8) -> 0
A9: 2 | B9: =④宿泊数管理【棟】!DB10 -> 0 | C9: =④宿泊数管理【棟】!DC10 -> 0 | D9: =④宿泊数管理【棟】!DD10 -> 0 | F9: =④宿泊数管理【棟】!DE10 -> 0 | G9: =SUM(B9:F9) -> 0
A10: 3 | B10: =④宿泊数管理【棟】!DB11 -> 0 | C10: =④宿泊数管理【棟】!DC11 -> 0 | D10: =④宿泊数管理【棟】!DD11 -> 0 | F10: =④宿泊数管理【棟】!DE11 -> 0 | G10: =SUM(B10:F10) -> 0
A11: 4 | B11: =④宿泊数管理【棟】!DB12 -> 0 | C11: =④宿泊数管理【棟】!DC12 -> 0 | D11: =④宿泊数管理【棟】!DD12 -> 0 | F11: =④宿泊数管理【棟】!DE12 -> 0 | G11: =SUM(B11:F11) -> 0
A12: 5 | B12: =④宿泊数管理【棟】!DB13 -> 0 | C12: =④宿泊数管理【棟】!DC13 -> 0 | D12: =④宿泊数管理【棟】!DD13 -> 0 | F12: =④宿泊数管理【棟】!DE13 -> 0 | G12: =SUM(B12:F12) -> 0
A13: 6 | B13: =④宿泊数管理【棟】!DB14 -> 0 | C13: =④宿泊数管理【棟】!DC14 -> 0 | D13: =④宿泊数管理【棟】!DD14 -> 0 | F13: =④宿泊数管理【棟】!DE14 -> 0 | G13: =SUM(B13:F13) -> 0
A14: 7 | B14: =④宿泊数管理【棟】!DB15 -> 0 | C14: =④宿泊数管理【棟】!DC15 -> 0 | D14: =④宿泊数管理【棟】!DD15 -> 0 | F14: =④宿泊数管理【棟】!DE15 -> 0 | G14: =SUM(B14:F14) -> 0
A15: 8 | B15: =④宿泊数管理【棟】!DB16 -> 0 | C15: =④宿泊数管理【棟】!DC16 -> 0 | D15: =④宿泊数管理【棟】!DD16 -> 0 | F15: =④宿泊数管理【棟】!DE16 -> 0 | G15: =SUM(B15:F15) -> 0
A16: 9 | B16: =④宿泊数管理【棟】!DB17 -> 0 | C16: =④宿泊数管理【棟】!DC17 -> 0 | D16: =④宿泊数管理【棟】!DD17 -> 0 | F16: =④宿泊数管理【棟】!DE17 -> 0 | G16: =SUM(B16:F16) -> 0
A17: 10 | B17: =④宿泊数管理【棟】!DB18 -> 0 | C17: =④宿泊数管理【棟】!DC18 -> 0 | D17: =④宿泊数管理【棟】!DD18 -> 0 | F17: =④宿泊数管理【棟】!DE18 -> 0 | G17: =SUM(B17:F17) -> 0
A18: 11 | B18: =④宿泊数管理【棟】!DB19 -> 0 | C18: =④宿泊数管理【棟】!DC19 -> 0 | D18: =④宿泊数管理【棟】!DD19 -> 0 | F18: =④宿泊数管理【棟】!DE19 -> 0 | G18: =SUM(B18:F18) -> 0
A19: 12 | B19: =④宿泊数管理【棟】!DB20 -> 0 | C19: =④宿泊数管理【棟】!DC20 -> 0 | D19: =④宿泊数管理【棟】!DD20 -> 0 | F19: =④宿泊数管理【棟】!DE20 -> 0 | G19: =SUM(B19:F19) -> 0
... A38: 31 | B38: =④宿泊数管理【棟】!DB39 -> 0 | C38: =④宿泊数管理【棟】!DC39 -> 0 | D38: =④宿泊数管理【棟】!DD39 -> 0 | F38: =④宿泊数管理【棟】!DE39 -> 0 | G38: =SUM(B38:F38) -> 0
A39: 合計（泊） | B39: =SUM(B8:B38) -> 0 | C39: =SUM(C8:C38) -> 0 | D39: =SUM(D8:D38) -> 0 | E39: =SUM(E8:E38) -> 0 | F39: =SUM(F8:F38) -> 0 | G39: =SUM(G8:G38) -> 0
A40: 税率（円） | B40: 100 | C40: 200 | D40: 500
A41: 税額（円） | B41: =B39*B40 -> 0 | C41: =C39*C40 -> 0 | D41: =D39*D40 -> 0 | E41: =E39*E40 -> 0 | G41: =SUM(B41:F41) -> 0

Sheet 各計算表（提出不要）→

Sheet ④宿泊数管理【棟】
A1: ='①入力シート（宿泊人数）【棟】'!A1 -> 0 | B1: 年 | C1: ='①入力シート（宿泊人数）【棟】'!C1 -> 0 | D1: 月分
C2: 1 | D2: 2 | E2: 3 | F2: 4 | G2: 5 | H2: 6 | I2: 7 | J2: 8 | K2: 9 | L2: 10 | M2: 11 | N2: 12 | O2: 13 | P2: 14 | Q2: 15 | R2: 16 | S2: 17 | T2: 18 | U2: 19 | V2: 20 | W2: 21 | X2: 22 | Y2: 23 | Z2: 24 | AA2: 25 | AB2: 26 | AC2: 27 | AD2: 28 | AE2: 29 | AF2: 30 | AG2: 31 | AH2: 32 | AI2: 33 | AJ2: 34 | AK2: 35 | AL2: 36 | AM2: 37 | AN2: 38 | AO2: 39 | AP2: 40 | AQ2: 41 | AR2: 42 | AS2: 43 | AT2: 44 | AU2: 45 | AV2: 46 | AW2: 47 | AX2: 48 | AY2: 49 | AZ2: 50 | BA2: 51 | BB2: 52 | BC2: 53 | BD2: 54 | BE2: 55 | BF2: 56 | BG2: 57 | BH2: 58 | BI2: 59 | BJ2: 60 | BK2: 61 | BL2: 62 | BM2: 63 | BN2: 64 | BO2: 65 | BP2: 66 | BQ2: 67 | BR2: 68 | BS2: 69 | BT2: 70 | BU2: 71 | BV2: 72 | BW2: 73 | BX2: 74 | BY2: 75 | BZ2: 76 | CA2: 77 | CB2: 78 | CC2: 79 | CD2: 80 | CE2: 81 | CF2: 82 | CG2: 83 | CH2: 84 | CI2: 85 | CJ2: 86 | CK2: 87 | CL2: 88 | CM2: 89 | CN2: 90 | CO2: 91 | CP2: 92 | CQ2: 93 | CR2: 94 | CS2: 95 | CT2: 96 | CU2: 97 | CV2: 98 | CW2: 99 | CX2: 100
A3: 建物名 | C3: ='①入力シート（宿泊人数）【棟】'!C3 -> 0 | CY3: 合計 人数
A4: 種類 | C4: ='①入力シート（宿泊人数）【棟】'!C4 -> 0 | D4: ='①入力シート（宿泊人数）【棟】'!D4 -> 0 | E4: ='①入力シート（宿泊人数）【棟】'!E4 -> 0 | F4: ='①入力シート（宿泊人数）【棟】'!F4 -> 0 | G4: ='①入力シート（宿泊人数）【棟】'!G4 -> 0 | H4: ='①入力シート（宿泊人数）【棟】'!H4 -> 0 | I4: ='①入力シート（宿泊人数）【棟】'!I4 -> 0 | J4: ='①入力シート（宿泊人数）【棟】'!J4 -> 0 | ... CX4: ='①入力シート（宿泊人数）【棟】'!CX4 -> 0
A5: 宿泊料金（税込） | C5: ='①入力シート（宿泊人数）【棟】'!C5 -> 0 | D5: ='①入力シート（宿泊人数）【棟】'!D5 -> 0 | E5: ='①入力シート（宿泊人数）【棟】'!E5 -> 0 | F5: ='①入力シート（宿泊人数）【棟】'!F5 -> 0 | G5: ='①入力シート（宿泊人数）【棟】'!G5 -> 0 | H5: ='①入力シート（宿泊人数）【棟】'!H5 -> 0 | I5: ='①入力シート（宿泊人数）【棟】'!I5 -> 0 | J5: ='①入力シート（宿泊人数）【棟】'!J5 -> 0 | ... CX5: ='①入力シート（宿泊人数）【棟】'!CX5 -> 0
A6: 宿泊料金（税抜額） | C6: =C5/1.1 -> 0 | D6: =D5/1.1 -> 0 | E6: =E5/1.1 -> 0 | F6: =F5/1.1 -> 0 | G6: =G5/1.1 -> 0 | H6: =H5/1.1 -> 0 | I6: =I5/1.1 -> 0 | J6: =J5/1.1 -> 0 | ... CX6: =CX5/1.1 -> 0 | DA6: 集計
A7: 課税標準額 | C7: =ROUNDDOWN(C$6,-2) -> 0 | D7: =ROUNDDOWN(D$6,-2) -> 0 | E7: =ROUNDDOWN(E$6,-2) -> 0 | F7: =ROUNDDOWN(F$6,-2) -> 0 | G7: =ROUNDDOWN(G$6,-2) -> 0 | H7: =ROUNDDOWN(H$6,-2) -> 0 | I7: =ROUNDDOWN(I$6,-2) -> 0 | J7: =ROUNDDOWN(J$6,-2) -> 0 | ... CX7: =ROUNDDOWN(CX$6,-2) -> 0 | DA7: 宿泊者数 計 | DB7: 北海道管理分 | DE7: 課税免除 | DF7: 宿泊+免除合計 | DG7: 組数計
A8: 室数 | C8: ='①入力シート（宿泊人数）【棟】'!C8 -> 0 | DB8: 100 | DC8: 200 | DD8: 500
A9: 宿泊者数 | B9: 1 | C9: ='①入力シート（宿泊人数）【棟】'!C9 -> 0 | D9: ='①入力シート（宿泊人数）【棟】'!D9 -> 0 | E9: ='①入力シート（宿泊人数）【棟】'!E9 -> 0 | F9: ='①入力シート（宿泊人数）【棟】'!F9 -> 0 | G9: ='①入力シート（宿泊人数）【棟】'!G9 -> 0 | H9: ='①入力シート（宿泊人数）【棟】'!H9 -> 0 | I9: ='①入力シート（宿泊人数）【棟】'!I9 -> 0 | J9: ='①入力シート（宿泊人数）【棟】'!J9 -> 0 | ... CX9: ='①入力シート（宿泊人数）【棟】'!CX9 -> 0 | CY9: =SUM(C9:CX9) -> 0 | DA9: =CY9 -> 0 | DB9: {=SUMPRODUCT((C9:CX9>0) * (C$7:CX$7 < 20000 * C9:CX9) * C9:CX9)} -> 0 | DC9: {=SUMPRODUCT((C9:CX9>0) * (C$7:CX$7 >= 20000 * C9:CX9) * (C$7:CX$7 < 50000 * C9:CX9) * C9:CX9)} -> 0 | DD9: {=SUMPRODUCT((C9:CX9>0) * (C$7:CX$7 >= 50000 * C9:CX9) * C9:CX9)} -> 0 | DE9: ='①入力シート（宿泊人数）【棟】'!DA9 -> 0 | DF9: =DA9+DE9 -> 0 | DG9: =COUNTIF(C9:CX9, ">0") -> 0
B10: 2 | C10: ='①入力シート（宿泊人数）【棟】'!C10 -> 0 | D10: ='①入力シート（宿泊人数）【棟】'!D10 -> 0 | E10: ='①入力シート（宿泊人数）【棟】'!E10 -> 0 | F10: ='①入力シート（宿泊人数）【棟】'!F10 -> 0 | G10: ='①入力シート（宿泊人数）【棟】'!G10 -> 0 | H10: ='①入力シート（宿泊人数）【棟】'!H10 -> 0 | I10: ='①入力シート（宿泊人数）【棟】'!I10 -> 0 | J10: ='①入力シート（宿泊人数）【棟】'!J10 -> 0 | ... CX10: ='①入力シート（宿泊人数）【棟】'!CX10 -> 0 | CY10: =SUM(C10:CX10) -> 0 | DA10: =CY10 -> 0 | DB10: {=SUMPRODUCT((C10:CX10>0) * (C$7:CX$7 < 20000 * C10:CX10) * C10:CX10)} -> 0 | DC10: {=SUMPRODUCT((C10:CX10>0) * (C$7:CX$7 >= 20000 * C10:CX10) * (C$7:CX$7 < 50000 * C10:CX10) * C10:CX10)} -> 0 | DD10: {=SUMPRODUCT((C10:CX10>0) * (C$7:CX$7 >= 50000 * C10:CX10) * C10:CX10)} -> 0 | DE10: ='①入力シート（宿泊人数）【棟】'!DA10 -> 0 | DF10: =DA10+DE10 -> 0 | DG10: =COUNTIF(C10:CX10, ">0") -> 0
B11: 3 | C11: ='①入力シート（宿泊人数）【棟】'!C11 -> 0 | D11: ='①入力シート（宿泊人数）【棟】'!D11 -> 0 | E11: ='①入力シート（宿泊人数）【棟】'!E11 -> 0 | F11: ='①入力シート（宿泊人数）【棟】'!F11 -> 0 | G11: ='①入力シート（宿泊人数）【棟】'!G11 -> 0 | H11: ='①入力シート（宿泊人数）【棟】'!H11 -> 0 | I11: ='①入力シート（宿泊人数）【棟】'!I11 -> 0 | J11: ='①入力シート（宿泊人数）【棟】'!J11 -> 0 | ... CX11: ='①入力シート（宿泊人数）【棟】'!CX11 -> 0 | CY11: =SUM(C11:CX11) -> 0 | DA11: =CY11 -> 0 | DB11: {=SUMPRODUCT((C11:CX11>0) * (C$7:CX$7 < 20000 * C11:CX11) * C11:CX11)} -> 0 | DC11: {=SUMPRODUCT((C11:CX11>0) * (C$7:CX$7 >= 20000 * C11:CX11) * (C$7:CX$7 < 50000 * C11:CX11) * C11:CX11)} -> 0 | DD11: {=SUMPRODUCT((C11:CX11>0) * (C$7:CX$7 >= 50000 * C11:CX11) * C11:CX11)} -> 0 | DE11: ='①入力シート（宿泊人数）【棟】'!DA11 -> 0 | DF11: =DA11+DE11 -> 0 | DG11: =COUNTIF(C11:CX11, ">0") -> 0
B12: 4 | C12: ='①入力シート（宿泊人数）【棟】'!C12 -> 0 | D12: ='①入力シート（宿泊人数）【棟】'!D12 -> 0 | E12: ='①入力シート（宿泊人数）【棟】'!E12 -> 0 | F12: ='①入力シート（宿泊人数）【棟】'!F12 -> 0 | G12: ='①入力シート（宿泊人数）【棟】'!G12 -> 0 | H12: ='①入力シート（宿泊人数）【棟】'!H12 -> 0 | I12: ='①入力シート（宿泊人数）【棟】'!I12 -> 0 | J12: ='①入力シート（宿泊人数）【棟】'!J12 -> 0 | ... CX12: ='①入力シート（宿泊人数）【棟】'!CX12 -> 0 | CY12: =SUM(C12:CX12) -> 0 | DA12: =CY12 -> 0 | DB12: {=SUMPRODUCT((C12:CX12>0) * (C$7:CX$7 < 20000 * C12:CX12) * C12:CX12)} -> 0 | DC12: {=SUMPRODUCT((C12:CX12>0) * (C$7:CX$7 >= 20000 * C12:CX12) * (C$7:CX$7 < 50000 * C12:CX12) * C12:CX12)} -> 0 | DD12: {=SUMPRODUCT((C12:CX12>0) * (C$7:CX$7 >= 50000 * C12:CX12) * C12:CX12)} -> 0 | DE12: ='①入力シート（宿泊人数）【棟】'!DA12 -> 0 | DF12: =DA12+DE12 -> 0 | DG12: =COUNTIF(C12:CX12, ">0") -> 0
B13: 5 | C13: ='①入力シート（宿泊人数）【棟】'!C13 -> 0 | D13: ='①入力シート（宿泊人数）【棟】'!D13 -> 0 | E13: ='①入力シート（宿泊人数）【棟】'!E13 -> 0 | F13: ='①入力シート（宿泊人数）【棟】'!F13 -> 0 | G13: ='①入力シート（宿泊人数）【棟】'!G13 -> 0 | H13: ='①入力シート（宿泊人数）【棟】'!H13 -> 0 | I13: ='①入力シート（宿泊人数）【棟】'!I13 -> 0 | J13: ='①入力シート（宿泊人数）【棟】'!J13 -> 0 | ... CX13: ='①入力シート（宿泊人数）【棟】'!CX13 -> 0 | CY13: =SUM(C13:CX13) -> 0 | DA13: =CY13 -> 0 | DB13: {=SUMPRODUCT((C13:CX13>0) * (C$7:CX$7 < 20000 * C13:CX13) * C13:CX13)} -> 0 | DC13: {=SUMPRODUCT((C13:CX13>0) * (C$7:CX$7 >= 20000 * C13:CX13) * (C$7:CX$7 < 50000 * C13:CX13) * C13:CX13)} -> 0 | DD13: {=SUMPRODUCT((C13:CX13>0) * (C$7:CX$7 >= 50000 * C13:CX13) * C13:CX13)} -> 0 | DE13: ='①入力シート（宿泊人数）【棟】'!DA13 -> 0 | DF13: =DA13+DE13 -> 0 | DG13: =COUNTIF(C13:CX13, ">0") -> 0
B14: 6 | C14: ='①入力シート（宿泊人数）【棟】'!C14 -> 0 | D14: ='①入力シート（宿泊人数）【棟】'!D14 -> 0 | E14: ='①入力シート（宿泊人数）【棟】'!E14 -> 0 | F14: ='①入力シート（宿泊人数）【棟】'!F14 -> 0 | G14: ='①入力シート（宿泊人数）【棟】'!G14 -> 0 | H14: ='①入力シート（宿泊人数）【棟】'!H14 -> 0 | I14: ='①入力シート（宿泊人数）【棟】'!I14 -> 0 | J14: ='①入力シート（宿泊人数）【棟】'!J14 -> 0 | ... CX14: ='①入力シート（宿泊人数）【棟】'!CX14 -> 0 | CY14: =SUM(C14:CX14) -> 0 | DA14: =CY14 -> 0 | DB14: {=SUMPRODUCT((C14:CX14>0) * (C$7:CX$7 < 20000 * C14:CX14) * C14:CX14)} -> 0 | DC14: {=SUMPRODUCT((C14:CX14>0) * (C$7:CX$7 >= 20000 * C14:CX14) * (C$7:CX$7 < 50000 * C14:CX14) * C14:CX14)} -> 0 | DD14: {=SUMPRODUCT((C14:CX14>0) * (C$7:CX$7 >= 50000 * C14:CX14) * C14:CX14)} -> 0 | DE14: ='①入力シート（宿泊人数）【棟】'!DA14 -> 0 | DF14: =DA14+DE14 -> 0 | DG14: =COUNTIF(C14:CX14, ">0") -> 0
B15: 7 | C15: ='①入力シート（宿泊人数）【棟】'!C15 -> 0 | D15: ='①入力シート（宿泊人数）【棟】'!D15 -> 0 | E15: ='①入力シート（宿泊人数）【棟】'!E15 -> 0 | F15: ='①入力シート（宿泊人数）【棟】'!F15 -> 0 | G15: ='①入力シート（宿泊人数）【棟】'!G15 -> 0 | H15: ='①入力シート（宿泊人数）【棟】'!H15 -> 0 | I15: ='①入力シート（宿泊人数）【棟】'!I15 -> 0 | J15: ='①入力シート（宿泊人数）【棟】'!J15 -> 0 | ... CX15: ='①入力シート（宿泊人数）【棟】'!CX15 -> 0 | CY15: =SUM(C15:CX15) -> 0 | DA15: =CY15 -> 0 | DB15: {=SUMPRODUCT((C15:CX15>0) * (C$7:CX$7 < 20000 * C15:CX15) * C15:CX15)} -> 0 | DC15: {=SUMPRODUCT((C15:CX15>0) * (C$7:CX$7 >= 20000 * C15:CX15) * (C$7:CX$7 < 50000 * C15:CX15) * C15:CX15)} -> 0 | DD15: {=SUMPRODUCT((C15:CX15>0) * (C$7:CX$7 >= 50000 * C15:CX15) * C15:CX15)} -> 0 | DE15: ='①入力シート（宿泊人数）【棟】'!DA15 -> 0 | DF15: =DA15+DE15 -> 0 | DG15: =COUNTIF(C15:CX15, ">0") -> 0
B16: 8 | C16: ='①入力シート（宿泊人数）【棟】'!C16 -> 0 | D16: ='①入力シート（宿泊人数）【棟】'!D16 -> 0 | E16: ='①入力シート（宿泊人数）【棟】'!E16 -> 0 | F16: ='①入力シート（宿泊人数）【棟】'!F16 -> 0 | G16: ='①入力シート（宿泊人数）【棟】'!G16 -> 0 | H16: ='①入力シート（宿泊人数）【棟】'!H16 -> 0 | I16: ='①入力シート（宿泊人数）【棟】'!I16 -> 0 | J16: ='①入力シート（宿泊人数）【棟】'!J16 -> 0 | ... CX16: ='①入力シート（宿泊人数）【棟】'!CX16 -> 0 | CY16: =SUM(C16:CX16) -> 0 | DA16: =CY16 -> 0 | DB16: {=SUMPRODUCT((C16:CX16>0) * (C$7:CX$7 < 20000 * C16:CX16) * C16:CX16)} -> 0 | DC16: {=SUMPRODUCT((C16:CX16>0) * (C$7:CX$7 >= 20000 * C16:CX16) * (C$7:CX$7 < 50000 * C16:CX16) * C16:CX16)} -> 0 | DD16: {=SUMPRODUCT((C16:CX16>0) * (C$7:CX$7 >= 50000 * C16:CX16) * C16:CX16)} -> 0 | DE16: ='①入力シート（宿泊人数）【棟】'!DA16 -> 0 | DF16: =DA16+DE16 -> 0 | DG16: =COUNTIF(C16:CX16, ">0") -> 0
B17: 9 | C17: ='①入力シート（宿泊人数）【棟】'!C17 -> 0 | D17: ='①入力シート（宿泊人数）【棟】'!D17 -> 0 | E17: ='①入力シート（宿泊人数）【棟】'!E17 -> 0 | F17: ='①入力シート（宿泊人数）【棟】'!F17 -> 0 | G17: ='①入力シート（宿泊人数）【棟】'!G17 -> 0 | H17: ='①入力シート（宿泊人数）【棟】'!H17 -> 0 | I17: ='①入力シート（宿泊人数）【棟】'!I17 -> 0 | J17: ='①入力シート（宿泊人数）【棟】'!J17 -> 0 | ... CX17: ='①入力シート（宿泊人数）【棟】'!CX17 -> 0 | CY17: =SUM(C17:CX17) -> 0 | DA17: =CY17 -> 0 | DB17: {=SUMPRODUCT((C17:CX17>0) * (C$7:CX$7 < 20000 * C17:CX17) * C17:CX17)} -> 0 | DC17: {=SUMPRODUCT((C17:CX17>0) * (C$7:CX$7 >= 20000 * C17:CX17) * (C$7:CX$7 < 50000 * C17:CX17) * C17:CX17)} -> 0 | DD17: {=SUMPRODUCT((C17:CX17>0) * (C$7:CX$7 >= 50000 * C17:CX17) * C17:CX17)} -> 0 | DE17: ='①入力シート（宿泊人数）【棟】'!DA17 -> 0 | DF17: =DA17+DE17 -> 0 | DG17: =COUNTIF(C17:CX17, ">0") -> 0
B18: 10 | C18: ='①入力シート（宿泊人数）【棟】'!C18 -> 0 | D18: ='①入力シート（宿泊人数）【棟】'!D18 -> 0 | E18: ='①入力シート（宿泊人数）【棟】'!E18 -> 0 | F18: ='①入力シート（宿泊人数）【棟】'!F18 -> 0 | G18: ='①入力シート（宿泊人数）【棟】'!G18 -> 0 | H18: ='①入力シート（宿泊人数）【棟】'!H18 -> 0 | I18: ='①入力シート（宿泊人数）【棟】'!I18 -> 0 | J18: ='①入力シート（宿泊人数）【棟】'!J18 -> 0 | ... CX18: ='①入力シート（宿泊人数）【棟】'!CX18 -> 0 | CY18: =SUM(C18:CX18) -> 0 | DA18: =CY18 -> 0 | DB18: {=SUMPRODUCT((C18:CX18>0) * (C$7:CX$7 < 20000 * C18:CX18) * C18:CX18)} -> 0 | DC18: {=SUMPRODUCT((C18:CX18>0) * (C$7:CX$7 >= 20000 * C18:CX18) * (C$7:CX$7 < 50000 * C18:CX18) * C18:CX18)} -> 0 | DD18: {=SUMPRODUCT((C18:CX18>0) * (C$7:CX$7 >= 50000 * C18:CX18) * C18:CX18)} -> 0 | DE18: ='①入力シート（宿泊人数）【棟】'!DA18 -> 0 | DF18: =DA18+DE18 -> 0 | DG18: =COUNTIF(C18:CX18, ">0") -> 0
B19: 11 | C19: ='①入力シート（宿泊人数）【棟】'!C19 -> 0 | D19: ='①入力シート（宿泊人数）【棟】'!D19 -> 0 | E19: ='①入力シート（宿泊人数）【棟】'!E19 -> 0 | F19: ='①入力シート（宿泊人数）【棟】'!F19 -> 0 | G19: ='①入力シート（宿泊人数）【棟】'!G19 -> 0 | H19: ='①入力シート（宿泊人数）【棟】'!H19 -> 0 | I19: ='①入力シート（宿泊人数）【棟】'!I19 -> 0 | J19: ='①入力シート（宿泊人数）【棟】'!J19 -> 0 | ... CX19: ='①入力シート（宿泊人数）【棟】'!CX19 -> 0 | CY19: =SUM(C19:CX19) -> 0 | DA19: =CY19 -> 0 | DB19: {=SUMPRODUCT((C19:CX19>0) * (C$7:CX$7 < 20000 * C19:CX19) * C19:CX19)} -> 0 | DC19: {=SUMPRODUCT((C19:CX19>0) * (C$7:CX$7 >= 20000 * C19:CX19) * (C$7:CX$7 < 50000 * C19:CX19) * C19:CX19)} -> 0 | DD19: {=SUMPRODUCT((C19:CX19>0) * (C$7:CX$7 >= 50000 * C19:CX19) * C19:CX19)} -> 0 | DE19: ='①入力シート（宿泊人数）【棟】'!DA19 -> 0 | DF19: =DA19+DE19 -> 0 | DG19: =COUNTIF(C19:CX19, ">0") -> 0
B20: 12 | C20: ='①入力シート（宿泊人数）【棟】'!C20 -> 0 | D20: ='①入力シート（宿泊人数）【棟】'!D20 -> 0 | E20: ='①入力シート（宿泊人数）【棟】'!E20 -> 0 | F20: ='①入力シート（宿泊人数）【棟】'!F20 -> 0 | G20: ='①入力シート（宿泊人数）【棟】'!G20 -> 0 | H20: ='①入力シート（宿泊人数）【棟】'!H20 -> 0 | I20: ='①入力シート（宿泊人数）【棟】'!I20 -> 0 | J20: ='①入力シート（宿泊人数）【棟】'!J20 -> 0 | ... CX20: ='①入力シート（宿泊人数）【棟】'!CX20 -> 0 | CY20: =SUM(C20:CX20) -> 0 | DA20: =CY20 -> 0 | DB20: {=SUMPRODUCT((C20:CX20>0) * (C$7:CX$7 < 20000 * C20:CX20) * C20:CX20)} -> 0 | DC20: {=SUMPRODUCT((C20:CX20>0) * (C$7:CX$7 >= 20000 * C20:CX20) * (C$7:CX$7 < 50000 * C20:CX20) * C20:CX20)} -> 0 | DD20: {=SUMPRODUCT((C20:CX20>0) * (C$7:CX$7 >= 50000 * C20:CX20) * C20:CX20)} -> 0 | DE20: ='①入力シート（宿泊人数）【棟】'!DA20 -> 0 | DF20: =DA20+DE20 -> 0 | DG20: =COUNTIF(C20:CX20, ">0") -> 0
B21: 13 | C21: ='①入力シート（宿泊人数）【棟】'!C21 -> 0 | D21: ='①入力シート（宿泊人数）【棟】'!D21 -> 0 | E21: ='①入力シート（宿泊人数）【棟】'!E21 -> 0 | F21: ='①入力シート（宿泊人数）【棟】'!F21 -> 0 | G21: ='①入力シート（宿泊人数）【棟】'!G21 -> 0 | H21: ='①入力シート（宿泊人数）【棟】'!H21 -> 0 | I21: ='①入力シート（宿泊人数）【棟】'!I21 -> 0 | J21: ='①入力シート（宿泊人数）【棟】'!J21 -> 0 | ... CX21: ='①入力シート（宿泊人数）【棟】'!CX21 -> 0 | CY21: =SUM(C21:CX21) -> 0 | DA21: =CY21 -> 0 | DB21: {=SUMPRODUCT((C21:CX21>0) * (C$7:CX$7 < 20000 * C21:CX21) * C21:CX21)} -> 0 | DC21: {=SUMPRODUCT((C21:CX21>0) * (C$7:CX$7 >= 20000 * C21:CX21) * (C$7:CX$7 < 50000 * C21:CX21) * C21:CX21)} -> 0 | DD21: {=SUMPRODUCT((C21:CX21>0) * (C$7:CX$7 >= 50000 * C21:CX21) * C21:CX21)} -> 0 | DE21: ='①入力シート（宿泊人数）【棟】'!DA21 -> 0 | DF21: =DA21+DE21 -> 0 | DG21: =COUNTIF(C21:CX21, ">0") -> 0
... B39: 31 | C39: ='①入力シート（宿泊人数）【棟】'!C39 -> 0 | D39: ='①入力シート（宿泊人数）【棟】'!D39 -> 0 | E39: ='①入力シート（宿泊人数）【棟】'!E39 -> 0 | F39: ='①入力シート（宿泊人数）【棟】'!F39 -> 0 | G39: ='①入力シート（宿泊人数）【棟】'!G39 -> 0 | H39: ='①入力シート（宿泊人数）【棟】'!H39 -> 0 | I39: ='①入力シート（宿泊人数）【棟】'!I39 -> 0 | J39: ='①入力シート（宿泊人数）【棟】'!J39 -> 0 | ... CX39: ='①入力シート（宿泊人数）【棟】'!CX39 -> 0 | CY39: =SUM(C39:CX39) -> 0 | DA39: =CY39 -> 0 | DB39: {=SUMPRODUCT((C39:CX39>0) * (C$7:CX$7 < 20000 * C39:CX39) * C39:CX39)} -> 0 | DC39: {=SUMPRODUCT((C39:CX39>0) * (C$7:CX$7 >= 20000 * C39:CX39) * (C$7:CX$7 < 50000 * C39:CX39) * C39:CX39)} -> 0 | DD39: {=SUMPRODUCT((C39:CX39>0) * (C$7:CX$7 >= 50000 * C39:CX39) * C39:CX39)} -> 0 | DE39: ='①入力シート（宿泊人数）【棟】'!DA39 -> 0 | DF39: =DA39+DE39 -> 0 | DG39: =COUNTIF(C39:CX39, ">0") -> 0
A40: 計 | C40: ='①入力シート（宿泊人数）【棟】'!C40 -> 0 | D40: ='①入力シート（宿泊人数）【棟】'!D40 -> 0 | E40: ='①入力シート（宿泊人数）【棟】'!E40 -> 0 | F40: ='①入力シート（宿泊人数）【棟】'!F40 -> 0 | G40: ='①入力シート（宿泊人数）【棟】'!G40 -> 0 | H40: ='①入力シート（宿泊人数）【棟】'!H40 -> 0 | I40: ='①入力シート（宿泊人数）【棟】'!I40 -> 0 | J40: ='①入力シート（宿泊人数）【棟】'!J40 -> 0 | ... CX40: ='①入力シート（宿泊人数）【棟】'!CX40 -> 0 | CY40: =SUM(CY9:CY39) -> 0 | DA40: =SUM(DA9:DA39) -> 0 | DB40: =SUM(DB9:DB39) -> 0 | DC40: =SUM(DC9:DC39) -> 0 | DD40: =SUM(DD9:DD39) -> 0 | DE40: =SUM(DE9:DE39) -> 0 | DF40: =DA40+DE40 -> 0 | DG40: =SUM(DG9:DG39) -> 0
DA41: =SUM(DB41:DD41) -> 0 | DB41: =DB40*DB8 -> 0 | DC41: =DC40*DC8 -> 0 | DD41: =DD40*DD8 -> 0

Sheet ⑤-2宿泊料金計算【棟】
A1: ='①入力シート（宿泊人数）【棟】'!A1 -> 0 | B1: 年 | C1: ='①入力シート（宿泊人数）【棟】'!C1 -> 0 | D1: 月分
C2: 1 | D2: 2 | E2: 3 | F2: 4 | G2: 5 | H2: 6 | I2: 7 | J2: 8 | K2: 9 | L2: 10 | M2: 11 | N2: 12 | O2: 13 | P2: 14 | Q2: 15 | R2: 16 | S2: 17 | T2: 18 | U2: 19 | V2: 20 | W2: 21 | X2: 22 | Y2: 23 | Z2: 24 | AA2: 25 | AB2: 26 | AC2: 27 | AD2: 28 | AE2: 29 | AF2: 30 | AG2: 31 | AH2: 32 | AI2: 33 | AJ2: 34 | AK2: 35 | AL2: 36 | AM2: 37 | AN2: 38 | AO2: 39 | AP2: 40 | AQ2: 41 | AR2: 42 | AS2: 43 | AT2: 44 | AU2: 45 | AV2: 46 | AW2: 47 | AX2: 48 | AY2: 49 | AZ2: 50 | BA2: 51 | BB2: 52 | BC2: 53 | BD2: 54 | BE2: 55 | BF2: 56 | BG2: 57 | BH2: 58 | BI2: 59 | BJ2: 60 | BK2: 61 | BL2: 62 | BM2: 63 | BN2: 64 | BO2: 65 | BP2: 66 | BQ2: 67 | BR2: 68 | BS2: 69 | BT2: 70 | BU2: 71 | BV2: 72 | BW2: 73 | BX2: 74 | BY2: 75 | BZ2: 76 | CA2: 77 | CB2: 78 | CC2: 79 | CD2: 80 | CE2: 81 | CF2: 82 | CG2: 83 | CH2: 84 | CI2: 85 | CJ2: 86 | CK2: 87 | CL2: 88 | CM2: 89 | CN2: 90 | CO2: 91 | CP2: 92 | CQ2: 93 | CR2: 94 | CS2: 95 | CT2: 96 | CU2: 97 | CV2: 98 | CW2: 99 | CX2: 100
A3: 建物名 | C3: ='①入力シート（宿泊人数）【棟】'!C3 -> 0 | CY3: 合計 課税 標準額
A4: 種類 | C4: ='①入力シート（宿泊人数）【棟】'!C4 -> 0 | D4: ='①入力シート（宿泊人数）【棟】'!D4 -> 0 | E4: ='①入力シート（宿泊人数）【棟】'!E4 -> 0 | F4: ='①入力シート（宿泊人数）【棟】'!F4 -> 0 | G4: ='①入力シート（宿泊人数）【棟】'!G4 -> 0 | H4: ='①入力シート（宿泊人数）【棟】'!H4 -> 0 | I4: ='①入力シート（宿泊人数）【棟】'!I4 -> 0 | J4: ='①入力シート（宿泊人数）【棟】'!J4 -> 0 | ... CX4: ='①入力シート（宿泊人数）【棟】'!CX4 -> 0 | DA4: 課税標準 計
A5: 宿泊料金（税込） | C5: ='①入力シート（宿泊人数）【棟】'!C5 -> 0 | D5: ='①入力シート（宿泊人数）【棟】'!D5 -> 0 | E5: ='①入力シート（宿泊人数）【棟】'!E5 -> 0 | F5: ='①入力シート（宿泊人数）【棟】'!F5 -> 0 | G5: ='①入力シート（宿泊人数）【棟】'!G5 -> 0 | H5: ='①入力シート（宿泊人数）【棟】'!H5 -> 0 | I5: ='①入力シート（宿泊人数）【棟】'!I5 -> 0 | J5: ='①入力シート（宿泊人数）【棟】'!J5 -> 0 | ... CX5: ='①入力シート（宿泊人数）【棟】'!CX5 -> 0
A6: 宿泊料金（税抜額） | C6: =C5/1.1 -> 0 | D6: =D5/1.1 -> 0 | E6: =E5/1.1 -> 0 | F6: =F5/1.1 -> 0 | G6: =G5/1.1 -> 0 | H6: =H5/1.1 -> 0 | I6: =I5/1.1 -> 0 | J6: =J5/1.1 -> 0 | ... CX6: =CX5/1.1 -> 0
A7: 課税標準額 | C7: =ROUNDDOWN(C$6,-2) -> 0 | D7: =ROUNDDOWN(D$6,-2) -> 0 | E7: =ROUNDDOWN(E$6,-2) -> 0 | F7: =ROUNDDOWN(F$6,-2) -> 0 | G7: =ROUNDDOWN(G$6,-2) -> 0 | H7: =ROUNDDOWN(H$6,-2) -> 0 | I7: =ROUNDDOWN(I$6,-2) -> 0 | J7: =ROUNDDOWN(J$6,-2) -> 0 | ... CX7: =ROUNDDOWN(CX$6,-2) -> 0
A8: 室数 | C8: ='①入力シート（宿泊人数）【棟】'!C8 -> 0
A9: 課税標準額 | B9: 1 | C9: =IF('①入力シート（宿泊人数）【棟】'!C9>0, C$7, 0) -> 0 | D9: =IF('①入力シート（宿泊人数）【棟】'!D9>0, D$7, 0) -> 0 | E9: =IF('①入力シート（宿泊人数）【棟】'!E9>0, E$7, 0) -> 0 | F9: =IF('①入力シート（宿泊人数）【棟】'!F9>0, F$7, 0) -> 0 | G9: =IF('①入力シート（宿泊人数）【棟】'!G9>0, G$7, 0) -> 0 | H9: =IF('①入力シート（宿泊人数）【棟】'!H9>0, H$7, 0) -> 0 | I9: =IF('①入力シート（宿泊人数）【棟】'!I9>0, I$7, 0) -> 0 | J9: =IF('①入力シート（宿泊人数）【棟】'!J9>0, J$7, 0) -> 0 | ... CX9: =IF('①入力シート（宿泊人数）【棟】'!CX9>0, CX$7, 0) -> 0 | CY9: =SUM(C9:CX9) -> 0 | DA9: =CY9 -> 0
B10: 2 | C10: =IF('①入力シート（宿泊人数）【棟】'!C10>0, C$7, 0) -> 0 | D10: =IF('①入力シート（宿泊人数）【棟】'!D10>0, D$7, 0) -> 0 | E10: =IF('①入力シート（宿泊人数）【棟】'!E10>0, E$7, 0) -> 0 | F10: =IF('①入力シート（宿泊人数）【棟】'!F10>0, F$7, 0) -> 0 | G10: =IF('①入力シート（宿泊人数）【棟】'!G10>0, G$7, 0) -> 0 | H10: =IF('①入力シート（宿泊人数）【棟】'!H10>0, H$7, 0) -> 0 | I10: =IF('①入力シート（宿泊人数）【棟】'!I10>0, I$7, 0) -> 0 | J10: =IF('①入力シート（宿泊人数）【棟】'!J10>0, J$7, 0) -> 0 | ... CX10: =IF('①入力シート（宿泊人数）【棟】'!CX10>0, CX$7, 0) -> 0 | CY10: =SUM(C10:CX10) -> 0 | DA10: =CY10 -> 0
B11: 3 | C11: =IF('①入力シート（宿泊人数）【棟】'!C11>0, C$7, 0) -> 0 | D11: =IF('①入力シート（宿泊人数）【棟】'!D11>0, D$7, 0) -> 0 | E11: =IF('①入力シート（宿泊人数）【棟】'!E11>0, E$7, 0) -> 0 | F11: =IF('①入力シート（宿泊人数）【棟】'!F11>0, F$7, 0) -> 0 | G11: =IF('①入力シート（宿泊人数）【棟】'!G11>0, G$7, 0) -> 0 | H11: =IF('①入力シート（宿泊人数）【棟】'!H11>0, H$7, 0) -> 0 | I11: =IF('①入力シート（宿泊人数）【棟】'!I11>0, I$7, 0) -> 0 | J11: =IF('①入力シート（宿泊人数）【棟】'!J11>0, J$7, 0) -> 0 | ... CX11: =IF('①入力シート（宿泊人数）【棟】'!CX11>0, CX$7, 0) -> 0 | CY11: =SUM(C11:CX11) -> 0 | DA11: =CY11 -> 0
B12: 4 | C12: =IF('①入力シート（宿泊人数）【棟】'!C12>0, C$7, 0) -> 0 | D12: =IF('①入力シート（宿泊人数）【棟】'!D12>0, D$7, 0) -> 0 | E12: =IF('①入力シート（宿泊人数）【棟】'!E12>0, E$7, 0) -> 0 | F12: =IF('①入力シート（宿泊人数）【棟】'!F12>0, F$7, 0) -> 0 | G12: =IF('①入力シート（宿泊人数）【棟】'!G12>0, G$7, 0) -> 0 | H12: =IF('①入力シート（宿泊人数）【棟】'!H12>0, H$7, 0) -> 0 | I12: =IF('①入力シート（宿泊人数）【棟】'!I12>0, I$7, 0) -> 0 | J12: =IF('①入力シート（宿泊人数）【棟】'!J12>0, J$7, 0) -> 0 | ... CX12: =IF('①入力シート（宿泊人数）【棟】'!CX12>0, CX$7, 0) -> 0 | CY12: =SUM(C12:CX12) -> 0 | DA12: =CY12 -> 0
B13: 5 | C13: =IF('①入力シート（宿泊人数）【棟】'!C13>0, C$7, 0) -> 0 | D13: =IF('①入力シート（宿泊人数）【棟】'!D13>0, D$7, 0) -> 0 | E13: =IF('①入力シート（宿泊人数）【棟】'!E13>0, E$7, 0) -> 0 | F13: =IF('①入力シート（宿泊人数）【棟】'!F13>0, F$7, 0) -> 0 | G13: =IF('①入力シート（宿泊人数）【棟】'!G13>0, G$7, 0) -> 0 | H13: =IF('①入力シート（宿泊人数）【棟】'!H13>0, H$7, 0) -> 0 | I13: =IF('①入力シート（宿泊人数）【棟】'!I13>0, I$7, 0) -> 0 | J13: =IF('①入力シート（宿泊人数）【棟】'!J13>0, J$7, 0) -> 0 | ... CX13: =IF('①入力シート（宿泊人数）【棟】'!CX13>0, CX$7, 0) -> 0 | CY13: =SUM(C13:CX13) -> 0 | DA13: =CY13 -> 0
B14: 6 | C14: =IF('①入力シート（宿泊人数）【棟】'!C14>0, C$7, 0) -> 0 | D14: =IF('①入力シート（宿泊人数）【棟】'!D14>0, D$7, 0) -> 0 | E14: =IF('①入力シート（宿泊人数）【棟】'!E14>0, E$7, 0) -> 0 | F14: =IF('①入力シート（宿泊人数）【棟】'!F14>0, F$7, 0) -> 0 | G14: =IF('①入力シート（宿泊人数）【棟】'!G14>0, G$7, 0) -> 0 | H14: =IF('①入力シート（宿泊人数）【棟】'!H14>0, H$7, 0) -> 0 | I14: =IF('①入力シート（宿泊人数）【棟】'!I14>0, I$7, 0) -> 0 | J14: =IF('①入力シート（宿泊人数）【棟】'!J14>0, J$7, 0) -> 0 | ... CX14: =IF('①入力シート（宿泊人数）【棟】'!CX14>0, CX$7, 0) -> 0 | CY14: =SUM(C14:CX14) -> 0 | DA14: =CY14 -> 0
B15: 7 | C15: =IF('①入力シート（宿泊人数）【棟】'!C15>0, C$7, 0) -> 0 | D15: =IF('①入力シート（宿泊人数）【棟】'!D15>0, D$7, 0) -> 0 | E15: =IF('①入力シート（宿泊人数）【棟】'!E15>0, E$7, 0) -> 0 | F15: =IF('①入力シート（宿泊人数）【棟】'!F15>0, F$7, 0) -> 0 | G15: =IF('①入力シート（宿泊人数）【棟】'!G15>0, G$7, 0) -> 0 | H15: =IF('①入力シート（宿泊人数）【棟】'!H15>0, H$7, 0) -> 0 | I15: =IF('①入力シート（宿泊人数）【棟】'!I15>0, I$7, 0) -> 0 | J15: =IF('①入力シート（宿泊人数）【棟】'!J15>0, J$7, 0) -> 0 | ... CX15: =IF('①入力シート（宿泊人数）【棟】'!CX15>0, CX$7, 0) -> 0 | CY15: =SUM(C15:CX15) -> 0 | DA15: =CY15 -> 0
B16: 8 | C16: =IF('①入力シート（宿泊人数）【棟】'!C16>0, C$7, 0) -> 0 | D16: =IF('①入力シート（宿泊人数）【棟】'!D16>0, D$7, 0) -> 0 | E16: =IF('①入力シート（宿泊人数）【棟】'!E16>0, E$7, 0) -> 0 | F16: =IF('①入力シート（宿泊人数）【棟】'!F16>0, F$7, 0) -> 0 | G16: =IF('①入力シート（宿泊人数）【棟】'!G16>0, G$7, 0) -> 0 | H16: =IF('①入力シート（宿泊人数）【棟】'!H16>0, H$7, 0) -> 0 | I16: =IF('①入力シート（宿泊人数）【棟】'!I16>0, I$7, 0) -> 0 | J16: =IF('①入力シート（宿泊人数）【棟】'!J16>0, J$7, 0) -> 0 | ... CX16: =IF('①入力シート（宿泊人数）【棟】'!CX16>0, CX$7, 0) -> 0 | CY16: =SUM(C16:CX16) -> 0 | DA16: =CY16 -> 0
B17: 9 | C17: =IF('①入力シート（宿泊人数）【棟】'!C17>0, C$7, 0) -> 0 | D17: =IF('①入力シート（宿泊人数）【棟】'!D17>0, D$7, 0) -> 0 | E17: =IF('①入力シート（宿泊人数）【棟】'!E17>0, E$7, 0) -> 0 | F17: =IF('①入力シート（宿泊人数）【棟】'!F17>0, F$7, 0) -> 0 | G17: =IF('①入力シート（宿泊人数）【棟】'!G17>0, G$7, 0) -> 0 | H17: =IF('①入力シート（宿泊人数）【棟】'!H17>0, H$7, 0) -> 0 | I17: =IF('①入力シート（宿泊人数）【棟】'!I17>0, I$7, 0) -> 0 | J17: =IF('①入力シート（宿泊人数）【棟】'!J17>0, J$7, 0) -> 0 | ... CX17: =IF('①入力シート（宿泊人数）【棟】'!CX17>0, CX$7, 0) -> 0 | CY17: =SUM(C17:CX17) -> 0 | DA17: =CY17 -> 0
B18: 10 | C18: =IF('①入力シート（宿泊人数）【棟】'!C18>0, C$7, 0) -> 0 | D18: =IF('①入力シート（宿泊人数）【棟】'!D18>0, D$7, 0) -> 0 | E18: =IF('①入力シート（宿泊人数）【棟】'!E18>0, E$7, 0) -> 0 | F18: =IF('①入力シート（宿泊人数）【棟】'!F18>0, F$7, 0) -> 0 | G18: =IF('①入力シート（宿泊人数）【棟】'!G18>0, G$7, 0) -> 0 | H18: =IF('①入力シート（宿泊人数）【棟】'!H18>0, H$7, 0) -> 0 | I18: =IF('①入力シート（宿泊人数）【棟】'!I18>0, I$7, 0) -> 0 | J18: =IF('①入力シート（宿泊人数）【棟】'!J18>0, J$7, 0) -> 0 | ... CX18: =IF('①入力シート（宿泊人数）【棟】'!CX18>0, CX$7, 0) -> 0 | CY18: =SUM(C18:CX18) -> 0 | DA18: =CY18 -> 0
B19: 11 | C19: =IF('①入力シート（宿泊人数）【棟】'!C19>0, C$7, 0) -> 0 | D19: =IF('①入力シート（宿泊人数）【棟】'!D19>0, D$7, 0) -> 0 | E19: =IF('①入力シート（宿泊人数）【棟】'!E19>0, E$7, 0) -> 0 | F19: =IF('①入力シート（宿泊人数）【棟】'!F19>0, F$7, 0) -> 0 | G19: =IF('①入力シート（宿泊人数）【棟】'!G19>0, G$7, 0) -> 0 | H19: =IF('①入力シート（宿泊人数）【棟】'!H19>0, H$7, 0) -> 0 | I19: =IF('①入力シート（宿泊人数）【棟】'!I19>0, I$7, 0) -> 0 | J19: =IF('①入力シート（宿泊人数）【棟】'!J19>0, J$7, 0) -> 0 | ... CX19: =IF('①入力シート（宿泊人数）【棟】'!CX19>0, CX$7, 0) -> 0 | CY19: =SUM(C19:CX19) -> 0 | DA19: =CY19 -> 0
B20: 12 | C20: =IF('①入力シート（宿泊人数）【棟】'!C20>0, C$7, 0) -> 0 | D20: =IF('①入力シート（宿泊人数）【棟】'!D20>0, D$7, 0) -> 0 | E20: =IF('①入力シート（宿泊人数）【棟】'!E20>0, E$7, 0) -> 0 | F20: =IF('①入力シート（宿泊人数）【棟】'!F20>0, F$7, 0) -> 0 | G20: =IF('①入力シート（宿泊人数）【棟】'!G20>0, G$7, 0) -> 0 | H20: =IF('①入力シート（宿泊人数）【棟】'!H20>0, H$7, 0) -> 0 | I20: =IF('①入力シート（宿泊人数）【棟】'!I20>0, I$7, 0) -> 0 | J20: =IF('①入力シート（宿泊人数）【棟】'!J20>0, J$7, 0) -> 0 | ... CX20: =IF('①入力シート（宿泊人数）【棟】'!CX20>0, CX$7, 0) -> 0 | CY20: =SUM(C20:CX20) -> 0 | DA20: =CY20 -> 0
B21: 13 | C21: =IF('①入力シート（宿泊人数）【棟】'!C21>0, C$7, 0) -> 0 | D21: =IF('①入力シート（宿泊人数）【棟】'!D21>0, D$7, 0) -> 0 | E21: =IF('①入力シート（宿泊人数）【棟】'!E21>0, E$7, 0) -> 0 | F21: =IF('①入力シート（宿泊人数）【棟】'!F21>0, F$7, 0) -> 0 | G21: =IF('①入力シート（宿泊人数）【棟】'!G21>0, G$7, 0) -> 0 | H21: =IF('①入力シート（宿泊人数）【棟】'!H21>0, H$7, 0) -> 0 | I21: =IF('①入力シート（宿泊人数）【棟】'!I21>0, I$7, 0) -> 0 | J21: =IF('①入力シート（宿泊人数）【棟】'!J21>0, J$7, 0) -> 0 | ... CX21: =IF('①入力シート（宿泊人数）【棟】'!CX21>0, CX$7, 0) -> 0 | CY21: =SUM(C21:CX21) -> 0 | DA21: =CY21 -> 0
... B39: 31 | C39: =IF('①入力シート（宿泊人数）【棟】'!C39>0, C$7, 0) -> 0 | D39: =IF('①入力シート（宿泊人数）【棟】'!D39>0, D$7, 0) -> 0 | E39: =IF('①入力シート（宿泊人数）【棟】'!E39>0, E$7, 0) -> 0 | F39: =IF('①入力シート（宿泊人数）【棟】'!F39>0, F$7, 0) -> 0 | G39: =IF('①入力シート（宿泊人数）【棟】'!G39>0, G$7, 0) -> 0 | H39: =IF('①入力シート（宿泊人数）【棟】'!H39>0, H$7, 0) -> 0 | I39: =IF('①入力シート（宿泊人数）【棟】'!I39>0, I$7, 0) -> 0 | J39: =IF('①入力シート（宿泊人数）【棟】'!J39>0, J$7, 0) -> 0 | ... CX39: =IF('①入力シート（宿泊人数）【棟】'!CX39>0, CX$7, 0) -> 0 | CY39: =SUM(C39:CX39) -> 0 | DA39: =CY39 -> 0
A40: 計 | C40: =SUM(C9:C39) -> 0 | D40: =SUM(D9:D39) -> 0 | E40: =SUM(E9:E39) -> 0 | F40: =SUM(F9:F39) -> 0 | G40: =SUM(G9:G39) -> 0 | H40: =SUM(H9:H39) -> 0 | I40: =SUM(I9:I39) -> 0 | J40: =SUM(J9:J39) -> 0 | ... CY40: =SUM(CY9:CY39) -> 0 | DA40: =SUM(DA9:DA39) -> 0

Sheet ⑥A申告納付税額（3％）【棟】
A1: ='①入力シート（宿泊人数）【棟】'!A1 -> 0 | B1: 年 | C1: ='①入力シート（宿泊人数）【棟】'!C1 -> 0 | D1: 月分 | F1: 苫小牧市税率 | H1: 0.03
C2: 1 | D2: 2 | E2: 3 | F2: 4 | G2: 5 | H2: 6 | I2: 7 | J2: 8 | K2: 9 | L2: 10 | M2: 11 | N2: 12 | O2: 13 | P2: 14 | Q2: 15 | R2: 16 | S2: 17 | T2: 18 | U2: 19 | V2: 20 | W2: 21 | X2: 22 | Y2: 23 | Z2: 24 | AA2: 25 | AB2: 26 | AC2: 27 | AD2: 28 | AE2: 29 | AF2: 30 | AG2: 31 | AH2: 32 | AI2: 33 | AJ2: 34 | AK2: 35 | AL2: 36 | AM2: 37 | AN2: 38 | AO2: 39 | AP2: 40 | AQ2: 41 | AR2: 42 | AS2: 43 | AT2: 44 | AU2: 45 | AV2: 46 | AW2: 47 | AX2: 48 | AY2: 49 | AZ2: 50 | BA2: 51 | BB2: 52 | BC2: 53 | BD2: 54 | BE2: 55 | BF2: 56 | BG2: 57 | BH2: 58 | BI2: 59 | BJ2: 60 | BK2: 61 | BL2: 62 | BM2: 63 | BN2: 64 | BO2: 65 | BP2: 66 | BQ2: 67 | BR2: 68 | BS2: 69 | BT2: 70 | BU2: 71 | BV2: 72 | BW2: 73 | BX2: 74 | BY2: 75 | BZ2: 76 | CA2: 77 | CB2: 78 | CC2: 79 | CD2: 80 | CE2: 81 | CF2: 82 | CG2: 83 | CH2: 84 | CI2: 85 | CJ2: 86 | CK2: 87 | CL2: 88 | CM2: 89 | CN2: 90 | CO2: 91 | CP2: 92 | CQ2: 93 | CR2: 94 | CS2: 95 | CT2: 96 | CU2: 97 | CV2: 98 | CW2: 99 | CX2: 100
A3: 建物名 | C3: ='①入力シート（宿泊人数）【棟】'!C3 -> 0 | CY3: 合計 3%
A4: 個別名 | C4: ='①入力シート（宿泊人数）【棟】'!C4 -> 0 | D4: ='①入力シート（宿泊人数）【棟】'!D4 -> 0 | E4: ='①入力シート（宿泊人数）【棟】'!E4 -> 0 | F4: ='①入力シート（宿泊人数）【棟】'!F4 -> 0 | G4: ='①入力シート（宿泊人数）【棟】'!G4 -> 0 | H4: ='①入力シート（宿泊人数）【棟】'!H4 -> 0 | I4: ='①入力シート（宿泊人数）【棟】'!I4 -> 0 | J4: ='①入力シート（宿泊人数）【棟】'!J4 -> 0 | ... CX4: ='①入力シート（宿泊人数）【棟】'!CX4 -> 0 | DA4: 税額計
A5: 宿泊料金（税込） | C5: ='①入力シート（宿泊人数）【棟】'!C5 -> 0 | D5: ='①入力シート（宿泊人数）【棟】'!D5 -> 0 | E5: ='①入力シート（宿泊人数）【棟】'!E5 -> 0 | F5: ='①入力シート（宿泊人数）【棟】'!F5 -> 0 | G5: ='①入力シート（宿泊人数）【棟】'!G5 -> 0 | H5: ='①入力シート（宿泊人数）【棟】'!H5 -> 0 | I5: ='①入力シート（宿泊人数）【棟】'!I5 -> 0 | J5: ='①入力シート（宿泊人数）【棟】'!J5 -> 0 | ... CX5: ='①入力シート（宿泊人数）【棟】'!CX5 -> 0
A6: 宿泊料金（税抜額） | C6: =C5/1.1 -> 0 | D6: =D5/1.1 -> 0 | E6: =E5/1.1 -> 0 | F6: =F5/1.1 -> 0 | G6: =G5/1.1 -> 0 | H6: =H5/1.1 -> 0 | I6: =I5/1.1 -> 0 | J6: =J5/1.1 -> 0 | ... CX6: =CX5/1.1 -> 0
A7: 課税標準額 | C7: =ROUNDDOWN(C$6,-2) -> 0 | D7: =ROUNDDOWN(D$6,-2) -> 0 | E7: =ROUNDDOWN(E$6,-2) -> 0 | F7: =ROUNDDOWN(F$6,-2) -> 0 | G7: =ROUNDDOWN(G$6,-2) -> 0 | H7: =ROUNDDOWN(H$6,-2) -> 0 | I7: =ROUNDDOWN(I$6,-2) -> 0 | J7: =ROUNDDOWN(J$6,-2) -> 0 | ... CX7: =ROUNDDOWN(CX$6,-2) -> 0
A8: 室数 | C8: ='①入力シート（宿泊人数）【棟】'!C8 -> 0
A9: 納入額（３％） | B9: 1 | C9: =IF('①入力シート（宿泊人数）【棟】'!C9>0, '⑤-2宿泊料金計算【棟】'!C9 * 0.03, 0) -> 0 | D9: =IF('①入力シート（宿泊人数）【棟】'!D9>0, '⑤-2宿泊料金計算【棟】'!D9 * 0.03, 0) -> 0 | E9: =IF('①入力シート（宿泊人数）【棟】'!E9>0, '⑤-2宿泊料金計算【棟】'!E9 * 0.03, 0) -> 0 | F9: =IF('①入力シート（宿泊人数）【棟】'!F9>0, '⑤-2宿泊料金計算【棟】'!F9 * 0.03, 0) -> 0 | G9: =IF('①入力シート（宿泊人数）【棟】'!G9>0, '⑤-2宿泊料金計算【棟】'!G9 * 0.03, 0) -> 0 | H9: =IF('①入力シート（宿泊人数）【棟】'!H9>0, '⑤-2宿泊料金計算【棟】'!H9 * 0.03, 0) -> 0 | I9: =IF('①入力シート（宿泊人数）【棟】'!I9>0, '⑤-2宿泊料金計算【棟】'!I9 * 0.03, 0) -> 0 | J9: =IF('①入力シート（宿泊人数）【棟】'!J9>0, '⑤-2宿泊料金計算【棟】'!J9 * 0.03, 0) -> 0 | ... CX9: =IF('①入力シート（宿泊人数）【棟】'!CX9>0, '⑤-2宿泊料金計算【棟】'!CX9 * 0.03, 0) -> 0 | CY9: =SUM(C9:CX9) -> 0 | DA9: =CY9 -> 0
B10: 2 | C10: =IF('①入力シート（宿泊人数）【棟】'!C10>0, '⑤-2宿泊料金計算【棟】'!C10 * 0.03, 0) -> 0 | D10: =IF('①入力シート（宿泊人数）【棟】'!D10>0, '⑤-2宿泊料金計算【棟】'!D10 * 0.03, 0) -> 0 | E10: =IF('①入力シート（宿泊人数）【棟】'!E10>0, '⑤-2宿泊料金計算【棟】'!E10 * 0.03, 0) -> 0 | F10: =IF('①入力シート（宿泊人数）【棟】'!F10>0, '⑤-2宿泊料金計算【棟】'!F10 * 0.03, 0) -> 0 | G10: =IF('①入力シート（宿泊人数）【棟】'!G10>0, '⑤-2宿泊料金計算【棟】'!G10 * 0.03, 0) -> 0 | H10: =IF('①入力シート（宿泊人数）【棟】'!H10>0, '⑤-2宿泊料金計算【棟】'!H10 * 0.03, 0) -> 0 | I10: =IF('①入力シート（宿泊人数）【棟】'!I10>0, '⑤-2宿泊料金計算【棟】'!I10 * 0.03, 0) -> 0 | J10: =IF('①入力シート（宿泊人数）【棟】'!J10>0, '⑤-2宿泊料金計算【棟】'!J10 * 0.03, 0) -> 0 | ... CX10: =IF('①入力シート（宿泊人数）【棟】'!CX10>0, '⑤-2宿泊料金計算【棟】'!CX10 * 0.03, 0) -> 0 | CY10: =SUM(C10:CX10) -> 0 | DA10: =CY10 -> 0
B11: 3 | C11: =IF('①入力シート（宿泊人数）【棟】'!C11>0, '⑤-2宿泊料金計算【棟】'!C11 * 0.03, 0) -> 0 | D11: =IF('①入力シート（宿泊人数）【棟】'!D11>0, '⑤-2宿泊料金計算【棟】'!D11 * 0.03, 0) -> 0 | E11: =IF('①入力シート（宿泊人数）【棟】'!E11>0, '⑤-2宿泊料金計算【棟】'!E11 * 0.03, 0) -> 0 | F11: =IF('①入力シート（宿泊人数）【棟】'!F11>0, '⑤-2宿泊料金計算【棟】'!F11 * 0.03, 0) -> 0 | G11: =IF('①入力シート（宿泊人数）【棟】'!G11>0, '⑤-2宿泊料金計算【棟】'!G11 * 0.03, 0) -> 0 | H11: =IF('①入力シート（宿泊人数）【棟】'!H11>0, '⑤-2宿泊料金計算【棟】'!H11 * 0.03, 0) -> 0 | I11: =IF('①入力シート（宿泊人数）【棟】'!I11>0, '⑤-2宿泊料金計算【棟】'!I11 * 0.03, 0) -> 0 | J11: =IF('①入力シート（宿泊人数）【棟】'!J11>0, '⑤-2宿泊料金計算【棟】'!J11 * 0.03, 0) -> 0 | ... CX11: =IF('①入力シート（宿泊人数）【棟】'!CX11>0, '⑤-2宿泊料金計算【棟】'!CX11 * 0.03, 0) -> 0 | CY11: =SUM(C11:CX11) -> 0 | DA11: =CY11 -> 0
B12: 4 | C12: =IF('①入力シート（宿泊人数）【棟】'!C12>0, '⑤-2宿泊料金計算【棟】'!C12 * 0.03, 0) -> 0 | D12: =IF('①入力シート（宿泊人数）【棟】'!D12>0, '⑤-2宿泊料金計算【棟】'!D12 * 0.03, 0) -> 0 | E12: =IF('①入力シート（宿泊人数）【棟】'!E12>0, '⑤-2宿泊料金計算【棟】'!E12 * 0.03, 0) -> 0 | F12: =IF('①入力シート（宿泊人数）【棟】'!F12>0, '⑤-2宿泊料金計算【棟】'!F12 * 0.03, 0) -> 0 | G12: =IF('①入力シート（宿泊人数）【棟】'!G12>0, '⑤-2宿泊料金計算【棟】'!G12 * 0.03, 0) -> 0 | H12: =IF('①入力シート（宿泊人数）【棟】'!H12>0, '⑤-2宿泊料金計算【棟】'!H12 * 0.03, 0) -> 0 | I12: =IF('①入力シート（宿泊人数）【棟】'!I12>0, '⑤-2宿泊料金計算【棟】'!I12 * 0.03, 0) -> 0 | J12: =IF('①入力シート（宿泊人数）【棟】'!J12>0, '⑤-2宿泊料金計算【棟】'!J12 * 0.03, 0) -> 0 | ... CX12: =IF('①入力シート（宿泊人数）【棟】'!CX12>0, '⑤-2宿泊料金計算【棟】'!CX12 * 0.03, 0) -> 0 | CY12: =SUM(C12:CX12) -> 0 | DA12: =CY12 -> 0
B13: 5 | C13: =IF('①入力シート（宿泊人数）【棟】'!C13>0, '⑤-2宿泊料金計算【棟】'!C13 * 0.03, 0) -> 0 | D13: =IF('①入力シート（宿泊人数）【棟】'!D13>0, '⑤-2宿泊料金計算【棟】'!D13 * 0.03, 0) -> 0 | E13: =IF('①入力シート（宿泊人数）【棟】'!E13>0, '⑤-2宿泊料金計算【棟】'!E13 * 0.03, 0) -> 0 | F13: =IF('①入力シート（宿泊人数）【棟】'!F13>0, '⑤-2宿泊料金計算【棟】'!F13 * 0.03, 0) -> 0 | G13: =IF('①入力シート（宿泊人数）【棟】'!G13>0, '⑤-2宿泊料金計算【棟】'!G13 * 0.03, 0) -> 0 | H13: =IF('①入力シート（宿泊人数）【棟】'!H13>0, '⑤-2宿泊料金計算【棟】'!H13 * 0.03, 0) -> 0 | I13: =IF('①入力シート（宿泊人数）【棟】'!I13>0, '⑤-2宿泊料金計算【棟】'!I13 * 0.03, 0) -> 0 | J13: =IF('①入力シート（宿泊人数）【棟】'!J13>0, '⑤-2宿泊料金計算【棟】'!J13 * 0.03, 0) -> 0 | ... CX13: =IF('①入力シート（宿泊人数）【棟】'!CX13>0, '⑤-2宿泊料金計算【棟】'!CX13 * 0.03, 0) -> 0 | CY13: =SUM(C13:CX13) -> 0 | DA13: =CY13 -> 0
B14: 6 | C14: =IF('①入力シート（宿泊人数）【棟】'!C14>0, '⑤-2宿泊料金計算【棟】'!C14 * 0.03, 0) -> 0 | D14: =IF('①入力シート（宿泊人数）【棟】'!D14>0, '⑤-2宿泊料金計算【棟】'!D14 * 0.03, 0) -> 0 | E14: =IF('①入力シート（宿泊人数）【棟】'!E14>0, '⑤-2宿泊料金計算【棟】'!E14 * 0.03, 0) -> 0 | F14: =IF('①入力シート（宿泊人数）【棟】'!F14>0, '⑤-2宿泊料金計算【棟】'!F14 * 0.03, 0) -> 0 | G14: =IF('①入力シート（宿泊人数）【棟】'!G14>0, '⑤-2宿泊料金計算【棟】'!G14 * 0.03, 0) -> 0 | H14: =IF('①入力シート（宿泊人数）【棟】'!H14>0, '⑤-2宿泊料金計算【棟】'!H14 * 0.03, 0) -> 0 | I14: =IF('①入力シート（宿泊人数）【棟】'!I14>0, '⑤-2宿泊料金計算【棟】'!I14 * 0.03, 0) -> 0 | J14: =IF('①入力シート（宿泊人数）【棟】'!J14>0, '⑤-2宿泊料金計算【棟】'!J14 * 0.03, 0) -> 0 | ... CX14: =IF('①入力シート（宿泊人数）【棟】'!CX14>0, '⑤-2宿泊料金計算【棟】'!CX14 * 0.03, 0) -> 0 | CY14: =SUM(C14:CX14) -> 0 | DA14: =CY14 -> 0
B15: 7 | C15: =IF('①入力シート（宿泊人数）【棟】'!C15>0, '⑤-2宿泊料金計算【棟】'!C15 * 0.03, 0) -> 0 | D15: =IF('①入力シート（宿泊人数）【棟】'!D15>0, '⑤-2宿泊料金計算【棟】'!D15 * 0.03, 0) -> 0 | E15: =IF('①入力シート（宿泊人数）【棟】'!E15>0, '⑤-2宿泊料金計算【棟】'!E15 * 0.03, 0) -> 0 | F15: =IF('①入力シート（宿泊人数）【棟】'!F15>0, '⑤-2宿泊料金計算【棟】'!F15 * 0.03, 0) -> 0 | G15: =IF('①入力シート（宿泊人数）【棟】'!G15>0, '⑤-2宿泊料金計算【棟】'!G15 * 0.03, 0) -> 0 | H15: =IF('①入力シート（宿泊人数）【棟】'!H15>0, '⑤-2宿泊料金計算【棟】'!H15 * 0.03, 0) -> 0 | I15: =IF('①入力シート（宿泊人数）【棟】'!I15>0, '⑤-2宿泊料金計算【棟】'!I15 * 0.03, 0) -> 0 | J15: =IF('①入力シート（宿泊人数）【棟】'!J15>0, '⑤-2宿泊料金計算【棟】'!J15 * 0.03, 0) -> 0 | ... CX15: =IF('①入力シート（宿泊人数）【棟】'!CX15>0, '⑤-2宿泊料金計算【棟】'!CX15 * 0.03, 0) -> 0 | CY15: =SUM(C15:CX15) -> 0 | DA15: =CY15 -> 0
B16: 8 | C16: =IF('①入力シート（宿泊人数）【棟】'!C16>0, '⑤-2宿泊料金計算【棟】'!C16 * 0.03, 0) -> 0 | D16: =IF('①入力シート（宿泊人数）【棟】'!D16>0, '⑤-2宿泊料金計算【棟】'!D16 * 0.03, 0) -> 0 | E16: =IF('①入力シート（宿泊人数）【棟】'!E16>0, '⑤-2宿泊料金計算【棟】'!E16 * 0.03, 0) -> 0 | F16: =IF('①入力シート（宿泊人数）【棟】'!F16>0, '⑤-2宿泊料金計算【棟】'!F16 * 0.03, 0) -> 0 | G16: =IF('①入力シート（宿泊人数）【棟】'!G16>0, '⑤-2宿泊料金計算【棟】'!G16 * 0.03, 0) -> 0 | H16: =IF('①入力シート（宿泊人数）【棟】'!H16>0, '⑤-2宿泊料金計算【棟】'!H16 * 0.03, 0) -> 0 | I16: =IF('①入力シート（宿泊人数）【棟】'!I16>0, '⑤-2宿泊料金計算【棟】'!I16 * 0.03, 0) -> 0 | J16: =IF('①入力シート（宿泊人数）【棟】'!J16>0, '⑤-2宿泊料金計算【棟】'!J16 * 0.03, 0) -> 0 | ... CX16: =IF('①入力シート（宿泊人数）【棟】'!CX16>0, '⑤-2宿泊料金計算【棟】'!CX16 * 0.03, 0) -> 0 | CY16: =SUM(C16:CX16) -> 0 | DA16: =CY16 -> 0
B17: 9 | C17: =IF('①入力シート（宿泊人数）【棟】'!C17>0, '⑤-2宿泊料金計算【棟】'!C17 * 0.03, 0) -> 0 | D17: =IF('①入力シート（宿泊人数）【棟】'!D17>0, '⑤-2宿泊料金計算【棟】'!D17 * 0.03, 0) -> 0 | E17: =IF('①入力シート（宿泊人数）【棟】'!E17>0, '⑤-2宿泊料金計算【棟】'!E17 * 0.03, 0) -> 0 | F17: =IF('①入力シート（宿泊人数）【棟】'!F17>0, '⑤-2宿泊料金計算【棟】'!F17 * 0.03, 0) -> 0 | G17: =IF('①入力シート（宿泊人数）【棟】'!G17>0, '⑤-2宿泊料金計算【棟】'!G17 * 0.03, 0) -> 0 | H17: =IF('①入力シート（宿泊人数）【棟】'!H17>0, '⑤-2宿泊料金計算【棟】'!H17 * 0.03, 0) -> 0 | I17: =IF('①入力シート（宿泊人数）【棟】'!I17>0, '⑤-2宿泊料金計算【棟】'!I17 * 0.03, 0) -> 0 | J17: =IF('①入力シート（宿泊人数）【棟】'!J17>0, '⑤-2宿泊料金計算【棟】'!J17 * 0.03, 0) -> 0 | ... CX17: =IF('①入力シート（宿泊人数）【棟】'!CX17>0, '⑤-2宿泊料金計算【棟】'!CX17 * 0.03, 0) -> 0 | CY17: =SUM(C17:CX17) -> 0 | DA17: =CY17 -> 0
B18: 10 | C18: =IF('①入力シート（宿泊人数）【棟】'!C18>0, '⑤-2宿泊料金計算【棟】'!C18 * 0.03, 0) -> 0 | D18: =IF('①入力シート（宿泊人数）【棟】'!D18>0, '⑤-2宿泊料金計算【棟】'!D18 * 0.03, 0) -> 0 | E18: =IF('①入力シート（宿泊人数）【棟】'!E18>0, '⑤-2宿泊料金計算【棟】'!E18 * 0.03, 0) -> 0 | F18: =IF('①入力シート（宿泊人数）【棟】'!F18>0, '⑤-2宿泊料金計算【棟】'!F18 * 0.03, 0) -> 0 | G18: =IF('①入力シート（宿泊人数）【棟】'!G18>0, '⑤-2宿泊料金計算【棟】'!G18 * 0.03, 0) -> 0 | H18: =IF('①入力シート（宿泊人数）【棟】'!H18>0, '⑤-2宿泊料金計算【棟】'!H18 * 0.03, 0) -> 0 | I18: =IF('①入力シート（宿泊人数）【棟】'!I18>0, '⑤-2宿泊料金計算【棟】'!I18 * 0.03, 0) -> 0 | J18: =IF('①入力シート（宿泊人数）【棟】'!J18>0, '⑤-2宿泊料金計算【棟】'!J18 * 0.03, 0) -> 0 | ... CX18: =IF('①入力シート（宿泊人数）【棟】'!CX18>0, '⑤-2宿泊料金計算【棟】'!CX18 * 0.03, 0) -> 0 | CY18: =SUM(C18:CX18) -> 0 | DA18: =CY18 -> 0
B19: 11 | C19: =IF('①入力シート（宿泊人数）【棟】'!C19>0, '⑤-2宿泊料金計算【棟】'!C19 * 0.03, 0) -> 0 | D19: =IF('①入力シート（宿泊人数）【棟】'!D19>0, '⑤-2宿泊料金計算【棟】'!D19 * 0.03, 0) -> 0 | E19: =IF('①入力シート（宿泊人数）【棟】'!E19>0, '⑤-2宿泊料金計算【棟】'!E19 * 0.03, 0) -> 0 | F19: =IF('①入力シート（宿泊人数）【棟】'!F19>0, '⑤-2宿泊料金計算【棟】'!F19 * 0.03, 0) -> 0 | G19: =IF('①入力シート（宿泊人数）【棟】'!G19>0, '⑤-2宿泊料金計算【棟】'!G19 * 0.03, 0) -> 0 | H19: =IF('①入力シート（宿泊人数）【棟】'!H19>0, '⑤-2宿泊料金計算【棟】'!H19 * 0.03, 0) -> 0 | I19: =IF('①入力シート（宿泊人数）【棟】'!I19>0, '⑤-2宿泊料金計算【棟】'!I19 * 0.03, 0) -> 0 | J19: =IF('①入力シート（宿泊人数）【棟】'!J19>0, '⑤-2宿泊料金計算【棟】'!J19 * 0.03, 0) -> 0 | ... CX19: =IF('①入力シート（宿泊人数）【棟】'!CX19>0, '⑤-2宿泊料金計算【棟】'!CX19 * 0.03, 0) -> 0 | CY19: =SUM(C19:CX19) -> 0 | DA19: =CY19 -> 0
B20: 12 | C20: =IF('①入力シート（宿泊人数）【棟】'!C20>0, '⑤-2宿泊料金計算【棟】'!C20 * 0.03, 0) -> 0 | D20: =IF('①入力シート（宿泊人数）【棟】'!D20>0, '⑤-2宿泊料金計算【棟】'!D20 * 0.03, 0) -> 0 | E20: =IF('①入力シート（宿泊人数）【棟】'!E20>0, '⑤-2宿泊料金計算【棟】'!E20 * 0.03, 0) -> 0 | F20: =IF('①入力シート（宿泊人数）【棟】'!F20>0, '⑤-2宿泊料金計算【棟】'!F20 * 0.03, 0) -> 0 | G20: =IF('①入力シート（宿泊人数）【棟】'!G20>0, '⑤-2宿泊料金計算【棟】'!G20 * 0.03, 0) -> 0 | H20: =IF('①入力シート（宿泊人数）【棟】'!H20>0, '⑤-2宿泊料金計算【棟】'!H20 * 0.03, 0) -> 0 | I20: =IF('①入力シート（宿泊人数）【棟】'!I20>0, '⑤-2宿泊料金計算【棟】'!I20 * 0.03, 0) -> 0 | J20: =IF('①入力シート（宿泊人数）【棟】'!J20>0, '⑤-2宿泊料金計算【棟】'!J20 * 0.03, 0) -> 0 | ... CX20: =IF('①入力シート（宿泊人数）【棟】'!CX20>0, '⑤-2宿泊料金計算【棟】'!CX20 * 0.03, 0) -> 0 | CY20: =SUM(C20:CX20) -> 0 | DA20: =CY20 -> 0
B21: 13 | C21: =IF('①入力シート（宿泊人数）【棟】'!C21>0, '⑤-2宿泊料金計算【棟】'!C21 * 0.03, 0) -> 0 | D21: =IF('①入力シート（宿泊人数）【棟】'!D21>0, '⑤-2宿泊料金計算【棟】'!D21 * 0.03, 0) -> 0 | E21: =IF('①入力シート（宿泊人数）【棟】'!E21>0, '⑤-2宿泊料金計算【棟】'!E21 * 0.03, 0) -> 0 | F21: =IF('①入力シート（宿泊人数）【棟】'!F21>0, '⑤-2宿泊料金計算【棟】'!F21 * 0.03, 0) -> 0 | G21: =IF('①入力シート（宿泊人数）【棟】'!G21>0, '⑤-2宿泊料金計算【棟】'!G21 * 0.03, 0) -> 0 | H21: =IF('①入力シート（宿泊人数）【棟】'!H21>0, '⑤-2宿泊料金計算【棟】'!H21 * 0.03, 0) -> 0 | I21: =IF('①入力シート（宿泊人数）【棟】'!I21>0, '⑤-2宿泊料金計算【棟】'!I21 * 0.03, 0) -> 0 | J21: =IF('①入力シート（宿泊人数）【棟】'!J21>0, '⑤-2宿泊料金計算【棟】'!J21 * 0.03, 0) -> 0 | ... CX21: =IF('①入力シート（宿泊人数）【棟】'!CX21>0, '⑤-2宿泊料金計算【棟】'!CX21 * 0.03, 0) -> 0 | CY21: =SUM(C21:CX21) -> 0 | DA21: =CY21 -> 0
... B39: 31 | C39: =IF('①入力シート（宿泊人数）【棟】'!C39>0, '⑤-2宿泊料金計算【棟】'!C39 * 0.03, 0) -> 0 | D39: =IF('①入力シート（宿泊人数）【棟】'!D39>0, '⑤-2宿泊料金計算【棟】'!D39 * 0.03, 0) -> 0 | E39: =IF('①入力シート（宿泊人数）【棟】'!E39>0, '⑤-2宿泊料金計算【棟】'!E39 * 0.03, 0) -> 0 | F39: =IF('①入力シート（宿泊人数）【棟】'!F39>0, '⑤-2宿泊料金計算【棟】'!F39 * 0.03, 0) -> 0 | G39: =IF('①入力シート（宿泊人数）【棟】'!G39>0, '⑤-2宿泊料金計算【棟】'!G39 * 0.03, 0) -> 0 | H39: =IF('①入力シート（宿泊人数）【棟】'!H39>0, '⑤-2宿泊料金計算【棟】'!H39 * 0.03, 0) -> 0 | I39: =IF('①入力シート（宿泊人数）【棟】'!I39>0, '⑤-2宿泊料金計算【棟】'!I39 * 0.03, 0) -> 0 | J39: =IF('①入力シート（宿泊人数）【棟】'!J39>0, '⑤-2宿泊料金計算【棟】'!J39 * 0.03, 0) -> 0 | ... CX39: =IF('①入力シート（宿泊人数）【棟】'!CX39>0, '⑤-2宿泊料金計算【棟】'!CX39 * 0.03, 0) -> 0 | CY39: =SUM(C39:CX39) -> 0 | DA39: =CY39 -> 0
A40: 計 | C40: =SUM(C9:C39) -> 0 | D40: =SUM(D9:D39) -> 0 | E40: =SUM(E9:E39) -> 0 | F40: =SUM(F9:F39) -> 0 | G40: =SUM(G9:G39) -> 0 | H40: =SUM(H9:H39) -> 0 | I40: =SUM(I9:I39) -> 0 | J40: =SUM(J9:J39) -> 0 | ... CY40: =SUM(CY9:CY39) -> 0 | DA40: =SUM(DA9:DA39) -> 0

Sheet ⑦Aのうち道分【棟】
A1: ='①入力シート（宿泊人数）【棟】'!A1 -> 0 | B1: 年 | C1: ='①入力シート（宿泊人数）【棟】'!C1 -> 0 | D1: 月分
C2: 1 | D2: 2 | E2: 3 | F2: 4 | G2: 5 | H2: 6 | I2: 7 | J2: 8 | K2: 9 | L2: 10 | M2: 11 | N2: 12 | O2: 13 | P2: 14 | Q2: 15 | R2: 16 | S2: 17 | T2: 18 | U2: 19 | V2: 20 | W2: 21 | X2: 22 | Y2: 23 | Z2: 24 | AA2: 25 | AB2: 26 | AC2: 27 | AD2: 28 | AE2: 29 | AF2: 30 | AG2: 31 | AH2: 32 | AI2: 33 | AJ2: 34 | AK2: 35 | AL2: 36 | AM2: 37 | AN2: 38 | AO2: 39 | AP2: 40 | AQ2: 41 | AR2: 42 | AS2: 43 | AT2: 44 | AU2: 45 | AV2: 46 | AW2: 47 | AX2: 48 | AY2: 49 | AZ2: 50 | BA2: 51 | BB2: 52 | BC2: 53 | BD2: 54 | BE2: 55 | BF2: 56 | BG2: 57 | BH2: 58 | BI2: 59 | BJ2: 60 | BK2: 61 | BL2: 62 | BM2: 63 | BN2: 64 | BO2: 65 | BP2: 66 | BQ2: 67 | BR2: 68 | BS2: 69 | BT2: 70 | BU2: 71 | BV2: 72 | BW2: 73 | BX2: 74 | BY2: 75 | BZ2: 76 | CA2: 77 | CB2: 78 | CC2: 79 | CD2: 80 | CE2: 81 | CF2: 82 | CG2: 83 | CH2: 84 | CI2: 85 | CJ2: 86 | CK2: 87 | CL2: 88 | CM2: 89 | CN2: 90 | CO2: 91 | CP2: 92 | CQ2: 93 | CR2: 94 | CS2: 95 | CT2: 96 | CU2: 97 | CV2: 98 | CW2: 99 | CX2: 100
A3: 建物名 | C3: ='①入力シート（宿泊人数）【棟】'!C3 -> 0 | CY3: 合計 道税額
A4: 個別名 | C4: ='①入力シート（宿泊人数）【棟】'!C4 -> 0 | D4: ='①入力シート（宿泊人数）【棟】'!D4 -> 0 | E4: ='①入力シート（宿泊人数）【棟】'!E4 -> 0 | F4: ='①入力シート（宿泊人数）【棟】'!F4 -> 0 | G4: ='①入力シート（宿泊人数）【棟】'!G4 -> 0 | H4: ='①入力シート（宿泊人数）【棟】'!H4 -> 0 | I4: ='①入力シート（宿泊人数）【棟】'!I4 -> 0 | J4: ='①入力シート（宿泊人数）【棟】'!J4 -> 0 | ... CX4: ='①入力シート（宿泊人数）【棟】'!CX4 -> 0 | DA4: 税額計
A5: 宿泊料金（税込） | C5: ='①入力シート（宿泊人数）【棟】'!C5 -> 0 | D5: ='①入力シート（宿泊人数）【棟】'!D5 -> 0 | E5: ='①入力シート（宿泊人数）【棟】'!E5 -> 0 | F5: ='①入力シート（宿泊人数）【棟】'!F5 -> 0 | G5: ='①入力シート（宿泊人数）【棟】'!G5 -> 0 | H5: ='①入力シート（宿泊人数）【棟】'!H5 -> 0 | I5: ='①入力シート（宿泊人数）【棟】'!I5 -> 0 | J5: ='①入力シート（宿泊人数）【棟】'!J5 -> 0 | ... CX5: ='①入力シート（宿泊人数）【棟】'!CX5 -> 0
A6: 宿泊料金（税抜額） | C6: =C5/1.1 -> 0 | D6: =D5/1.1 -> 0 | E6: =E5/1.1 -> 0 | F6: =F5/1.1 -> 0 | G6: =G5/1.1 -> 0 | H6: =H5/1.1 -> 0 | I6: =I5/1.1 -> 0 | J6: =J5/1.1 -> 0 | ... CX6: =CX5/1.1 -> 0
A7: 課税標準額 | C7: =ROUNDDOWN(C$6,-2) -> 0 | D7: =ROUNDDOWN(D$6,-2) -> 0 | E7: =ROUNDDOWN(E$6,-2) -> 0 | F7: =ROUNDDOWN(F$6,-2) -> 0 | G7: =ROUNDDOWN(G$6,-2) -> 0 | H7: =ROUNDDOWN(H$6,-2) -> 0 | I7: =ROUNDDOWN(I$6,-2) -> 0 | J7: =ROUNDDOWN(J$6,-2) -> 0 | ... CX7: =ROUNDDOWN(CX$6,-2) -> 0
A8: 室数 | C8: ='①入力シート（宿泊人数）【棟】'!C8 -> 0
A9: 北海道宿泊税分 | B9: 1 | C9: =IF('①入力シート（宿泊人数）【棟】'!C9>0, IF(C$7/'①入力シート（宿泊人数）【棟】'!C9>=50000, 500, IF(C$7/'①入力シート（宿泊人数）【棟】'!C9>=20000, 200, 100)) * '①入力シート（宿泊人数）【棟】'!C9, 0) -> 0 | D9: =IF('①入力シート（宿泊人数）【棟】'!D9>0, IF(D$7/'①入力シート（宿泊人数）【棟】'!D9>=50000, 500, IF(D$7/'①入力シート（宿泊人数）【棟】'!D9>=20000, 200, 100)) * '①入力シート（宿泊人数）【棟】'!D9, 0) -> 0 | E9: =IF('①入力シート（宿泊人数）【棟】'!E9>0, IF(E$7/'①入力シート（宿泊人数）【棟】'!E9>=50000, 500, IF(E$7/'①入力シート（宿泊人数）【棟】'!E9>=20000, 200, 100)) * '①入力シート（宿泊人数）【棟】'!E9, 0) -> 0 | F9: =IF('①入力シート（宿泊人数）【棟】'!F9>0, IF(F$7/'①入力シート（宿泊人数）【棟】'!F9>=50000, 500, IF(F$7/'①入力シート（宿泊人数）【棟】'!F9>=20000, 200, 100)) * '①入力シート（宿泊人数）【棟】'!F9, 0) -> 0 | G9: =IF('①入力シート（宿泊人数）【棟】'!G9>0, IF(G$7/'①入力シート（宿泊人数）【棟】'!G9>=50000, 500, IF(G$7/'①入力シート（宿泊人数）【棟】'!G9>=20000, 200, 100)) * '①入力シート（宿泊人数）【棟】'!G9, 0) -> 0 | H9: =IF('①入力シート（宿泊人数）【棟】'!H9>0, IF(H$7/'①入力シート（宿泊人数）【棟】'!H9>=50000, 500, IF(H$7/'①入力シート（宿泊人数）【棟】'!H9>=20000, 200, 100)) * '①入力シート（宿泊人数）【棟】'!H9, 0) -> 0 | I9: =IF('①入力シート（宿泊人数）【棟】'!I9>0, IF(I$7/'①入力シート（宿泊人数）【棟】'!I9>=50000, 500, IF(I$7/'①入力シート（宿泊人数）【棟】'!I9>=20000, 200, 100)) * '①入力シート（宿泊人数）【棟】'!I9, 0) -> 0 | J9: =IF('①入力シート（宿泊人数）【棟】'!J9>0, IF(J$7/'①入力シート（宿泊人数）【棟】'!J9>=50000, 500, IF(J$7/'①入力シート（宿泊人数）【棟】'!J9>=20000, 200, 100)) * '①入力シート（宿泊人数）【棟】'!J9, 0) -> 0 | ... CX9: =IF('①入力シート（宿泊人数）【棟】'!CX9>0, IF(CX$7/'①入力シート（宿泊人数）【棟】'!CX9>=50000, 500, IF(CX$7/'①入力シート（宿泊人数）【棟】'!CX9>=20000, 200, 100)) * '①入力シート（宿泊人数）【棟】'!CX9, 0) -> 0 | CY9: =SUM(C9:CX9) -> 0 | DA9: =CY9 -> 0
B10: 2 | C10: =IF('①入力シート（宿泊人数）【棟】'!C10>0, IF(C$7/'①入力シート（宿泊人数）【棟】'!C10>=50000, 500, IF(C$7/'①入力シート（宿泊人数）【棟】'!C10>=20000, 200, 100)) * '①入力シート（宿泊人数）【棟】'!C10, 0) -> 0 | D10: =IF('①入力シート（宿泊人数）【棟】'!D10>0, IF(D$7/'①入力シート（宿泊人数）【棟】'!D10>=50000, 500, IF(D$7/'①入力シート（宿泊人数）【棟】'!D10>=20000, 200, 100)) * '①入力シート（宿泊人数）【棟】'!D10, 0) -> 0 | E10: =IF('①入力シート（宿泊人数）【棟】'!E10>0, IF(E$7/'①入力シート（宿泊人数）【棟】'!E10>=50000, 500, IF(E$7/'①入力シート（宿泊人数）【棟】'!E10>=20000, 200, 100)) * '①入力シート（宿泊人数）【棟】'!E10, 0) -> 0 | F10: =IF('①入力シート（宿泊人数）【棟】'!F10>0, IF(F$7/'①入力シート（宿泊人数）【棟】'!F10>=50000, 500, IF(F$7/'①入力シート（宿泊人数）【棟】'!F10>=20000, 200, 100)) * '①入力シート（宿泊人数）【棟】'!F10, 0) -> 0 | G10: =IF('①入力シート（宿泊人数）【棟】'!G10>0, IF(G$7/'①入力シート（宿泊人数）【棟】'!G10>=50000, 500, IF(G$7/'①入力シート（宿泊人数）【棟】'!G10>=20000, 200, 100)) * '①入力シート（宿泊人数）【棟】'!G10, 0) -> 0 | H10: =IF('①入力シート（宿泊人数）【棟】'!H10>0, IF(H$7/'①入力シート（宿泊人数）【棟】'!H10>=50000, 500, IF(H$7/'①入力シート（宿泊人数）【棟】'!H10>=20000, 200, 100)) * '①入力シート（宿泊人数）【棟】'!H10, 0) -> 0 | I10: =IF('①入力シート（宿泊人数）【棟】'!I10>0, IF(I$7/'①入力シート（宿泊人数）【棟】'!I10>=50000, 500, IF(I$7/'①入力シート（宿泊人数）【棟】'!I10>=20000, 200, 100)) * '①入力シート（宿泊人数）【棟】'!I10, 0) -> 0 | J10: =IF('①入力シート（宿泊人数）【棟】'!J10>0, IF(J$7/'①入力シート（宿泊人数）【棟】'!J10>=50000, 500, IF(J$7/'①入力シート（宿泊人数）【棟】'!J10>=20000, 200, 100)) * '①入力シート（宿泊人数）【棟】'!J10, 0) -> 0 | ... CX10: =IF('①入力シート（宿泊人数）【棟】'!CX10>0, IF(CX$7/'①入力シート（宿泊人数）【棟】'!CX10>=50000, 500, IF(CX$7/'①入力シート（宿泊人数）【棟】'!CX10>=20000, 200, 100)) * '①入力シート（宿泊人数）【棟】'!CX10, 0) -> 0 | CY10: =SUM(C10:CX10) -> 0 | DA10: =CY10 -> 0
B11: 3 | C11: =IF('①入力シート（宿泊人数）【棟】'!C11>0, IF(C$7/'①入力シート（宿泊人数）【棟】'!C11>=50000, 500, IF(C$7/'①入力シート（宿泊人数）【棟】'!C11>=20000, 200, 100)) * '①入力シート（宿泊人数）【棟】'!C11, 0) -> 0 | D11: =IF('①入力シート（宿泊人数）【棟】'!D11>0, IF(D$7/'①入力シート（宿泊人数）【棟】'!D11>=50000, 500, IF(D$7/'①入力シート（宿泊人数）【棟】'!D11>=20000, 200, 100)) * '①入力シート（宿泊人数）【棟】'!D11, 0) -> 0 | E11: =IF('①入力シート（宿泊人数）【棟】'!E11>0, IF(E$7/'①入力シート（宿泊人数）【棟】'!E11>=50000, 500, IF(E$7/'①入力シート（宿泊人数）【棟】'!E11>=20000, 200, 100)) * '①入力シート（宿泊人数）【棟】'!E11, 0) -> 0 | F11: =IF('①入力シート（宿泊人数）【棟】'!F11>0, IF(F$7/'①入力シート（宿泊人数）【棟】'!F11>=50000, 500, IF(F$7/'①入力シート（宿泊人数）【棟】'!F11>=20000, 200, 100)) * '①入力シート（宿泊人数）【棟】'!F11, 0) -> 0 | G11: =IF('①入力シート（宿泊人数）【棟】'!G11>0, IF(G$7/'①入力シート（宿泊人数）【棟】'!G11>=50000, 500, IF(G$7/'①入力シート（宿泊人数）【棟】'!G11>=20000, 200, 100)) * '①入力シート（宿泊人数）【棟】'!G11, 0) -> 0 | H11: =IF('①入力シート（宿泊人数）【棟】'!H11>0, IF(H$7/'①入力シート（宿泊人数）【棟】'!H11>=50000, 500, IF(H$7/'①入力シート（宿泊人数）【棟】'!H11>=20000, 200, 100)) * '①入力シート（宿泊人数）【棟】'!H11, 0) -> 0 | I11: =IF('①入力シート（宿泊人数）【棟】'!I11>0, IF(I$7/'①入力シート（宿泊人数）【棟】'!I11>=50000, 500, IF(I$7/'①入力シート（宿泊人数）【棟】'!I11>=20000, 200, 100)) * '①入力シート（宿泊人数）【棟】'!I11, 0) -> 0 | J11: =IF('①入力シート（宿泊人数）【棟】'!J11>0, IF(J$7/'①入力シート（宿泊人数）【棟】'!J11>=50000, 500, IF(J$7/'①入力シート（宿泊人数）【棟】'!J11>=20000, 200, 100)) * '①入力シート（宿泊人数）【棟】'!J11, 0) -> 0 | ... CX11: =IF('①入力シート（宿泊人数）【棟】'!CX11>0, IF(CX$7/'①入力シート（宿泊人数）【棟】'!CX11>=50000, 500, IF(CX$7/'①入力シート（宿泊人数）【棟】'!CX11>=20000, 200, 100)) * '①入力シート（宿泊人数）【棟】'!CX11, 0) -> 0 | CY11: =SUM(C11:CX11) -> 0 | DA11: =CY11 -> 0
B12: 4 | C12: =IF('①入力シート（宿泊人数）【棟】'!C12>0, IF(C$7/'①入力シート（宿泊人数）【棟】'!C12>=50000, 500, IF(C$7/'①入力シート（宿泊人数）【棟】'!C12>=20000, 200, 100)) * '①入力シート（宿泊人数）【棟】'!C12, 0) -> 0 | D12: =IF('①入力シート（宿泊人数）【棟】'!D12>0, IF(D$7/'①入力シート（宿泊人数）【棟】'!D12>=50000, 500, IF(D$7/'①入力シート（宿泊人数）【棟】'!D12>=20000, 200, 100)) * '①入力シート（宿泊人数）【棟】'!D12, 0) -> 0 | E12: =IF('①入力シート（宿泊人数）【棟】'!E12>0, IF(E$7/'①入力シート（宿泊人数）【棟】'!E12>=50000, 500, IF(E$7/'①入力シート（宿泊人数）【棟】'!E12>=20000, 200, 100)) * '①入力シート（宿泊人数）【棟】'!E12, 0) -> 0 | F12: =IF('①入力シート（宿泊人数）【棟】'!F12>0, IF(F$7/'①入力シート（宿泊人数）【棟】'!F12>=50000, 500, IF(F$7/'①入力シート（宿泊人数）【棟】'!F12>=20000, 200, 100)) * '①入力シート（宿泊人数）【棟】'!F12, 0) -> 0 | G12: =IF('①入力シート（宿泊人数）【棟】'!G12>0, IF(G$7/'①入力シート（宿泊人数）【棟】'!G12>=50000, 500, IF(G$7/'①入力シート（宿泊人数）【棟】'!G12>=20000, 200, 100)) * '①入力シート（宿泊人数）【棟】'!G12, 0) -> 0 | H12: =IF('①入力シート（宿泊人数）【棟】'!H12>0, IF(H$7/'①入力シート（宿泊人数）【棟】'!H12>=50000, 500, IF(H$7/'①入力シート（宿泊人数）【棟】'!H12>=20000, 200, 100)) * '①入力シート（宿泊人数）【棟】'!H12, 0) -> 0 | I12: =IF('①入力シート（宿泊人数）【棟】'!I12>0, IF(I$7/'①入力シート（宿泊人数）【棟】'!I12>=50000, 500, IF(I$7/'①入力シート（宿泊人数）【棟】'!I12>=20000, 200, 100)) * '①入力シート（宿泊人数）【棟】'!I12, 0) -> 0 | J12: =IF('①入力シート（宿泊人数）【棟】'!J12>0, IF(J$7/'①入力シート（宿泊人数）【棟】'!J12>=50000, 500, IF(J$7/'①入力シート（宿泊人数）【棟】'!J12>=20000, 200, 100)) * '①入力シート（宿泊人数）【棟】'!J12, 0) -> 0 | ... CX12: =IF('①入力シート（宿泊人数）【棟】'!CX12>0, IF(CX$7/'①入力シート（宿泊人数）【棟】'!CX12>=50000, 500, IF(CX$7/'①入力シート（宿泊人数）【棟】'!CX12>=20000, 200, 100)) * '①入力シート（宿泊人数）【棟】'!CX12, 0) -> 0 | CY12: =SUM(C12:CX12) -> 0 | DA12: =CY12 -> 0
B13: 5 | C13: =IF('①入力シート（宿泊人数）【棟】'!C13>0, IF(C$7/'①入力シート（宿泊人数）【棟】'!C13>=50000, 500, IF(C$7/'①入力シート（宿泊人数）【棟】'!C13>=20000, 200, 100)) * '①入力シート（宿泊人数）【棟】'!C13, 0) -> 0 | D13: =IF('①入力シート（宿泊人数）【棟】'!D13>0, IF(D$7/'①入力シート（宿泊人数）【棟】'!D13>=50000, 500, IF(D$7/'①入力シート（宿泊人数）【棟】'!D13>=20000, 200, 100)) * '①入力シート（宿泊人数）【棟】'!D13, 0) -> 0 | E13: =IF('①入力シート（宿泊人数）【棟】'!E13>0, IF(E$7/'①入力シート（宿泊人数）【棟】'!E13>=50000, 500, IF(E$7/'①入力シート（宿泊人数）【棟】'!E13>=20000, 200, 100)) * '①入力シート（宿泊人数）【棟】'!E13, 0) -> 0 | F13: =IF('①入力シート（宿泊人数）【棟】'!F13>0, IF(F$7/'①入力シート（宿泊人数）【棟】'!F13>=50000, 500, IF(F$7/'①入力シート（宿泊人数）【棟】'!F13>=20000, 200, 100)) * '①入力シート（宿泊人数）【棟】'!F13, 0) -> 0 | G13: =IF('①入力シート（宿泊人数）【棟】'!G13>0, IF(G$7/'①入力シート（宿泊人数）【棟】'!G13>=50000, 500, IF(G$7/'①入力シート（宿泊人数）【棟】'!G13>=20000, 200, 100)) * '①入力シート（宿泊人数）【棟】'!G13, 0) -> 0 | H13: =IF('①入力シート（宿泊人数）【棟】'!H13>0, IF(H$7/'①入力シート（宿泊人数）【棟】'!H13>=50000, 500, IF(H$7/'①入力シート（宿泊人数）【棟】'!H13>=20000, 200, 100)) * '①入力シート（宿泊人数）【棟】'!H13, 0) -> 0 | I13: =IF('①入力シート（宿泊人数）【棟】'!I13>0, IF(I$7/'①入力シート（宿泊人数）【棟】'!I13>=50000, 500, IF(I$7/'①入力シート（宿泊人数）【棟】'!I13>=20000, 200, 100)) * '①入力シート（宿泊人数）【棟】'!I13, 0) -> 0 | J13: =IF('①入力シート（宿泊人数）【棟】'!J13>0, IF(J$7/'①入力シート（宿泊人数）【棟】'!J13>=50000, 500, IF(J$7/'①入力シート（宿泊人数）【棟】'!J13>=20000, 200, 100)) * '①入力シート（宿泊人数）【棟】'!J13, 0) -> 0 | ... CX13: =IF('①入力シート（宿泊人数）【棟】'!CX13>0, IF(CX$7/'①入力シート（宿泊人数）【棟】'!CX13>=50000, 500, IF(CX$7/'①入力シート（宿泊人数）【棟】'!CX13>=20000, 200, 100)) * '①入力シート（宿泊人数）【棟】'!CX13, 0) -> 0 | CY13: =SUM(C13:CX13) -> 0 | DA13: =CY13 -> 0
B14: 6 | C14: =IF('①入力シート（宿泊人数）【棟】'!C14>0, IF(C$7/'①入力シート（宿泊人数）【棟】'!C14>=50000, 500, IF(C$7/'①入力シート（宿泊人数）【棟】'!C14>=20000, 200, 100)) * '①入力シート（宿泊人数）【棟】'!C14, 0) -> 0 | D14: =IF('①入力シート（宿泊人数）【棟】'!D14>0, IF(D$7/'①入力シート（宿泊人数）【棟】'!D14>=50000, 500, IF(D$7/'①入力シート（宿泊人数）【棟】'!D14>=20000, 200, 100)) * '①入力シート（宿泊人数）【棟】'!D14, 0) -> 0 | E14: =IF('①入力シート（宿泊人数）【棟】'!E14>0, IF(E$7/'①入力シート（宿泊人数）【棟】'!E14>=50000, 500, IF(E$7/'①入力シート（宿泊人数）【棟】'!E14>=20000, 200, 100)) * '①入力シート（宿泊人数）【棟】'!E14, 0) -> 0 | F14: =IF('①入力シート（宿泊人数）【棟】'!F14>0, IF(F$7/'①入力シート（宿泊人数）【棟】'!F14>=50000, 500, IF(F$7/'①入力シート（宿泊人数）【棟】'!F14>=20000, 200, 100)) * '①入力シート（宿泊人数）【棟】'!F14, 0) -> 0 | G14: =IF('①入力シート（宿泊人数）【棟】'!G14>0, IF(G$7/'①入力シート（宿泊人数）【棟】'!G14>=50000, 500, IF(G$7/'①入力シート（宿泊人数）【棟】'!G14>=20000, 200, 100)) * '①入力シート（宿泊人数）【棟】'!G14, 0) -> 0 | H14: =IF('①入力シート（宿泊人数）【棟】'!H14>0, IF(H$7/'①入力シート（宿泊人数）【棟】'!H14>=50000, 500, IF(H$7/'①入力シート（宿泊人数）【棟】'!H14>=20000, 200, 100)) * '①入力シート（宿泊人数）【棟】'!H14, 0) -> 0 | I14: =IF('①入力シート（宿泊人数）【棟】'!I14>0, IF(I$7/'①入力シート（宿泊人数）【棟】'!I14>=50000, 500, IF(I$7/'①入力シート（宿泊人数）【棟】'!I14>=20000, 200, 100)) * '①入力シート（宿泊人数）【棟】'!I14, 0) -> 0 | J14: =IF('①入力シート（宿泊人数）【棟】'!J14>0, IF(J$7/'①入力シート（宿泊人数）【棟】'!J14>=50000, 500, IF(J$7/'①入力シート（宿泊人数）【棟】'!J14>=20000, 200, 100)) * '①入力シート（宿泊人数）【棟】'!J14, 0) -> 0 | ... CX14: =IF('①入力シート（宿泊人数）【棟】'!CX14>0, IF(CX$7/'①入力シート（宿泊人数）【棟】'!CX14>=50000, 500, IF(CX$7/'①入力シート（宿泊人数）【棟】'!CX14>=20000, 200, 100)) * '①入力シート（宿泊人数）【棟】'!CX14, 0) -> 0 | CY14: =SUM(C14:CX14) -> 0 | DA14: =CY14 -> 0
B15: 7 | C15: =IF('①入力シート（宿泊人数）【棟】'!C15>0, IF(C$7/'①入力シート（宿泊人数）【棟】'!C15>=50000, 500, IF(C$7/'①入力シート（宿泊人数）【棟】'!C15>=20000, 200, 100)) * '①入力シート（宿泊人数）【棟】'!C15, 0) -> 0 | D15: =IF('①入力シート（宿泊人数）【棟】'!D15>0, IF(D$7/'①入力シート（宿泊人数）【棟】'!D15>=50000, 500, IF(D$7/'①入力シート（宿泊人数）【棟】'!D15>=20000, 200, 100)) * '①入力シート（宿泊人数）【棟】'!D15, 0) -> 0 | E15: =IF('①入力シート（宿泊人数）【棟】'!E15>0, IF(E$7/'①入力シート（宿泊人数）【棟】'!E15>=50000, 500, IF(E$7/'①入力シート（宿泊人数）【棟】'!E15>=20000, 200, 100)) * '①入力シート（宿泊人数）【棟】'!E15, 0) -> 0 | F15: =IF('①入力シート（宿泊人数）【棟】'!F15>0, IF(F$7/'①入力シート（宿泊人数）【棟】'!F15>=50000, 500, IF(F$7/'①入力シート（宿泊人数）【棟】'!F15>=20000, 200, 100)) * '①入力シート（宿泊人数）【棟】'!F15, 0) -> 0 | G15: =IF('①入力シート（宿泊人数）【棟】'!G15>0, IF(G$7/'①入力シート（宿泊人数）【棟】'!G15>=50000, 500, IF(G$7/'①入力シート（宿泊人数）【棟】'!G15>=20000, 200, 100)) * '①入力シート（宿泊人数）【棟】'!G15, 0) -> 0 | H15: =IF('①入力シート（宿泊人数）【棟】'!H15>0, IF(H$7/'①入力シート（宿泊人数）【棟】'!H15>=50000, 500, IF(H$7/'①入力シート（宿泊人数）【棟】'!H15>=20000, 200, 100)) * '①入力シート（宿泊人数）【棟】'!H15, 0) -> 0 | I15: =IF('①入力シート（宿泊人数）【棟】'!I15>0, IF(I$7/'①入力シート（宿泊人数）【棟】'!I15>=50000, 500, IF(I$7/'①入力シート（宿泊人数）【棟】'!I15>=20000, 200, 100)) * '①入力シート（宿泊人数）【棟】'!I15, 0) -> 0 | J15: =IF('①入力シート（宿泊人数）【棟】'!J15>0, IF(J$7/'①入力シート（宿泊人数）【棟】'!J15>=50000, 500, IF(J$7/'①入力シート（宿泊人数）【棟】'!J15>=20000, 200, 100)) * '①入力シート（宿泊人数）【棟】'!J15, 0) -> 0 | ... CX15: =IF('①入力シート（宿泊人数）【棟】'!CX15>0, IF(CX$7/'①入力シート（宿泊人数）【棟】'!CX15>=50000, 500, IF(CX$7/'①入力シート（宿泊人数）【棟】'!CX15>=20000, 200, 100)) * '①入力シート（宿泊人数）【棟】'!CX15, 0) -> 0 | CY15: =SUM(C15:CX15) -> 0 | DA15: =CY15 -> 0
B16: 8 | C16: =IF('①入力シート（宿泊人数）【棟】'!C16>0, IF(C$7/'①入力シート（宿泊人数）【棟】'!C16>=50000, 500, IF(C$7/'①入力シート（宿泊人数）【棟】'!C16>=20000, 200, 100)) * '①入力シート（宿泊人数）【棟】'!C16, 0) -> 0 | D16: =IF('①入力シート（宿泊人数）【棟】'!D16>0, IF(D$7/'①入力シート（宿泊人数）【棟】'!D16>=50000, 500, IF(D$7/'①入力シート（宿泊人数）【棟】'!D16>=20000, 200, 100)) * '①入力シート（宿泊人数）【棟】'!D16, 0) -> 0 | E16: =IF('①入力シート（宿泊人数）【棟】'!E16>0, IF(E$7/'①入力シート（宿泊人数）【棟】'!E16>=50000, 500, IF(E$7/'①入力シート（宿泊人数）【棟】'!E16>=20000, 200, 100)) * '①入力シート（宿泊人数）【棟】'!E16, 0) -> 0 | F16: =IF('①入力シート（宿泊人数）【棟】'!F16>0, IF(F$7/'①入力シート（宿泊人数）【棟】'!F16>=50000, 500, IF(F$7/'①入力シート（宿泊人数）【棟】'!F16>=20000, 200, 100)) * '①入力シート（宿泊人数）【棟】'!F16, 0) -> 0 | G16: =IF('①入力シート（宿泊人数）【棟】'!G16>0, IF(G$7/'①入力シート（宿泊人数）【棟】'!G16>=50000, 500, IF(G$7/'①入力シート（宿泊人数）【棟】'!G16>=20000, 200, 100)) * '①入力シート（宿泊人数）【棟】'!G16, 0) -> 0 | H16: =IF('①入力シート（宿泊人数）【棟】'!H16>0, IF(H$7/'①入力シート（宿泊人数）【棟】'!H16>=50000, 500, IF(H$7/'①入力シート（宿泊人数）【棟】'!H16>=20000, 200, 100)) * '①入力シート（宿泊人数）【棟】'!H16, 0) -> 0 | I16: =IF('①入力シート（宿泊人数）【棟】'!I16>0, IF(I$7/'①入力シート（宿泊人数）【棟】'!I16>=50000, 500, IF(I$7/'①入力シート（宿泊人数）【棟】'!I16>=20000, 200, 100)) * '①入力シート（宿泊人数）【棟】'!I16, 0) -> 0 | J16: =IF('①入力シート（宿泊人数）【棟】'!J16>0, IF(J$7/'①入力シート（宿泊人数）【棟】'!J16>=50000, 500, IF(J$7/'①入力シート（宿泊人数）【棟】'!J16>=20000, 200, 100)) * '①入力シート（宿泊人数）【棟】'!J16, 0) -> 0 | ... CX16: =IF('①入力シート（宿泊人数）【棟】'!CX16>0, IF(CX$7/'①入力シート（宿泊人数）【棟】'!CX16>=50000, 500, IF(CX$7/'①入力シート（宿泊人数）【棟】'!CX16>=20000, 200, 100)) * '①入力シート（宿泊人数）【棟】'!CX16, 0) -> 0 | CY16: =SUM(C16:CX16) -> 0 | DA16: =CY16 -> 0
B17: 9 | C17: =IF('①入力シート（宿泊人数）【棟】'!C17>0, IF(C$7/'①入力シート（宿泊人数）【棟】'!C17>=50000, 500, IF(C$7/'①入力シート（宿泊人数）【棟】'!C17>=20000, 200, 100)) * '①入力シート（宿泊人数）【棟】'!C17, 0) -> 0 | D17: =IF('①入力シート（宿泊人数）【棟】'!D17>0, IF(D$7/'①入力シート（宿泊人数）【棟】'!D17>=50000, 500, IF(D$7/'①入力シート（宿泊人数）【棟】'!D17>=20000, 200, 100)) * '①入力シート（宿泊人数）【棟】'!D17, 0) -> 0 | E17: =IF('①入力シート（宿泊人数）【棟】'!E17>0, IF(E$7/'①入力シート（宿泊人数）【棟】'!E17>=50000, 500, IF(E$7/'①入力シート（宿泊人数）【棟】'!E17>=20000, 200, 100)) * '①入力シート（宿泊人数）【棟】'!E17, 0) -> 0 | F17: =IF('①入力シート（宿泊人数）【棟】'!F17>0, IF(F$7/'①入力シート（宿泊人数）【棟】'!F17>=50000, 500, IF(F$7/'①入力シート（宿泊人数）【棟】'!F17>=20000, 200, 100)) * '①入力シート（宿泊人数）【棟】'!F17, 0) -> 0 | G17: =IF('①入力シート（宿泊人数）【棟】'!G17>0, IF(G$7/'①入力シート（宿泊人数）【棟】'!G17>=50000, 500, IF(G$7/'①入力シート（宿泊人数）【棟】'!G17>=20000, 200, 100)) * '①入力シート（宿泊人数）【棟】'!G17, 0) -> 0 | H17: =IF('①入力シート（宿泊人数）【棟】'!H17>0, IF(H$7/'①入力シート（宿泊人数）【棟】'!H17>=50000, 500, IF(H$7/'①入力シート（宿泊人数）【棟】'!H17>=20000, 200, 100)) * '①入力シート（宿泊人数）【棟】'!H17, 0) -> 0 | I17: =IF('①入力シート（宿泊人数）【棟】'!I17>0, IF(I$7/'①入力シート（宿泊人数）【棟】'!I17>=50000, 500, IF(I$7/'①入力シート（宿泊人数）【棟】'!I17>=20000, 200, 100)) * '①入力シート（宿泊人数）【棟】'!I17, 0) -> 0 | J17: =IF('①入力シート（宿泊人数）【棟】'!J17>0, IF(J$7/'①入力シート（宿泊人数）【棟】'!J17>=50000, 500, IF(J$7/'①入力シート（宿泊人数）【棟】'!J17>=20000, 200, 100)) * '①入力シート（宿泊人数）【棟】'!J17, 0) -> 0 | ... CX17: =IF('①入力シート（宿泊人数）【棟】'!CX17>0, IF(CX$7/'①入力シート（宿泊人数）【棟】'!CX17>=50000, 500, IF(CX$7/'①入力シート（宿泊人数）【棟】'!CX17>=20000, 200, 100)) * '①入力シート（宿泊人数）【棟】'!CX17, 0) -> 0 | CY17: =SUM(C17:CX17) -> 0 | DA17: =CY17 -> 0
B18: 10 | C18: =IF('①入力シート（宿泊人数）【棟】'!C18>0, IF(C$7/'①入力シート（宿泊人数）【棟】'!C18>=50000, 500, IF(C$7/'①入力シート（宿泊人数）【棟】'!C18>=20000, 200, 100)) * '①入力シート（宿泊人数）【棟】'!C18, 0) -> 0 | D18: =IF('①入力シート（宿泊人数）【棟】'!D18>0, IF(D$7/'①入力シート（宿泊人数）【棟】'!D18>=50000, 500, IF(D$7/'①入力シート（宿泊人数）【棟】'!D18>=20000, 200, 100)) * '①入力シート（宿泊人数）【棟】'!D18, 0) -> 0 | E18: =IF('①入力シート（宿泊人数）【棟】'!E18>0, IF(E$7/'①入力シート（宿泊人数）【棟】'!E18>=50000, 500, IF(E$7/'①入力シート（宿泊人数）【棟】'!E18>=20000, 200, 100)) * '①入力シート（宿泊人数）【棟】'!E18, 0) -> 0 | F18: =IF('①入力シート（宿泊人数）【棟】'!F18>0, IF(F$7/'①入力シート（宿泊人数）【棟】'!F18>=50000, 500, IF(F$7/'①入力シート（宿泊人数）【棟】'!F18>=20000, 200, 100)) * '①入力シート（宿泊人数）【棟】'!F18, 0) -> 0 | G18: =IF('①入力シート（宿泊人数）【棟】'!G18>0, IF(G$7/'①入力シート（宿泊人数）【棟】'!G18>=50000, 500, IF(G$7/'①入力シート（宿泊人数）【棟】'!G18>=20000, 200, 100)) * '①入力シート（宿泊人数）【棟】'!G18, 0) -> 0 | H18: =IF('①入力シート（宿泊人数）【棟】'!H18>0, IF(H$7/'①入力シート（宿泊人数）【棟】'!H18>=50000, 500, IF(H$7/'①入力シート（宿泊人数）【棟】'!H18>=20000, 200, 100)) * '①入力シート（宿泊人数）【棟】'!H18, 0) -> 0 | I18: =IF('①入力シート（宿泊人数）【棟】'!I18>0, IF(I$7/'①入力シート（宿泊人数）【棟】'!I18>=50000, 500, IF(I$7/'①入力シート（宿泊人数）【棟】'!I18>=20000, 200, 100)) * '①入力シート（宿泊人数）【棟】'!I18, 0) -> 0 | J18: =IF('①入力シート（宿泊人数）【棟】'!J18>0, IF(J$7/'①入力シート（宿泊人数）【棟】'!J18>=50000, 500, IF(J$7/'①入力シート（宿泊人数）【棟】'!J18>=20000, 200, 100)) * '①入力シート（宿泊人数）【棟】'!J18, 0) -> 0 | ... CX18: =IF('①入力シート（宿泊人数）【棟】'!CX18>0, IF(CX$7/'①入力シート（宿泊人数）【棟】'!CX18>=50000, 500, IF(CX$7/'①入力シート（宿泊人数）【棟】'!CX18>=20000, 200, 100)) * '①入力シート（宿泊人数）【棟】'!CX18, 0) -> 0 | CY18: =SUM(C18:CX18) -> 0 | DA18: =CY18 -> 0
